BEGIN:VCALENDAR
VERSION:2.0
PRODID:-//Rink 42 - Zelma Watson George Skating - ECPv6.15.20//NONSGML v1.0//EN
CALSCALE:GREGORIAN
METHOD:PUBLISH
X-WR-CALNAME:Rink 42 - Zelma Watson George Skating
X-ORIGINAL-URL:https://www.unitedskates.com/zelma-watson-george
X-WR-CALDESC:Events for Rink 42 - Zelma Watson George Skating
REFRESH-INTERVAL;VALUE=DURATION:PT1H
X-Robots-Tag:noindex
X-PUBLISHED-TTL:PT1H
BEGIN:VTIMEZONE
TZID:America/New_York
BEGIN:DAYLIGHT
TZOFFSETFROM:-0500
TZOFFSETTO:-0400
TZNAME:EDT
DTSTART:20250309T070000
END:DAYLIGHT
BEGIN:STANDARD
TZOFFSETFROM:-0400
TZOFFSETTO:-0500
TZNAME:EST
DTSTART:20251102T060000
END:STANDARD
BEGIN:DAYLIGHT
TZOFFSETFROM:-0500
TZOFFSETTO:-0400
TZNAME:EDT
DTSTART:20260308T070000
END:DAYLIGHT
BEGIN:STANDARD
TZOFFSETFROM:-0400
TZOFFSETTO:-0500
TZNAME:EST
DTSTART:20261101T060000
END:STANDARD
BEGIN:DAYLIGHT
TZOFFSETFROM:-0500
TZOFFSETTO:-0400
TZNAME:EDT
DTSTART:20270314T070000
END:DAYLIGHT
BEGIN:STANDARD
TZOFFSETFROM:-0400
TZOFFSETTO:-0500
TZNAME:EST
DTSTART:20271107T060000
END:STANDARD
END:VTIMEZONE
BEGIN:VEVENT
DTSTART;TZID=America/New_York:20260424T180000
DTEND;TZID=America/New_York:20260424T203000
DTSTAMP:20260424T060335
CREATED:20260325T205301Z
LAST-MODIFIED:20260325T205301Z
UID:14898-1777053600-1777062600@www.unitedskates.com
SUMMARY:🛼💜 Family Unity Night Skate! 💜🛼
DESCRIPTION:Bring the whole crew out for a night of fun\, laughter\, and togetherness at our Family Unity Night Skate! 🎉👨‍👩‍👧‍👦 Let’s roll\, vibe\, and celebrate family the BEST way—on wheels! \n🗓 Friday\, April 24⏰ 6:00 PM – 8:30 PM💵 Admission: $9 per person🛼 Skate Rental: $5 \n🎨 Wear your FAMILY COLORS!!✨ Glow products available in our Stuff Shop \n🎶 Great music\, great vibes\, and unforgettable memories waiting for you! \n📍 3155 Martin Luther King Blvd.\, Cleveland\, OH📞 216-420-8821 \nGrab your loved ones and let’s roll into a night full of unity\, fun\, and good energy! 🛼💫 \n#FamilyUnity #FamilyFun #SkateNight #ClevelandEvents #RollerSkating #FamilyTime #ClevelandFun #GoodVibes #FridayNightFun #SkateLife #TogetherWeRoll 🛼💜✨
URL:https://www.unitedskates.com/zelma-watson-george/event/%f0%9f%9b%bc%f0%9f%92%9c-family-unity-night-skate-%f0%9f%92%9c%f0%9f%9b%bc/
LOCATION:Zelma Watson George\, 3155 Martin Luther King Blvd.\, Cleveland\, OH\, 44104\, United States
CATEGORIES:Family Events,Public Skates,Special Events
ATTACH;FMTTYPE=image/jpeg:https://unitedskates-assets.sfo3.digitaloceanspaces.com/wp-content/uploads/sites/16/2026/03/Family-Unity-Skate.jpg
END:VEVENT
END:VCALENDAR