BEGIN:VCALENDAR
VERSION:2.0
PRODID:-//Rink 42 - Zelma Watson George Skating - ECPv6.15.20//NONSGML v1.0//EN
CALSCALE:GREGORIAN
METHOD:PUBLISH
X-WR-CALNAME:Rink 42 - Zelma Watson George Skating
X-ORIGINAL-URL:https://www.unitedskates.com/zelma-watson-george
X-WR-CALDESC:Events for Rink 42 - Zelma Watson George Skating
REFRESH-INTERVAL;VALUE=DURATION:PT1H
X-Robots-Tag:noindex
X-PUBLISHED-TTL:PT1H
BEGIN:VTIMEZONE
TZID:America/New_York
BEGIN:DAYLIGHT
TZOFFSETFROM:-0500
TZOFFSETTO:-0400
TZNAME:EDT
DTSTART:20250309T070000
END:DAYLIGHT
BEGIN:STANDARD
TZOFFSETFROM:-0400
TZOFFSETTO:-0500
TZNAME:EST
DTSTART:20251102T060000
END:STANDARD
BEGIN:DAYLIGHT
TZOFFSETFROM:-0500
TZOFFSETTO:-0400
TZNAME:EDT
DTSTART:20260308T070000
END:DAYLIGHT
BEGIN:STANDARD
TZOFFSETFROM:-0400
TZOFFSETTO:-0500
TZNAME:EST
DTSTART:20261101T060000
END:STANDARD
BEGIN:DAYLIGHT
TZOFFSETFROM:-0500
TZOFFSETTO:-0400
TZNAME:EDT
DTSTART:20270314T070000
END:DAYLIGHT
BEGIN:STANDARD
TZOFFSETFROM:-0400
TZOFFSETTO:-0500
TZNAME:EST
DTSTART:20271107T060000
END:STANDARD
END:VTIMEZONE
BEGIN:VEVENT
DTSTART;TZID=America/New_York:20260421T180000
DTEND;TZID=America/New_York:20260421T203000
DTSTAMP:20260422T063324
CREATED:20260323T154940Z
LAST-MODIFIED:20260323T154940Z
UID:14871-1776794400-1776803400@www.unitedskates.com
SUMMARY:🍓✨ Twizzlers Skate Day = Sweet Fun on Wheels! 🛼🍬 ✨🍓
DESCRIPTION:Get ready to roll into a night full of fun\, flavor\, and good vibes at our Twizzlers Skate Day! 😍🎉 \n🎁 FREE package of Twizzlers with full paid admission! \n🗓 Tuesday\, April 21⏰ 6:00 PM – 8:30 PM💵 Admission: $6🛼 Skate Rental: $5 \n📍 3155 Martin Luther King Blvd.\, Cleveland\, OH📞 216-420-8821 \nBring your friends\, satisfy your sweet tooth\, and skate the night away! 🍬💃🏽 It’s the perfect mix of fun + treats! \n#Twizzlers #SkateDay #SweetFun #RollerSkating #ClevelandEvents #FamilyFun #SkateNight #FreeTreats #ClevelandFun #GoodVibes #FunTimes #SnackAndSkate 🍓🛼✨
URL:https://www.unitedskates.com/zelma-watson-george/event/%f0%9f%8d%93%e2%9c%a8-twizzlers-skate-day-sweet-fun-on-wheels-%f0%9f%9b%bc%f0%9f%8d%ac-%e2%9c%a8%f0%9f%8d%93/
LOCATION:Zelma Watson George\, 3155 Martin Luther King Blvd.\, Cleveland\, OH\, 44104\, United States
CATEGORIES:Family Events,Public Skates,Special Events
ATTACH;FMTTYPE=image/jpeg:https://unitedskates-assets.sfo3.digitaloceanspaces.com/wp-content/uploads/sites/16/2026/03/Copy-of-Twizzlers-Skate-Day-1.jpg
END:VEVENT
END:VCALENDAR