BEGIN:VCALENDAR
VERSION:2.0
PRODID:-//Rink 11 - Wickliffe - ECPv6.15.20//NONSGML v1.0//EN
CALSCALE:GREGORIAN
METHOD:PUBLISH
X-WR-CALNAME:Rink 11 - Wickliffe
X-ORIGINAL-URL:https://www.unitedskates.com/wickliffe
X-WR-CALDESC:Events for Rink 11 - Wickliffe
REFRESH-INTERVAL;VALUE=DURATION:PT1H
X-Robots-Tag:noindex
X-PUBLISHED-TTL:PT1H
BEGIN:VTIMEZONE
TZID:America/New_York
BEGIN:DAYLIGHT
TZOFFSETFROM:-0500
TZOFFSETTO:-0400
TZNAME:EDT
DTSTART:20250309T070000
END:DAYLIGHT
BEGIN:STANDARD
TZOFFSETFROM:-0400
TZOFFSETTO:-0500
TZNAME:EST
DTSTART:20251102T060000
END:STANDARD
BEGIN:DAYLIGHT
TZOFFSETFROM:-0500
TZOFFSETTO:-0400
TZNAME:EDT
DTSTART:20260308T070000
END:DAYLIGHT
BEGIN:STANDARD
TZOFFSETFROM:-0400
TZOFFSETTO:-0500
TZNAME:EST
DTSTART:20261101T060000
END:STANDARD
BEGIN:DAYLIGHT
TZOFFSETFROM:-0500
TZOFFSETTO:-0400
TZNAME:EDT
DTSTART:20270314T070000
END:DAYLIGHT
BEGIN:STANDARD
TZOFFSETFROM:-0400
TZOFFSETTO:-0500
TZNAME:EST
DTSTART:20271107T060000
END:STANDARD
END:VTIMEZONE
BEGIN:VEVENT
DTSTART;VALUE=DATE:20260417
DTEND;VALUE=DATE:20260602
DTSTAMP:20260420T032040
CREATED:20260408T185401Z
LAST-MODIFIED:20260408T185401Z
UID:24344-1776402000-1780289999@www.unitedskates.com
SUMMARY:🎉 Scouts End of Year Parties at United Skates! 🛼
DESCRIPTION:Celebrate the end of an amazing year with the ultimate roller-skating party! Bring your troop out for a fun-filled experience packed with music\, lights\, and nonstop skating excitement. \n✨ Event Details:🗓 Fridays: 6:00pm–8:30pm🗓 Saturdays: 12:30pm–3:00pm & 4:00pm–6:30pm🗓 Sundays: 12:00pm–2:30pm\, 3:00pm–5:30pm & 6:00pm–8:30pm \n💲 Only $8 per personIncludes admission + skate rental! \n🎯 Perfect for celebrating achievements\, earning patches\, and making unforgettable memories with your troop. \n📞 Advanced reservations required – Call now: 440-944-5301
URL:https://www.unitedskates.com/wickliffe/event/%f0%9f%8e%89-scouts-end-of-year-parties-at-united-skates-%f0%9f%9b%bc/
CATEGORIES:Family Events,Special Events
ATTACH;FMTTYPE=image/png:https://unitedskates-assets.sfo3.digitaloceanspaces.com/wp-content/uploads/sites/12/2026/04/ChatGPT-Image-Apr-8-2026-02_08_36-PM.png
END:VEVENT
BEGIN:VEVENT
DTSTART;TZID=America/New_York:20260524T120000
DTEND;TZID=America/New_York:20260524T143000
DTSTAMP:20260420T032040
CREATED:20260401T185845Z
LAST-MODIFIED:20260402T183924Z
UID:24055-1779624000-1779633000@www.unitedskates.com
SUMMARY:Ice Cream Skate
DESCRIPTION:🍦 I Scream\, You Scream\, We All Scream for ICE CREAM! 🍦 \nGet ready for a sweet Sunday Funday packed with skating\, music\, and cool treats for everyone! Join us for an afternoon of fun on the rink and enjoy a delicious bonus that makes it even better 🛼✨ \n🎉 BONUS: Every paid admission receives a FREE ice cream—because nothing goes better with skating than a sweet treat! \nBring your friends and family out for a high-energy session filled with laughs\, good vibes\, and tasty fun you won’t want to miss! \n📅 Sunday\, May 24th\n⏰ 12:00pm-2:30pm \n🎟️ Admission: $12 Online | $14 At the Door\n🛼 Skate Rental: $6.00 \n🎂 Planning a birthday celebration? Make it extra sweet—book your party with us today! Book Now! \n🚨 Don’t wait—buy your tickets now and join us for the coolest event of the weekend! Buy Now!
URL:https://www.unitedskates.com/wickliffe/event/ice-cream-skate-2/
CATEGORIES:Family Events,Public Skates,Special Events
ATTACH;FMTTYPE=image/png:https://unitedskates-assets.sfo3.digitaloceanspaces.com/wp-content/uploads/sites/12/2026/04/Ice-Cream-Party-Characters-Party.png
END:VEVENT
BEGIN:VEVENT
DTSTART;TZID=America/New_York:20260524T150000
DTEND;TZID=America/New_York:20260524T173000
DTSTAMP:20260420T032040
CREATED:20250805T183341Z
LAST-MODIFIED:20260401T191004Z
UID:22662-1779634800-1779643800@www.unitedskates.com
SUMMARY:Sunday Funday/Birthday Parties
DESCRIPTION:Book your Birthday Party! Birthday Parties available from 3:00pm-5:30pm \nAdmission at the door $14.00 \nAdmission Online $12.00 \nSkate Rental $6.00 \nFeaturing Pop and R&B Music Mix \nGet your Tickets Here! BUY HERE! \nAll 3–17-year-olds must pay admission and skate rental upon entering the facility.  Adults 18+ not skating may enter for free. All 12–17-year-olds must come into our facility with a parent or guardian that is 25 years or age or older. We are only allowing two (2) 12–17-year-olds per one parent or guardian 25 and over. The parent/guardian must stay with the teenager the entire time while in the facility. If the parent/guardian leaves the facility the teen must leave with parent/guardian. No drop off of teens or children into our facility is permitted. No drop off of teens or children to another parent into our facility is permitted. Teenagers 12-17 with their own skates are permitted without a parent if they skate the entire time. Teens asked to keep skates on repeatedly will be asked to leave with no refund.
URL:https://www.unitedskates.com/wickliffe/event/sunday-funday-birthday-parties-6/2026-05-24/
CATEGORIES:Family Events,Special Events
ATTACH;FMTTYPE=image/jpeg:https://unitedskates-assets.sfo3.digitaloceanspaces.com/wp-content/uploads/sites/12/2023/07/800px-Sunday-Funday-2022-1200x900-1.jpg
END:VEVENT
BEGIN:VEVENT
DTSTART;TZID=America/New_York:20260524T210000
DTEND;TZID=America/New_York:20260525T010000
DTSTAMP:20260420T032040
CREATED:20260401T191721Z
LAST-MODIFIED:20260403T193848Z
UID:24105-1779656400-1779670800@www.unitedskates.com
SUMMARY:Memorial Adult Late Night Skate
DESCRIPTION:🛼 ROLL INTO MEMORIAL DAY – ADULT LATE NIGHT SKATE 🛼 \nKick off your Memorial Day weekend the right way… on wheels! 🔥🎶 \nJoin us Sunday\, May 24th from 9:00pm–1:00am for an unforgettable late-night skate packed with vibes\, music\, and nonstop fun! \n🎧 R&B • Hip Hop • Skate Music All Night🕺 Grown & Sexy Vibes \n🔞 18+ ONLY (Valid ID Required) \n💰 Admission: $13.00🛼 Skate Rental: $6.00 \nGrab your crew\, hit the floor\, and roll into the holiday with us! \n🚨 Don’t wait — this is THE late night skate of the weekend!👉 BUY YOUR TICKETS NOW!
URL:https://www.unitedskates.com/wickliffe/event/memorial-adult-late-night-skate/
CATEGORIES:Adult Events,Special Events
ATTACH;FMTTYPE=image/png:https://unitedskates-assets.sfo3.digitaloceanspaces.com/wp-content/uploads/sites/12/2026/04/Memorial-Day-Adult-Skate-1.png
END:VEVENT
BEGIN:VEVENT
DTSTART;TZID=America/New_York:20260525T123000
DTEND;TZID=America/New_York:20260525T150000
DTSTAMP:20260420T032040
CREATED:20260401T190113Z
LAST-MODIFIED:20260401T205358Z
UID:24057-1779712200-1779721200@www.unitedskates.com
SUMMARY:Memorial Day Skate
DESCRIPTION:Memorial Day Skate – We’re Open All Day! \nNo school means it’s time to roll into FUN! Join us this Memorial Day for a full day of skating\, music\, and family-friendly excitement 🛼✨ \nSpend your holiday making memories on the rink with friends and family while enjoying great vibes all day long. Whether you come for one session or stay for them all\, it’s the perfect way to celebrate your day off! \n📅 Monday\, May 25th \n⏰ Session Times:\n12:30pm–3:00pm\n3:00pm–5:30pm \n🎟️ Admission: $9 Online | $10 At the Door\n🛼 Skate Rental: $6.00 \n🎂 Planning a celebration? Birthday parties are available—book now and make your day extra special! Book Now! \n🚨 Don’t miss out—buy your tickets now and spend your Memorial Day rolling with us! Buy Now!
URL:https://www.unitedskates.com/wickliffe/event/memorial-day-skate-4/
CATEGORIES:Family Events,Public Skates,Special Events
ATTACH;FMTTYPE=image/png:https://unitedskates-assets.sfo3.digitaloceanspaces.com/wp-content/uploads/sites/12/2026/04/Memorial-Day-Ayce-Skate.png
END:VEVENT
BEGIN:VEVENT
DTSTART;TZID=America/New_York:20260525T150000
DTEND;TZID=America/New_York:20260525T173000
DTSTAMP:20260420T032040
CREATED:20260401T205914Z
LAST-MODIFIED:20260401T205915Z
UID:24167-1779721200-1779730200@www.unitedskates.com
SUMMARY:Memorial Day Skate
DESCRIPTION:Memorial Day Skate – We’re Open All Day! \nNo school means it’s time to roll into FUN! Join us this Memorial Day for a full day of skating\, music\, and family-friendly excitement 🛼✨ \nSpend your holiday making memories on the rink with friends and family while enjoying great vibes all day long. Whether you come for one session or stay for them all\, it’s the perfect way to celebrate your day off! \n📅 Monday\, May 25th \n⏰ Session Times:\n12:30pm–3:00pm\n3:00pm–5:30pm \n🎟️ Admission: $9 Online | $10 At the Door\n🛼 Skate Rental: $6.00 \n🎂 Planning a celebration? Birthday parties are available—book now and make your day extra special! Book Now! \n🚨 Don’t miss out—buy your tickets now and spend your Memorial Day rolling with us! Buy Now!
URL:https://www.unitedskates.com/wickliffe/event/memorial-day-skate-5/
CATEGORIES:Family Events,Public Skates,Special Events
ATTACH;FMTTYPE=image/png:https://unitedskates-assets.sfo3.digitaloceanspaces.com/wp-content/uploads/sites/12/2026/04/Memorial-Day-Ayce-Skate.png
END:VEVENT
BEGIN:VEVENT
DTSTART;TZID=America/New_York:20260525T190000
DTEND;TZID=America/New_York:20260525T230000
DTSTAMP:20260420T032040
CREATED:20260401T191511Z
LAST-MODIFIED:20260403T193303Z
UID:24103-1779735600-1779750000@www.unitedskates.com
SUMMARY:Memorial Day Old School Skate
DESCRIPTION:🛼 MEMORIAL DAY-OLD SCHOOL ADULT SKATE 🛼 \nDon’t miss out this Memorial Day — it’s time to roll it back with the ultimate old school skate night! 🎶🔥 \nJoin us Monday\, May 25th from 7:00pm–11:00pm for a night of classic vibes\, great music\, and nonstop skating fun! \n🕺 Ages 25+ ONLY (Valid ID Required)🎧 Old School Hits • Smooth Skating • Grown & Fun Atmosphere \n💰 Admission: $12.00🛼 Skate Rental: $6.00 \nGrab your crew\, lace up\, and enjoy a night made just for the grown folks! \n🔥 Good music. Good vibes. Great memories.👉 Don’t miss it — come skate with us this Memorial Day! \nBuy tickets NOW!
URL:https://www.unitedskates.com/wickliffe/event/memorial-day-old-school-skate/
CATEGORIES:Adult Events,Special Events
ATTACH;FMTTYPE=image/jpeg:https://unitedskates-assets.sfo3.digitaloceanspaces.com/wp-content/uploads/sites/12/2026/04/memorial-day-old-school-adult-skate-2026-page-001-scaled.jpg
END:VEVENT
BEGIN:VEVENT
DTSTART;TZID=America/New_York:20260529T180000
DTEND;TZID=America/New_York:20260529T203000
DTSTAMP:20260420T032040
CREATED:20260401T183653Z
LAST-MODIFIED:20260402T192055Z
UID:24046-1780077600-1780086600@www.unitedskates.com
SUMMARY:Cosmic Skate
DESCRIPTION:🌌✨ Cosmic Skates Are BACK! ✨🌌 \nFriday nights just got an upgrade—Cosmic Skate is taking over! Get ready for an electrifying night under the black lights with glowing vibes\, great music\, and nonstop fun on the rink 🛼🔥 \nDress to impress in your best neon or all-white outfits and watch yourself glow as the lights go down and the energy turns up! 🌈⚡ \n💡 Don’t forget to stop by our Stuff Shop to grab your glow gear and light up the night even more! \n📅 Fridays: May 15th\, May 22nd & May 29th\n⏰ 6:00pm–8:30pm \n🎟️ Admission: $12 Online | $14 At the Door\n🛼 Skate Rental: $6.00 \n🎂 Celebrate under the lights! Birthday parties are available book now for a glowing good time! Book Now! \n🚨 Don’t miss out—buy your tickets now and experience the ultimate Friday night vibe! Buy Now!
URL:https://www.unitedskates.com/wickliffe/event/cosmic-skate-4/2026-05-29/
CATEGORIES:Family Events,Public Skates,Special Events
ATTACH;FMTTYPE=image/png:https://unitedskates-assets.sfo3.digitaloceanspaces.com/wp-content/uploads/sites/12/2026/04/Spring-Cosmic-Glow-in-the-Dark-Skate.png
END:VEVENT
BEGIN:VEVENT
DTSTART;TZID=America/New_York:20260530T123000
DTEND;TZID=America/New_York:20260530T150000
DTSTAMP:20260420T032040
CREATED:20260401T190601Z
LAST-MODIFIED:20260403T191046Z
UID:24099-1780144200-1780153200@www.unitedskates.com
SUMMARY:Laffy Taffy Skate
DESCRIPTION:🍬 The Candy Fun Continues… Don’t Miss It! 🍬 \nOur candy-themed skates are still going strong\, and this time it’s all about LAFFY TAFFY! Get ready for a sweet afternoon filled with skating\, music\, games\, and nonstop fun for all ages 🛼✨ \n🎉 BONUS: Every paid admission gets a FREE Laffy Taffy—because everything is better with a little extra sweetness! \nBring your friends and family and enjoy a high-energy session packed with laughs\, treats\, and great vibes you won’t want to miss! \n📅 Saturday\, May 30th\n⏰ 12:30pm–3:00pm \n🎟️ Admission: $12 Online | $14 At the Door\n🛼 Skate Rental: $6.00 \n🎂 Planning a birthday celebration? Make it extra fun—book your party with us today! Book Now! \n🚨 Don’t wait—buy your tickets now and keep the candy fun going! Buy Now!
URL:https://www.unitedskates.com/wickliffe/event/laffy-taffy-skate-2/
CATEGORIES:Family Events,Public Skates,Special Events
ATTACH;FMTTYPE=image/jpeg:https://unitedskates-assets.sfo3.digitaloceanspaces.com/wp-content/uploads/sites/12/2026/04/laffy-taffy-may-page-001-1-scaled.jpg
END:VEVENT
END:VCALENDAR