BEGIN:VCALENDAR
VERSION:2.0
PRODID:-//Rink 11 - Wickliffe - ECPv6.15.20//NONSGML v1.0//EN
CALSCALE:GREGORIAN
METHOD:PUBLISH
X-ORIGINAL-URL:https://www.unitedskates.com/wickliffe
X-WR-CALDESC:Events for Rink 11 - Wickliffe
REFRESH-INTERVAL;VALUE=DURATION:PT1H
X-Robots-Tag:noindex
X-PUBLISHED-TTL:PT1H
BEGIN:VTIMEZONE
TZID:America/New_York
BEGIN:DAYLIGHT
TZOFFSETFROM:-0500
TZOFFSETTO:-0400
TZNAME:EDT
DTSTART:20250309T070000
END:DAYLIGHT
BEGIN:STANDARD
TZOFFSETFROM:-0400
TZOFFSETTO:-0500
TZNAME:EST
DTSTART:20251102T060000
END:STANDARD
BEGIN:DAYLIGHT
TZOFFSETFROM:-0500
TZOFFSETTO:-0400
TZNAME:EDT
DTSTART:20260308T070000
END:DAYLIGHT
BEGIN:STANDARD
TZOFFSETFROM:-0400
TZOFFSETTO:-0500
TZNAME:EST
DTSTART:20261101T060000
END:STANDARD
BEGIN:DAYLIGHT
TZOFFSETFROM:-0500
TZOFFSETTO:-0400
TZNAME:EDT
DTSTART:20270314T070000
END:DAYLIGHT
BEGIN:STANDARD
TZOFFSETFROM:-0400
TZOFFSETTO:-0500
TZNAME:EST
DTSTART:20271107T060000
END:STANDARD
END:VTIMEZONE
BEGIN:VEVENT
DTSTART;TZID=America/New_York:20260308T120000
DTEND;TZID=America/New_York:20260308T143000
DTSTAMP:20260419T191706
CREATED:20260201T203445Z
LAST-MODIFIED:20260203T201346Z
UID:23716-1772971200-1772980200@www.unitedskates.com
SUMMARY:Minnie's PJ Skate
DESCRIPTION:🎀🛼 MINNIE MOUSE FANS — THIS ONE IS FOR YOU! 🛼🎀Get ready to roll into a Sunday Funday like no other! Join us at United Skates for a pajama-themed skating adventure with Minnie Mouse herself. Come dressed in your favorite PJs and skate the afternoon away with fun\, music\, and lots of smiles! \n📅 Sunday\, March 8th ⏰ 12:00pm-2:30pm💵 Admission at the door: $14.00 \n💵 Admission Online: $12.00 Buy Here!⛸️ Skate Rental: $6.00 \n🎉 Want to make it even more special?Host a pajama-themed birthday party and have Minnie join the celebration! Book Here! \nBring the kids\, bring the family\, and get ready to skate\, giggle\, and enjoy a magical Minnie Mouse Sunday Funday! ✨ \nSave a $1.00!! Wear your PJ’S!
URL:https://www.unitedskates.com/wickliffe/event/minnies-pj-skate/
CATEGORIES:Family Events,Public Skates,Special Events
ATTACH;FMTTYPE=image/png:https://unitedskates-assets.sfo3.digitaloceanspaces.com/wp-content/uploads/sites/12/2026/02/Minnies-Pajama-Skate-3.png
END:VEVENT
BEGIN:VEVENT
DTSTART;TZID=America/New_York:20260308T150000
DTEND;TZID=America/New_York:20260308T173000
DTSTAMP:20260419T191706
CREATED:20250805T183341Z
LAST-MODIFIED:20260401T191002Z
UID:22651-1772982000-1772991000@www.unitedskates.com
SUMMARY:Sunday Funday/Birthday Parties
DESCRIPTION:Book your Birthday Party! Birthday Parties available from 3:00pm-5:30pm \nAdmission at the door $14.00 \nAdmission Online $12.00 \nSkate Rental $6.00 \nFeaturing Pop and R&B Music Mix \nGet your Tickets Here! BUY HERE! \nAll 3–17-year-olds must pay admission and skate rental upon entering the facility.  Adults 18+ not skating may enter for free. All 12–17-year-olds must come into our facility with a parent or guardian that is 25 years or age or older. We are only allowing two (2) 12–17-year-olds per one parent or guardian 25 and over. The parent/guardian must stay with the teenager the entire time while in the facility. If the parent/guardian leaves the facility the teen must leave with parent/guardian. No drop off of teens or children into our facility is permitted. No drop off of teens or children to another parent into our facility is permitted. Teenagers 12-17 with their own skates are permitted without a parent if they skate the entire time. Teens asked to keep skates on repeatedly will be asked to leave with no refund.
URL:https://www.unitedskates.com/wickliffe/event/sunday-funday-birthday-parties-6/2026-03-08/
CATEGORIES:Family Events,Special Events
ATTACH;FMTTYPE=image/jpeg:https://unitedskates-assets.sfo3.digitaloceanspaces.com/wp-content/uploads/sites/12/2023/07/800px-Sunday-Funday-2022-1200x900-1.jpg
END:VEVENT
BEGIN:VEVENT
DTSTART;TZID=America/New_York:20260313T180000
DTEND;TZID=America/New_York:20260313T203000
DTSTAMP:20260419T191706
CREATED:20260106T213732Z
LAST-MODIFIED:20260106T214000Z
UID:23266-1773424800-1773433800@www.unitedskates.com
SUMMARY:Scream vs Jason
DESCRIPTION:😈 It’s FRIDAY THE 13TH… are you READY? 🎃🔥For the first time EVER\, two horror legends are facing off at the rink — Jason vs. Ghost Face! 👻🪓Who will win… and what team are YOU on? \nDress up as your favorite character — or rock their colors and show your loyalty! 💀Snap eerie photo ops if you’re brave enough… 📸🩸 \n📅 Friday\, March 13th🕕 6:00pm–8:30pm \n🛼 Admission: $13.00👟 Skate Rental: $6.00 \n💻 Save $1.00 when you buy your tickets online — get them now! Buy Here!🎉 Birthday parties are available… book yours NOW and join the fright-night fun! Book Here! \nChoose your side. Bring your crew. And prepare for a night of chills\, thrills\, and killer skate vibes! 😈🛼✨
URL:https://www.unitedskates.com/wickliffe/event/scream-vs-jason/
CATEGORIES:Family Events,Public Skates,Special Events
ATTACH;FMTTYPE=image/jpeg:https://unitedskates-assets.sfo3.digitaloceanspaces.com/wp-content/uploads/sites/12/2026/01/Scream-vs-Jason-Roller-Skate.jpg
END:VEVENT
BEGIN:VEVENT
DTSTART;TZID=America/New_York:20260313T210000
DTEND;TZID=America/New_York:20260314T010000
DTSTAMP:20260419T191706
CREATED:20260201T204004Z
LAST-MODIFIED:20260203T201655Z
UID:23718-1773435600-1773450000@www.unitedskates.com
SUMMARY:RandB and Hip-Hop Sip and Skate
DESCRIPTION:🍸🛼🔥 ADULTS — GET READY! 🔥🛼🍸Join us for our FIRST Sip & Skate of the year! \n🎶 R&B & Hip-Hop UNFILTERED 🎶This is a 21+ event only — valid ID required.Smooth vibes\, grown energy\, great music\, and skating all night long. \n📅 Friday\, March 13th⏰ 9:30pm–1:00am \n💲 Only $20.00 — includes:✔️ Admission✔️ Skate rental✔️ 1 drink ticket 🍹 \n🎟️ Tickets are limited — don’t wait!👉 Secure your tickets here \n✨ Grown folks only. Good music only. No kids. No filters. ✨
URL:https://www.unitedskates.com/wickliffe/event/randb-and-hip-hop-sip-and-skate/
CATEGORIES:Adult Events,Special Events
ATTACH;FMTTYPE=image/png:https://unitedskates-assets.sfo3.digitaloceanspaces.com/wp-content/uploads/sites/12/2026/02/IMG_1123-1.png
END:VEVENT
BEGIN:VEVENT
DTSTART;TZID=America/New_York:20260314T103000
DTEND;TZID=America/New_York:20260314T123000
DTSTAMP:20260419T191706
CREATED:20260201T204236Z
LAST-MODIFIED:20260203T201853Z
UID:23720-1773484200-1773491400@www.unitedskates.com
SUMMARY:Leprechaun's Sno Cone Skate
DESCRIPTION:🍀✨🛼 THE LEPRECHAUN IS COMING! 🛼✨🍀He’s kicking off St. Patrick’s Day with skating\, smiles\, and a sweet treat for everyone! \n🌈 Meet the Leprechaun • Skate the rink • Celebrate in GREENPlus\, enjoy a FREE green sno-cone 🍧 with paid admission! \n📅 Saturday\, March 14th⏰ 10:30am–12:30pm \n💲 Admission:🔹 $10.00 online. Buy Here!🔹 $11.00 at the door🔹 Skate Rental: $6.00 \n🍀 Free green sno-cone with paid admission (while supplies last!) \n🌟 Wear your green and come roll into St. Patrick’s Day with us! 🌟
URL:https://www.unitedskates.com/wickliffe/event/leprechauns-sno-cone-skate/
CATEGORIES:Family Events,Public Skates,Special Events
ATTACH;FMTTYPE=image/jpeg:https://unitedskates-assets.sfo3.digitaloceanspaces.com/wp-content/uploads/sites/12/2026/02/Leprechauns-Sno-Cone-Skate-page-001-2-scaled.jpg
END:VEVENT
BEGIN:VEVENT
DTSTART;TZID=America/New_York:20260314T123000
DTEND;TZID=America/New_York:20260314T150000
DTSTAMP:20260419T191706
CREATED:20260201T204547Z
LAST-MODIFIED:20260203T202315Z
UID:23722-1773491400-1773500400@www.unitedskates.com
SUMMARY:Lucky Leprechaun's Glow Skate
DESCRIPTION:🍀✨🛼 THE LUCKY LEPRECHAUN IS CALLING! 🛼✨🍀You’re invited to see the Lucky Leprechaun as he hosts his ANNUAL St. Patrick’s Day GLOW PARTY! \n🌟 Glow lights • Green vibes • Music pumping • Non-stop skatingPlus\, everyone gets a FREE green glow stick 💚 with paid admission! \n📅 Saturday\, March 14th⏰ 12:30pm–3:00pm \n💲 Admission:🔹 $12.00 online (best deal!) Buy Here!🔹 $14.00 at the door🔹 Skate Rental: $6.00 \n🎟️ Don’t wait—this glow party fills up fast! \n🎂 Book your birthday party now and celebrate under the glow with skating\, music\, and lucky fun! 🍀✨ Book Here!
URL:https://www.unitedskates.com/wickliffe/event/lucky-leprechauns-glow-skate/
CATEGORIES:Family Events,Public Skates,Special Events
ATTACH;FMTTYPE=image/png:https://unitedskates-assets.sfo3.digitaloceanspaces.com/wp-content/uploads/sites/12/2026/02/St-Patricks-Glow-Skate.png
END:VEVENT
END:VCALENDAR