BEGIN:VCALENDAR
VERSION:2.0
PRODID:-//Rink 11 - Wickliffe - ECPv6.15.20//NONSGML v1.0//EN
CALSCALE:GREGORIAN
METHOD:PUBLISH
X-WR-CALNAME:Rink 11 - Wickliffe
X-ORIGINAL-URL:https://www.unitedskates.com/wickliffe
X-WR-CALDESC:Events for Rink 11 - Wickliffe
REFRESH-INTERVAL;VALUE=DURATION:PT1H
X-Robots-Tag:noindex
X-PUBLISHED-TTL:PT1H
BEGIN:VTIMEZONE
TZID:America/New_York
BEGIN:DAYLIGHT
TZOFFSETFROM:-0500
TZOFFSETTO:-0400
TZNAME:EDT
DTSTART:20250309T070000
END:DAYLIGHT
BEGIN:STANDARD
TZOFFSETFROM:-0400
TZOFFSETTO:-0500
TZNAME:EST
DTSTART:20251102T060000
END:STANDARD
BEGIN:DAYLIGHT
TZOFFSETFROM:-0500
TZOFFSETTO:-0400
TZNAME:EDT
DTSTART:20260308T070000
END:DAYLIGHT
BEGIN:STANDARD
TZOFFSETFROM:-0400
TZOFFSETTO:-0500
TZNAME:EST
DTSTART:20261101T060000
END:STANDARD
BEGIN:DAYLIGHT
TZOFFSETFROM:-0500
TZOFFSETTO:-0400
TZNAME:EDT
DTSTART:20270314T070000
END:DAYLIGHT
BEGIN:STANDARD
TZOFFSETFROM:-0400
TZOFFSETTO:-0500
TZNAME:EST
DTSTART:20271107T060000
END:STANDARD
END:VTIMEZONE
BEGIN:VEVENT
DTSTART;TZID=America/New_York:20260215T120000
DTEND;TZID=America/New_York:20260215T143000
DTSTAMP:20260420T032059
CREATED:20260105T214557Z
LAST-MODIFIED:20260108T144324Z
UID:23194-1771156800-1771165800@www.unitedskates.com
SUMMARY:Spiderman Skate
DESCRIPTION:Get ready to swing into MLK Weekend fun — SPIDERMAN is coming! 🕷️🌟Join us for an action-packed Sunday Funday and hang out with your friendly neighborhood hero on the rink! \n📅 Sunday\, February 15th🕛 12:00pm–2:30pm \n🛼 Admission at the door: $14.00👟 Skate Rental: $6.00💻 Admission $12.00 when you buy your tickets online — grab them now! Buy Here!  \nBring the kids for skating\, photos\, and superhero-style fun as Spiderman makes a special live appearance! 🕸️😄 He is here from 12:45pm-1:45pm \n🎉 Make the day even more AMAZING — book a Spiderman-themed birthday party and Spiderman can visit your party too! Book Here!
URL:https://www.unitedskates.com/wickliffe/event/spiderman-skate-2/
CATEGORIES:Family Events,Public Skates,Special Events
ATTACH;FMTTYPE=image/jpeg:https://unitedskates-assets.sfo3.digitaloceanspaces.com/wp-content/uploads/sites/12/2024/03/spiderman-skate.jpg
END:VEVENT
BEGIN:VEVENT
DTSTART;TZID=America/New_York:20260215T150000
DTEND;TZID=America/New_York:20260215T173000
DTSTAMP:20260420T032059
CREATED:20260106T193307Z
LAST-MODIFIED:20260108T144436Z
UID:23237-1771167600-1771176600@www.unitedskates.com
SUMMARY:Neon Glow Roll
DESCRIPTION:Get ready for a NEON GLOW ROLL! 💥🎶Come dressed in your brightest neon colors or all white and light up the rink as you glow under our black lights! This is the ultimate glow-in-the-dark skate experience — you won’t want to miss it! 🌟 \n🎁 BONUS! Get a FREE Glow Stick with paid admission! \n📅 Sunday\, February 15th🕒 3:00pm–5:30pm \n🛼 Admission at the door: $14.00👟 Skate Rental: $6.00💻 Admission $12.00 when you buy your tickets online — grab them now! Buy Now! \n🎉 Want to glow even bigger? Book your birthday party now and make it a neon celebration to remember! 🌈✨Book Here!
URL:https://www.unitedskates.com/wickliffe/event/neon-glow-roll/
CATEGORIES:Family Events,Public Skates,Special Events
ATTACH;FMTTYPE=image/jpeg:https://unitedskates-assets.sfo3.digitaloceanspaces.com/wp-content/uploads/sites/12/2024/03/NEON-GLOW-SKATE.jpg
END:VEVENT
BEGIN:VEVENT
DTSTART;TZID=America/New_York:20260215T180000
DTEND;TZID=America/New_York:20260215T203000
DTSTAMP:20260420T032059
CREATED:20251213T004941Z
LAST-MODIFIED:20260127T170551Z
UID:23151-1771178400-1771187400@www.unitedskates.com
SUMMARY:Double Days
DESCRIPTION:🔥🎉 DOUBLE DAYS JUST HIT FEBRUARY! 🎉🔥Get READY because Sundays are about to get BIGGER\, BETTER\, and DOUBLE the FUN! \nDon’t miss out on the hottest deal of the month —EVERY SUNDAY in February from February 1st through February 22nd🕡 6:00pm-8:30pm \n🛼 Admission at the door: $14.00🛼 Skate Rental: $6.00 \nAnd that’s not all… we’re loading the entire session with DOUBLE DAY SPECIALS that will keep the fun rolling all night long! \n✨ Double Day Deals Include:🥤 Buy a souvenir ICEE → GET A FREE REFILL!🎮 Buy a 50-credit game card → GET 100 GAME CREDITS! \n🌟Buy a Game of Laser Tag→ GET ONE FREE! (per person\, cannot be shared). \n💥 AND MORE surprises every session! \nFebruary Sundays = FUN TIMES TWO.Bring your friends\, bring the energy\, and don’t miss a single night of DOUBLE DAY excitement! \n🔥🛼 Double the deals. Double the fun. All month long! 🛼🔥 \nOnline Admission $12.00 Buy Here!
URL:https://www.unitedskates.com/wickliffe/event/double-days/2026-02-15/
CATEGORIES:Family Events,Public Skates,Special Events
ATTACH;FMTTYPE=image/png:https://unitedskates-assets.sfo3.digitaloceanspaces.com/wp-content/uploads/sites/12/2025/12/Double-Day-Sundays-.png
END:VEVENT
BEGIN:VEVENT
DTSTART;TZID=America/New_York:20260215T210000
DTEND;TZID=America/New_York:20260216T020000
DTSTAMP:20260420T032059
CREATED:20260106T200908Z
LAST-MODIFIED:20260106T202250Z
UID:23239-1771189200-1771207200@www.unitedskates.com
SUMMARY:President's Day Late Night Skate
DESCRIPTION:Calling all adults… kick off your Presidents Day on the RIGHT SKATE! 🎉Join us for an unforgettable late-night session packed with the best R&B\, Hip-Hop\, and classic skate music ALL NIGHT LONG! This is the grown-ups’ night out you’ve been waiting for. 😎🎵 \n📅 Sunday\, February 15th🕘 9:00pm–2:00am \n🛼 Admission: $13.00👟 Skate Rental: $6.00🔞 18+ with valid ID \n💻 Secure your spot now — buy your tickets online! Buy Here! \nBring your crew\, lace up\, and roll the night away to smooth beats\, good energy\, and nonstop skating vibes. 🔥✨
URL:https://www.unitedskates.com/wickliffe/event/presidents-day-late-night-skate-2/
CATEGORIES:Adult Events,Special Events
ATTACH;FMTTYPE=image/png:https://unitedskates-assets.sfo3.digitaloceanspaces.com/wp-content/uploads/sites/12/2026/01/presidents-day-late-.png
END:VEVENT
BEGIN:VEVENT
DTSTART;TZID=America/New_York:20260216T100000
DTEND;TZID=America/New_York:20260216T120000
DTSTAMP:20260420T032059
CREATED:20260106T203444Z
LAST-MODIFIED:20260106T203934Z
UID:23244-1771236000-1771243200@www.unitedskates.com
SUMMARY:President's Day Early Skate
DESCRIPTION:🎉 IT’S PRESIDENTS DAY — COME SKATE EARLY! 🎉 \nNo school? No problem! Start your day with FUN on wheels at our special Presidents Day Morning Skate! Grab your friends\, bring the whole family\, and roll into a great holiday! \n📅 Monday\, February 16th⏰ 10:00am–12:00pm🎟 Admission: $10.00 | Skate Rental: $6.00 \nA perfect way to kick off the day with music\, skating\, and nonstop energy! \n👥 Booking now for daycares\, camps\, groups & more!📞 Call 440-944-5301 to reserve your spot. \n✨ Don’t miss this special holiday skate—start Presidents Day the fun way! \nSecure your Spot! Save a $1.00! Buy Tickets Online! Buy Here! \nBirthday Parties Available! Book Here!
URL:https://www.unitedskates.com/wickliffe/event/presidents-day-early-skate/
CATEGORIES:Family Events,Public Skates,Special Events
ATTACH;FMTTYPE=image/jpeg:https://unitedskates-assets.sfo3.digitaloceanspaces.com/wp-content/uploads/sites/12/2023/12/early-bird-skate.jpg
END:VEVENT
BEGIN:VEVENT
DTSTART;TZID=America/New_York:20260216T123000
DTEND;TZID=America/New_York:20260216T150000
DTSTAMP:20260420T032059
CREATED:20260106T210302Z
LAST-MODIFIED:20260106T210303Z
UID:23252-1771245000-1771254000@www.unitedskates.com
SUMMARY:Derpy's Glow Roll
DESCRIPTION:DERPY IS BACK! 🎉He’s ready to celebrate President’s Day with YOU — and you won’t want to miss it! \n📅 Monday\, February 16th🕧 12:30pm–3:00pm \nCome out for an afternoon of skating\, smiles\, and Derpy-tastic fun — and grab a FREE Glow Stick with every paid admission! 🌟 \n🛼 Admission: $12.00👟 Skate Rental: $6.00 \n💻 Buy your tickets online to secure your spot to see Derpy! Buy Here!🎉 Birthday Parties are available — book now for extra magic! Book Here!👥 Group rates available — call 440-944-5301 \nGet ready for laughter\, music\, photos\, and glowing fun with Derpy all afternoon long! 🌈😄
URL:https://www.unitedskates.com/wickliffe/event/derpys-glow-roll/
CATEGORIES:Family Events,Public Skates,Special Events
ATTACH;FMTTYPE=image/png:https://unitedskates-assets.sfo3.digitaloceanspaces.com/wp-content/uploads/sites/12/2026/01/Derpys-Glow-Roll-.png
END:VEVENT
BEGIN:VEVENT
DTSTART;TZID=America/New_York:20260216T153000
DTEND;TZID=America/New_York:20260216T180000
DTSTAMP:20260420T032059
CREATED:20260106T204908Z
LAST-MODIFIED:20260106T205323Z
UID:23248-1771255800-1771264800@www.unitedskates.com
SUMMARY:President's Day Skate
DESCRIPTION:🎉 IT’S PRESIDENTS DAY! NO SCHOOL = TIME TO SKATE! 🎉 \nSchool’s out\, the rink is open\, and the FUN is waiting!Spend your afternoon rolling\, laughing\, and celebrating the holiday with us on the rink! \n📅 Monday\, February 16th🕞 3:30pm–6:00pm🎟 Admission: $12.00 | Skate Rental: $6.00 \nPerfect for families\, kids\, and groups looking for something exciting to do on the day off! \n👥 Now booking daycares\, camps\, and group outings!📞 Call 440-944-5301 to reserve your spot. \n✨ Don’t miss this Presidents Day Skate — the BEST way to spend your day off! \nBirthday Parties Available! Book Here! \nSecure your spot! Buy Online!
URL:https://www.unitedskates.com/wickliffe/event/presidents-day-skate-4/
CATEGORIES:Family Events,Public Skates,Special Events
ATTACH;FMTTYPE=image/png:https://unitedskates-assets.sfo3.digitaloceanspaces.com/wp-content/uploads/sites/12/2026/01/Presidents-Day-Skate.png
END:VEVENT
BEGIN:VEVENT
DTSTART;TZID=America/New_York:20260216T190000
DTEND;TZID=America/New_York:20260216T230000
DTSTAMP:20260420T032059
CREATED:20260106T210705Z
LAST-MODIFIED:20260106T211348Z
UID:23255-1771268400-1771282800@www.unitedskates.com
SUMMARY:President's Day Old School Skate
DESCRIPTION:It’s a Presidents Day Old School Skate! 🎉 \nWe’re taking it back to the greatest hits\, classic grooves\, and old-school skate vibes all night long. This one is strictly for the grown crowd — smooth beats\, good energy\, and nonstop nostalgia on the rink! 😎🎵 \n📅 Monday\, February 16th🕖 7:00pm–11:00pm \n🛼 Admission: $12.00👟 Skate Rental: $6.00🔞 25+ with valid ID \nGrab your crew\, lace up\, and roll the night away to the throwback favorites you know and love! 💥🛼 \nSecure your Spot! Buy Online!
URL:https://www.unitedskates.com/wickliffe/event/presidents-day-old-school-skate-3/
CATEGORIES:Adult Events,Special Events
ATTACH;FMTTYPE=image/png:https://unitedskates-assets.sfo3.digitaloceanspaces.com/wp-content/uploads/sites/12/2026/01/Adult-Presidents-Day-Skate.png
END:VEVENT
BEGIN:VEVENT
DTSTART;TZID=America/New_York:20260220T180000
DTEND;TZID=America/New_York:20260220T203000
DTSTAMP:20260420T032059
CREATED:20260106T212032Z
LAST-MODIFIED:20260113T204338Z
UID:23259-1771610400-1771619400@www.unitedskates.com
SUMMARY:Skato's Birthday Bash
DESCRIPTION:🎉🎂 It’s Skato’s BIRTHDAY BASH! 🎂🎉Come out and help us celebrate our beloved mascot’s birthday! He wants to party with all his old and new friends — and YOU’RE invited! 🥳 \nThis night is all about Skato — and he’s going BIG!✨ Special birthday celebration🎈 His very own balloon drop with confetti🎁 Fun\, games\, and surprises all night \n📅 Friday\, February 20th🕕 6:00pm–8:30pm \n🛼 Admission at the door: $14.00👟 Skate Rental: $6.00 \n💻 Skato is even giving a $12.00 Admission when you buy tickets online! Buy Here!🎉 Have a birthday too? Celebrate WITH Skato! Birthday parties are welcome — book now and party together! Book Here! \nBring your friends\, your smiles\, and your best birthday energy — Skato can’t wait to celebrate with you! 🥳🛼
URL:https://www.unitedskates.com/wickliffe/event/skatos-birthday-bash/
CATEGORIES:Family Events,Public Skates,Special Events
ATTACH;FMTTYPE=image/png:https://unitedskates-assets.sfo3.digitaloceanspaces.com/wp-content/uploads/sites/12/2026/01/Skatos-Birthday-Bash-.png
END:VEVENT
BEGIN:VEVENT
DTSTART;TZID=America/New_York:20260220T210000
DTEND;TZID=America/New_York:20260220T233000
DTSTAMP:20260420T032059
CREATED:20250805T200418Z
LAST-MODIFIED:20250918T191141Z
UID:21864-1771621200-1771630200@www.unitedskates.com
SUMMARY:Roll by Faith Gospel Skate
DESCRIPTION:🙏🛼 Roll By Faith Gospel Skate 🛼🙏Join us for an inspiring night filled with uplifting gospel music\, joyful skating\, and community spirit! This event is all about rolling together in faith and fun. \n🎶 Enjoy powerful gospel tunes that will lift your spirit as you skate🛼 All ages and skill levels welcome — come as you are!🎉 TWO lucky skaters will WIN a FREE PAIR OF SKATES! Could you be one of the lucky ones?🤝 A perfect event for families\, church groups\, and friends to connect and celebrate faith \n📅 Friday\, February 20th🕒 9:00pm-11:30pm🎟️ Admission: Admission $12.00 Skate rental $6.00 \nDon’t miss your chance to roll by faith and maybe even roll away with new skates! \n📞 Call Amber at 440-944-5301 to reserve your spot and learn about special group rates and fundraiser options.
URL:https://www.unitedskates.com/wickliffe/event/roll-by-faith-gospel-skate/
CATEGORIES:Family Events,Public Skates,Special Events
ATTACH;FMTTYPE=image/jpeg:https://unitedskates-assets.sfo3.digitaloceanspaces.com/wp-content/uploads/sites/12/2025/08/Roll-by-Faith-Gospel-Skate.jpg
END:VEVENT
BEGIN:VEVENT
DTSTART;TZID=America/New_York:20260221T123000
DTEND;TZID=America/New_York:20260221T150000
DTSTAMP:20260420T032059
CREATED:20260106T212313Z
LAST-MODIFIED:20260109T210202Z
UID:23261-1771677000-1771686000@www.unitedskates.com
SUMMARY:Magic Day
DESCRIPTION:Do you love MAGIC? Then this one is for YOU! 🎉✨Join us for a thrilling afternoon of skating and illusions as our walking magician travels around the rink performing amazing tricks right before your eyes! 😄🎩 \n📅 Saturday\, February 21st🕧 12:30pm–3:00pm🪄 The Magician will appear from 1:30pm–2:30pm \n🛼 Admission at the door: $14.00👟 Skate Rental: $6.00💻 Admission $12.00 when you buy your tickets online — grab your tickets now! Buy Here! \nThis is the perfect add-on to any celebration —🎉 Make your birthday party even more magical… book yours now! Book Here! \nSkate\, smile\, and be amazed — you never know what trick is coming next! ✨😄
URL:https://www.unitedskates.com/wickliffe/event/magic-day-2/
CATEGORIES:Family Events,Public Skates,Special Events
ATTACH;FMTTYPE=image/jpeg:https://unitedskates-assets.sfo3.digitaloceanspaces.com/wp-content/uploads/sites/12/2025/12/day-of-magic-v2-1.jpg
END:VEVENT
END:VCALENDAR