BEGIN:VCALENDAR
VERSION:2.0
PRODID:-//Rink 11 - Wickliffe - ECPv6.15.20//NONSGML v1.0//EN
CALSCALE:GREGORIAN
METHOD:PUBLISH
X-ORIGINAL-URL:https://www.unitedskates.com/wickliffe
X-WR-CALDESC:Events for Rink 11 - Wickliffe
REFRESH-INTERVAL;VALUE=DURATION:PT1H
X-Robots-Tag:noindex
X-PUBLISHED-TTL:PT1H
BEGIN:VTIMEZONE
TZID:America/New_York
BEGIN:DAYLIGHT
TZOFFSETFROM:-0500
TZOFFSETTO:-0400
TZNAME:EDT
DTSTART:20240310T070000
END:DAYLIGHT
BEGIN:STANDARD
TZOFFSETFROM:-0400
TZOFFSETTO:-0500
TZNAME:EST
DTSTART:20241103T060000
END:STANDARD
BEGIN:DAYLIGHT
TZOFFSETFROM:-0500
TZOFFSETTO:-0400
TZNAME:EDT
DTSTART:20250309T070000
END:DAYLIGHT
BEGIN:STANDARD
TZOFFSETFROM:-0400
TZOFFSETTO:-0500
TZNAME:EST
DTSTART:20251102T060000
END:STANDARD
BEGIN:DAYLIGHT
TZOFFSETFROM:-0500
TZOFFSETTO:-0400
TZNAME:EDT
DTSTART:20260308T070000
END:DAYLIGHT
BEGIN:STANDARD
TZOFFSETFROM:-0400
TZOFFSETTO:-0500
TZNAME:EST
DTSTART:20261101T060000
END:STANDARD
END:VTIMEZONE
BEGIN:VEVENT
DTSTART;TZID=America/New_York:20251116T120000
DTEND;TZID=America/New_York:20251116T143000
DTSTAMP:20260421T174024
CREATED:20250805T183612Z
LAST-MODIFIED:20260401T175513Z
UID:21625-1763294400-1763303400@www.unitedskates.com
SUMMARY:Sunday Funday/Birthday Parties
DESCRIPTION:Book your Birthday Party! Birthday Parties available from 12:00pm-2:30pm \nAdmission at the door $14.00 \nAdmission Online $12.00 \nSkate Rental $6.00 \nFeaturing Pop and R&B Music Mix \nGet your Tickets Here! BUY HERE! \nAll 3–17-year-olds must pay admission and skate rental upon entering the facility.  Adults 18+ not skating may enter for free. All 12–17-year-olds must come into our facility with a parent or guardian that is 25 years or age or older. We are only allowing two (2) 12–17-year-olds per one parent or guardian 25 and over. The parent/guardian must stay with the teenager the entire time while in the facility. If the parent/guardian leaves the facility the teen must leave with parent/guardian. No drop off of teens or children into our facility is permitted. No drop off of teens or children to another parent into our facility is permitted. Teenagers 12-17 with their own skates are permitted without a parent if they skate the entire time. Teens asked to keep skates on repeatedly will be asked to leave with no refund.
URL:https://www.unitedskates.com/wickliffe/event/sunday-funday-birthday-parties-7/2025-11-16/
CATEGORIES:Family Events,Special Events
ATTACH;FMTTYPE=image/jpeg:https://unitedskates-assets.sfo3.digitaloceanspaces.com/wp-content/uploads/sites/12/2025/08/Sunday-Funday-Family-Fun-11-v3-scaled.jpg
END:VEVENT
BEGIN:VEVENT
DTSTART;TZID=America/New_York:20251116T150000
DTEND;TZID=America/New_York:20251116T173000
DTSTAMP:20260421T174024
CREATED:20250805T183341Z
LAST-MODIFIED:20260401T190946Z
UID:21607-1763305200-1763314200@www.unitedskates.com
SUMMARY:Sunday Funday/Birthday Parties
DESCRIPTION:Book your Birthday Party! Birthday Parties available from 3:00pm-5:30pm \nAdmission at the door $14.00 \nAdmission Online $12.00 \nSkate Rental $6.00 \nFeaturing Pop and R&B Music Mix \nGet your Tickets Here! BUY HERE! \nAll 3–17-year-olds must pay admission and skate rental upon entering the facility.  Adults 18+ not skating may enter for free. All 12–17-year-olds must come into our facility with a parent or guardian that is 25 years or age or older. We are only allowing two (2) 12–17-year-olds per one parent or guardian 25 and over. The parent/guardian must stay with the teenager the entire time while in the facility. If the parent/guardian leaves the facility the teen must leave with parent/guardian. No drop off of teens or children into our facility is permitted. No drop off of teens or children to another parent into our facility is permitted. Teenagers 12-17 with their own skates are permitted without a parent if they skate the entire time. Teens asked to keep skates on repeatedly will be asked to leave with no refund.
URL:https://www.unitedskates.com/wickliffe/event/sunday-funday-birthday-parties-6/2025-11-16/
CATEGORIES:Family Events,Special Events
ATTACH;FMTTYPE=image/jpeg:https://unitedskates-assets.sfo3.digitaloceanspaces.com/wp-content/uploads/sites/12/2023/07/800px-Sunday-Funday-2022-1200x900-1.jpg
END:VEVENT
BEGIN:VEVENT
DTSTART;TZID=America/New_York:20251121T183000
DTEND;TZID=America/New_York:20251121T210000
DTSTAMP:20260421T174024
CREATED:20251001T141508Z
LAST-MODIFIED:20251001T170234Z
UID:22287-1763749800-1763758800@www.unitedskates.com
SUMMARY:⏱️🦃Gobble's Countdown to Thanksgiving⏱️🦃
DESCRIPTION:🦃🎉 It’s Time… Gobbles is Back! 🎉🦃Thanksgiving is almost here\, and Gobbles the Turkey is ready to kick off the countdown in style at United Skates of America! Bring the whole family for a festive day of skating\, games\, and fun you won’t want to miss. \n🗓 Friday\, November 21st 6:30pm-9:00pm🎟 Admission: $13 | Skate Rental: $6 \n✨ What’s in Store?🦃 Meet Gobbles – snap pictures and say hi to everyone’s favorite turkey!🎨 Coloring & Craft Station – create fall-themed masterpieces to take home.🎊 Countdown Celebration – join Gobbles for an exciting finale with balloons and confetti flying everywhere! \n💻 Buy your ticket online and save $1.00 – secure your spot before it sells out! BUY HERE! \n🎂 Planning a birthday? Make it extra special – book your party today and have Gobbles stop by to celebrate! BOOK HERE! \n🍂 Don’t miss the feathers\, fun\, and festive cheer – let’s start the Thanksgiving countdown together! 🦃✨
URL:https://www.unitedskates.com/wickliffe/event/gobbles-countdown-to-thanksgiving-2/
CATEGORIES:Family Events,Public Skates,Special Events
ATTACH;FMTTYPE=image/jpeg:https://unitedskates-assets.sfo3.digitaloceanspaces.com/wp-content/uploads/sites/12/2025/10/Gobble-Countdown-to-Thanksgiving-Skate-page-001-scaled.jpg
END:VEVENT
BEGIN:VEVENT
DTSTART;TZID=America/New_York:20251121T213000
DTEND;TZID=America/New_York:20251122T000000
DTSTAMP:20260421T174024
CREATED:20250805T194529Z
LAST-MODIFIED:20250918T192155Z
UID:21850-1763760600-1763769600@www.unitedskates.com
SUMMARY:80's Adult Night
DESCRIPTION:🎉🕺 80s Adult Night 🕺🎉18+ with Valid ID — Get Ready to Rock the Rink Retro Style! \nStep back in time and relive the most iconic decade with a night full of neon\, big hair\, and unforgettable beats! Whether you’re a fan of synth-pop\, rock\, or classic dance hits\, this is your chance to skate and groove like it’s 1985! \n🎶 Pump up the jams with all your favorite 80s hits from: \n\n\nMadonna \n\n\nMichael Jackson \n\n\nPrince \n\n\nDuran Duran \n\n\nCyndi Lauper…and many more! \n\n\n🛼 Lace up your skates and skate under vibrant neon lights🎤 80s-themed games\, contests\, and giveaways🕺 Dress to impress in your best 80s gear — leg warmers\, leather jackets\, and shoulder pads encouraged!🎟️ 18+ ONLY — Valid ID Required \n📅 Friday\, November 21st🕗 9:30pm-12:00am💲 Admission $12.00 Skate Rental $6.00 \nBring your friends\, your best moves\, and your brightest colors — it’s time to make the rink your personal dance floor!
URL:https://www.unitedskates.com/wickliffe/event/80s-adult-night/
CATEGORIES:Adult Events,Public Skates,Special Events
ATTACH;FMTTYPE=image/jpeg:https://unitedskates-assets.sfo3.digitaloceanspaces.com/wp-content/uploads/sites/12/2025/08/80s-Adult-Night-.jpg
END:VEVENT
BEGIN:VEVENT
DTSTART;TZID=America/New_York:20251122T123000
DTEND;TZID=America/New_York:20251122T150000
DTSTAMP:20260421T174024
CREATED:20251001T142013Z
LAST-MODIFIED:20251001T170820Z
UID:22289-1763814600-1763823600@www.unitedskates.com
SUMMARY:🦃✨Gobbles' Glow in the Dark Skate🦃✨
DESCRIPTION:✨🦃 Glow Big with Gobbles! 🦃✨It’s all about Gobbles this weekend – and now that his countdown is complete\, he’s lighting up the rink with glowing fun and excitement! \nJoin Gobbles for a Glow in the Dark Skate that’s packed with music\, lights\, and unforgettable memories: \n🗓 Saturday\, November 22nd | 12:30pm – 3:00pm🗓 Sunday\, November 23rd | 12:00pm – 2:30pm🎟 Admission: $13 | Skate Rental: $6 \n🌟 BONUS: Every paid admission gets a FREE Glow Stick – so you can shine right along with Gobbles all session long! \n💻 Buy your tickets online and save $1.00 – don’t wait\, these glowing sessions will fill up fast! BUY HERE! \n🎂 Want to make your birthday party extra special? Book today and have Gobbles stop by your celebration for a one-of-a-kind birthday surprise! BOOK HERE! \nGrab your friends\, put on your brightest outfit\, and come skate\, shine\, and glow with Gobbles this Thanksgiving season! 🎶✨🛼
URL:https://www.unitedskates.com/wickliffe/event/%f0%9f%a6%83%e2%9c%a8gobbles-glow-in-the-dark-skate%f0%9f%a6%83%e2%9c%a8/2025-11-22/
CATEGORIES:Family Events,Public Skates,Special Events
ATTACH;FMTTYPE=image/jpeg:https://unitedskates-assets.sfo3.digitaloceanspaces.com/wp-content/uploads/sites/12/2025/10/Gobble-Cosmic-Glow-Skate-1-page-001-scaled.jpg
END:VEVENT
END:VCALENDAR