BEGIN:VCALENDAR
VERSION:2.0
PRODID:-//Rink 11 - Wickliffe - ECPv6.15.20//NONSGML v1.0//EN
CALSCALE:GREGORIAN
METHOD:PUBLISH
X-ORIGINAL-URL:https://www.unitedskates.com/wickliffe
X-WR-CALDESC:Events for Rink 11 - Wickliffe
REFRESH-INTERVAL;VALUE=DURATION:PT1H
X-Robots-Tag:noindex
X-PUBLISHED-TTL:PT1H
BEGIN:VTIMEZONE
TZID:America/New_York
BEGIN:DAYLIGHT
TZOFFSETFROM:-0500
TZOFFSETTO:-0400
TZNAME:EDT
DTSTART:20240310T070000
END:DAYLIGHT
BEGIN:STANDARD
TZOFFSETFROM:-0400
TZOFFSETTO:-0500
TZNAME:EST
DTSTART:20241103T060000
END:STANDARD
BEGIN:DAYLIGHT
TZOFFSETFROM:-0500
TZOFFSETTO:-0400
TZNAME:EDT
DTSTART:20250309T070000
END:DAYLIGHT
BEGIN:STANDARD
TZOFFSETFROM:-0400
TZOFFSETTO:-0500
TZNAME:EST
DTSTART:20251102T060000
END:STANDARD
BEGIN:DAYLIGHT
TZOFFSETFROM:-0500
TZOFFSETTO:-0400
TZNAME:EDT
DTSTART:20260308T070000
END:DAYLIGHT
BEGIN:STANDARD
TZOFFSETFROM:-0400
TZOFFSETTO:-0500
TZNAME:EST
DTSTART:20261101T060000
END:STANDARD
END:VTIMEZONE
BEGIN:VEVENT
DTSTART;TZID=America/New_York:20251109T120000
DTEND;TZID=America/New_York:20251109T143000
DTSTAMP:20260421T142929
CREATED:20250805T183612Z
LAST-MODIFIED:20260401T175503Z
UID:23561-1762689600-1762698600@www.unitedskates.com
SUMMARY:Sunday Funday/Birthday Parties
DESCRIPTION:Book your Birthday Party! Birthday Parties available from 12:00pm-2:30pm \nAdmission at the door $14.00 \nAdmission Online $12.00 \nSkate Rental $6.00 \nFeaturing Pop and R&B Music Mix \nGet your Tickets Here! BUY HERE! \nAll 3–17-year-olds must pay admission and skate rental upon entering the facility.  Adults 18+ not skating may enter for free. All 12–17-year-olds must come into our facility with a parent or guardian that is 25 years or age or older. We are only allowing two (2) 12–17-year-olds per one parent or guardian 25 and over. The parent/guardian must stay with the teenager the entire time while in the facility. If the parent/guardian leaves the facility the teen must leave with parent/guardian. No drop off of teens or children into our facility is permitted. No drop off of teens or children to another parent into our facility is permitted. Teenagers 12-17 with their own skates are permitted without a parent if they skate the entire time. Teens asked to keep skates on repeatedly will be asked to leave with no refund.
URL:https://www.unitedskates.com/wickliffe/event/sunday-funday-birthday-parties-7/2025-11-09/
CATEGORIES:Family Events,Special Events
ATTACH;FMTTYPE=image/jpeg:https://unitedskates-assets.sfo3.digitaloceanspaces.com/wp-content/uploads/sites/12/2025/08/Sunday-Funday-Family-Fun-11-v3-scaled.jpg
END:VEVENT
BEGIN:VEVENT
DTSTART;TZID=America/New_York:20251109T120000
DTEND;TZID=America/New_York:20251109T143000
DTSTAMP:20260421T142929
CREATED:20251001T134309Z
LAST-MODIFIED:20251001T161714Z
UID:22283-1762689600-1762698600@www.unitedskates.com
SUMMARY:Top 40 Remix Skate
DESCRIPTION:🎶✨ Get Ready to Roll to the Hottest Hits! ✨🎶Join us at United Skates of America for a music-packed afternoon you won’t forget – it’s our Top 40 Remix Skate! \n🗓 Sunday\, November 9th🕛 12:00pm – 2:30pm🎟 Admission: $13 | Skate Rental: $6 \nWe’re bringing the energy with Top 40 hits of all time\, remixed and spinning all session long! From throwback favorites to today’s biggest chart-toppers\, you’ll be skating\, singing\, and dancing every lap around the rink. 🛼🎤💃 \n💻 Save $1 when you buy your ticket online! Don’t miss your chance to skate to the ultimate playlist. BUY HERE! \nGrab your crew\, lace up your skates\, and roll into the weekend with nonstop music\, fun\, and good vibes. This is one remix party you don’t want to miss! 🎶🔥
URL:https://www.unitedskates.com/wickliffe/event/top-40-remix-skate/
CATEGORIES:Family Events,Public Skates,Special Events
ATTACH;FMTTYPE=image/png:https://unitedskates-assets.sfo3.digitaloceanspaces.com/wp-content/uploads/sites/12/2025/10/Top-40-Remix-Skate.png
END:VEVENT
BEGIN:VEVENT
DTSTART;TZID=America/New_York:20251109T150000
DTEND;TZID=America/New_York:20251109T173000
DTSTAMP:20260421T142929
CREATED:20250805T183341Z
LAST-MODIFIED:20260401T190945Z
UID:21606-1762700400-1762709400@www.unitedskates.com
SUMMARY:Sunday Funday/Birthday Parties
DESCRIPTION:Book your Birthday Party! Birthday Parties available from 3:00pm-5:30pm \nAdmission at the door $14.00 \nAdmission Online $12.00 \nSkate Rental $6.00 \nFeaturing Pop and R&B Music Mix \nGet your Tickets Here! BUY HERE! \nAll 3–17-year-olds must pay admission and skate rental upon entering the facility.  Adults 18+ not skating may enter for free. All 12–17-year-olds must come into our facility with a parent or guardian that is 25 years or age or older. We are only allowing two (2) 12–17-year-olds per one parent or guardian 25 and over. The parent/guardian must stay with the teenager the entire time while in the facility. If the parent/guardian leaves the facility the teen must leave with parent/guardian. No drop off of teens or children into our facility is permitted. No drop off of teens or children to another parent into our facility is permitted. Teenagers 12-17 with their own skates are permitted without a parent if they skate the entire time. Teens asked to keep skates on repeatedly will be asked to leave with no refund.
URL:https://www.unitedskates.com/wickliffe/event/sunday-funday-birthday-parties-6/2025-11-09/
CATEGORIES:Family Events,Special Events
ATTACH;FMTTYPE=image/jpeg:https://unitedskates-assets.sfo3.digitaloceanspaces.com/wp-content/uploads/sites/12/2023/07/800px-Sunday-Funday-2022-1200x900-1.jpg
END:VEVENT
BEGIN:VEVENT
DTSTART;TZID=America/New_York:20251114T210000
DTEND;TZID=America/New_York:20251114T233000
DTSTAMP:20260421T142929
CREATED:20250805T195807Z
LAST-MODIFIED:20250808T202824Z
UID:21860-1763154000-1763163000@www.unitedskates.com
SUMMARY:Old School Gospel Skate
DESCRIPTION:🛼 Old School Gospel Skate 🛼🙏Gather your congregation for an unforgettable night filled with faith\, fellowship\, and fun on wheels! Whether you’re looking for a joyful night out or a meaningful fundraiser\, our Old School Gospel Skate is the perfect way to bring your church family together. \nFriday\, November 14th 9:00pm-11:30pm \nAdmission $12.00 Skate Rental $6.00 \n🎶 Enjoy uplifting gospel music that will keep your spirits high as you skate🛼 All skill levels welcome — from beginners to seasoned skaters!🤝 Strengthen community bonds and create lasting memories in a safe\, welcoming environment🍎 Optional group activities and giveaways to add to the fun \n📅 Book your date now for an event tailored just for your congregation — flexible times available to fit your schedule!📞 Call Amber at 440-944-5301 to reserve your spot and learn about special group rates and fundraiser options. \nLet’s roll together in faith\, fellowship\, and fun — because nothing brings people together like skating to the rhythm of praise!
URL:https://www.unitedskates.com/wickliffe/event/old-school-gospel-skate/
CATEGORIES:Family Events,Public Skates,Special Events
ATTACH;FMTTYPE=image/jpeg:https://unitedskates-assets.sfo3.digitaloceanspaces.com/wp-content/uploads/sites/12/2025/08/11-Old-School-Gospel-Skate.jpg
END:VEVENT
BEGIN:VEVENT
DTSTART;TZID=America/New_York:20251115T123000
DTEND;TZID=America/New_York:20251115T150000
DTSTAMP:20260421T142929
CREATED:20251001T141050Z
LAST-MODIFIED:20251001T165739Z
UID:22285-1763209800-1763218800@www.unitedskates.com
SUMMARY:🍂🐾Snoopy's Fall Festival 🍂🐾
DESCRIPTION:🍂🐾 Snoopy is Back and Ready for More Fun! 🐾🍂Did you miss Snoopy at the Fall Festival? Don’t worry – he had such a blast\, he’s coming back for more! Come join Snoopy and friends for an afternoon full of fall-themed skating fun at United Skates of America. \n🗓 Saturday\, November 15th🕧 12:30pm – 3:00pm🎟 Admission: $13 | Skate Rental: $6 \n🎉 What’s Happening?🍁 Play Snoopy’s Fall Games – fun for kids of all ages!🎨 Stop by his Coloring Station – get creative with fall and Snoopy-themed pages.🎁 Fall-Themed Giveaways All Session – prizes and surprises to make the day even more special! \n💻 Save $1.00 when you buy your tickets online! Buy HERE! \n🎂 Planning a birthday? Book your party with us and Snoopy will stop by to make it unforgettable! 🥳 BOOK HERE! \nDon’t miss your chance to skate\, play\, and celebrate with Snoopy – it’s going to be a paw-some fall adventure! 🍂🐶✨
URL:https://www.unitedskates.com/wickliffe/event/snoopys-fall-festival/
CATEGORIES:Family Events,Public Skates,Special Events
ATTACH;FMTTYPE=image/png:https://unitedskates-assets.sfo3.digitaloceanspaces.com/wp-content/uploads/sites/12/2025/10/Snoopys-Fall-Fest.png
END:VEVENT
END:VCALENDAR