BEGIN:VCALENDAR
VERSION:2.0
PRODID:-//Rink 11 - Wickliffe - ECPv6.15.20//NONSGML v1.0//EN
CALSCALE:GREGORIAN
METHOD:PUBLISH
X-ORIGINAL-URL:https://www.unitedskates.com/wickliffe
X-WR-CALDESC:Events for Rink 11 - Wickliffe
REFRESH-INTERVAL;VALUE=DURATION:PT1H
X-Robots-Tag:noindex
X-PUBLISHED-TTL:PT1H
BEGIN:VTIMEZONE
TZID:America/New_York
BEGIN:DAYLIGHT
TZOFFSETFROM:-0500
TZOFFSETTO:-0400
TZNAME:EDT
DTSTART:20240310T070000
END:DAYLIGHT
BEGIN:STANDARD
TZOFFSETFROM:-0400
TZOFFSETTO:-0500
TZNAME:EST
DTSTART:20241103T060000
END:STANDARD
BEGIN:DAYLIGHT
TZOFFSETFROM:-0500
TZOFFSETTO:-0400
TZNAME:EDT
DTSTART:20250309T070000
END:DAYLIGHT
BEGIN:STANDARD
TZOFFSETFROM:-0400
TZOFFSETTO:-0500
TZNAME:EST
DTSTART:20251102T060000
END:STANDARD
BEGIN:DAYLIGHT
TZOFFSETFROM:-0500
TZOFFSETTO:-0400
TZNAME:EDT
DTSTART:20260308T070000
END:DAYLIGHT
BEGIN:STANDARD
TZOFFSETFROM:-0400
TZOFFSETTO:-0500
TZNAME:EST
DTSTART:20261101T060000
END:STANDARD
END:VTIMEZONE
BEGIN:VEVENT
DTSTART;TZID=America/New_York:20251102T120000
DTEND;TZID=America/New_York:20251102T143000
DTSTAMP:20260421T155937
CREATED:20250805T183612Z
LAST-MODIFIED:20260401T175503Z
UID:23560-1762084800-1762093800@www.unitedskates.com
SUMMARY:Sunday Funday/Birthday Parties
DESCRIPTION:Book your Birthday Party! Birthday Parties available from 12:00pm-2:30pm \nAdmission at the door $14.00 \nAdmission Online $12.00 \nSkate Rental $6.00 \nFeaturing Pop and R&B Music Mix \nGet your Tickets Here! BUY HERE! \nAll 3–17-year-olds must pay admission and skate rental upon entering the facility.  Adults 18+ not skating may enter for free. All 12–17-year-olds must come into our facility with a parent or guardian that is 25 years or age or older. We are only allowing two (2) 12–17-year-olds per one parent or guardian 25 and over. The parent/guardian must stay with the teenager the entire time while in the facility. If the parent/guardian leaves the facility the teen must leave with parent/guardian. No drop off of teens or children into our facility is permitted. No drop off of teens or children to another parent into our facility is permitted. Teenagers 12-17 with their own skates are permitted without a parent if they skate the entire time. Teens asked to keep skates on repeatedly will be asked to leave with no refund.
URL:https://www.unitedskates.com/wickliffe/event/sunday-funday-birthday-parties-7/2025-11-02/
CATEGORIES:Family Events,Special Events
ATTACH;FMTTYPE=image/jpeg:https://unitedskates-assets.sfo3.digitaloceanspaces.com/wp-content/uploads/sites/12/2025/08/Sunday-Funday-Family-Fun-11-v3-scaled.jpg
END:VEVENT
BEGIN:VEVENT
DTSTART;TZID=America/New_York:20251102T120000
DTEND;TZID=America/New_York:20251102T143000
DTSTAMP:20260421T155937
CREATED:20251001T132433Z
LAST-MODIFIED:20251006T192648Z
UID:22279-1762084800-1762093800@www.unitedskates.com
SUMMARY:KPOP Day
DESCRIPTION:🎶✨ Attention KPOP Fans! ✨🎶It’s time to lace up your skates and step into the world of KPOP at United Skates of America for our special KPOP Day event! \n🗓 Sunday\, November 2nd🕛 12:00pm – 2:30pm🎟 Admission: $13 | Skate Rental: $6 \nWe’re turning the rink into a KPOP paradise with nothing\, but the hottest KPOP tracks all session long! From legendary anthems to the newest chart-toppers\, the music will keep you skating\, singing\, and dancing the entire afternoon. 💃🎤✨ \n👗 Dress to impress! Come as your favorite KPOP Artist or KPOP Demon Hunters Character and you’ll score an exclusive LIMITED EDITION KPOP Patch – available only at this event and while supplies last! Perfect for fans to collect and show off their KPOP pride. 🌟 \n💻 Want to save some money? Purchase your tickets online in advance and get $1 OFF admission. Don’t wait – tickets are selling fast\, and this is a one-of-a-kind event you won’t want to miss! BUY HERE!! \nGrab your friends\, rep your fandom\, and let’s celebrate all things KPOP on the skating floor. This is your chance to show off your moves\, your style\, and your love for KPOP in a way you’ve never experienced before. 🎶🔥 \n🥳 Book your KPOP Demon Hunters Birthday HERE! \n👉 Mark your calendars\, share with your crew\, and join us for a KPOP takeover at United Skates of America – it’s going to be legendary!
URL:https://www.unitedskates.com/wickliffe/event/kpop-day/
CATEGORIES:Family Events,Public Skates,Special Events
ATTACH;FMTTYPE=image/jpeg:https://unitedskates-assets.sfo3.digitaloceanspaces.com/wp-content/uploads/sites/12/2025/10/K-Pop-Day-Skate-1.jpg
END:VEVENT
BEGIN:VEVENT
DTSTART;TZID=America/New_York:20251102T150000
DTEND;TZID=America/New_York:20251102T173000
DTSTAMP:20260421T155937
CREATED:20250805T183341Z
LAST-MODIFIED:20260401T190945Z
UID:21605-1762095600-1762104600@www.unitedskates.com
SUMMARY:Sunday Funday/Birthday Parties
DESCRIPTION:Book your Birthday Party! Birthday Parties available from 3:00pm-5:30pm \nAdmission at the door $14.00 \nAdmission Online $12.00 \nSkate Rental $6.00 \nFeaturing Pop and R&B Music Mix \nGet your Tickets Here! BUY HERE! \nAll 3–17-year-olds must pay admission and skate rental upon entering the facility.  Adults 18+ not skating may enter for free. All 12–17-year-olds must come into our facility with a parent or guardian that is 25 years or age or older. We are only allowing two (2) 12–17-year-olds per one parent or guardian 25 and over. The parent/guardian must stay with the teenager the entire time while in the facility. If the parent/guardian leaves the facility the teen must leave with parent/guardian. No drop off of teens or children into our facility is permitted. No drop off of teens or children to another parent into our facility is permitted. Teenagers 12-17 with their own skates are permitted without a parent if they skate the entire time. Teens asked to keep skates on repeatedly will be asked to leave with no refund.
URL:https://www.unitedskates.com/wickliffe/event/sunday-funday-birthday-parties-6/2025-11-02/
CATEGORIES:Family Events,Special Events
ATTACH;FMTTYPE=image/jpeg:https://unitedskates-assets.sfo3.digitaloceanspaces.com/wp-content/uploads/sites/12/2023/07/800px-Sunday-Funday-2022-1200x900-1.jpg
END:VEVENT
BEGIN:VEVENT
DTSTART;TZID=America/New_York:20251104T140000
DTEND;TZID=America/New_York:20251104T163000
DTSTAMP:20260421T155937
CREATED:20251001T133829Z
LAST-MODIFIED:20251001T165314Z
UID:22281-1762264800-1762273800@www.unitedskates.com
SUMMARY:Election Day Skate
DESCRIPTION:🗳✨ No School = More Fun! ✨🗳School’s out for Election Day\, so grab your friends and head to United Skates of America for an afternoon of nonstop fun on wheels! \n🗓 Tuesday\, November 4th🕑 2:00pm – 4:30pm🎟 Admission: $12 | Skate Rental: $6 \n🎶 The DJ will be spinning your favorite hits while you skate\, laugh\, and make the most of your day off! \n💻 Buy your ticket online and save $1.00 – it’s easy\, fast\, and guarantees your spot on the floor. BUY HERE! \n👥 Got a group? Special group rates are available! Call us today at 440-944-5301 to book and save even more. \nDon’t just sit at home on your day off – come roll\, dance\, and celebrate with friends. Make this Election Day one you’ll actually be excited about! 🎉🛼
URL:https://www.unitedskates.com/wickliffe/event/election-day-skate-2/
CATEGORIES:Family Events,Public Skates,Special Events
ATTACH;FMTTYPE=image/jpeg:https://unitedskates-assets.sfo3.digitaloceanspaces.com/wp-content/uploads/sites/12/2025/10/election-day-skate-2025-page-001-scaled.jpg
END:VEVENT
BEGIN:VEVENT
DTSTART;TZID=America/New_York:20251107T213000
DTEND;TZID=America/New_York:20251108T000000
DTSTAMP:20260421T155937
CREATED:20250805T193209Z
LAST-MODIFIED:20251212T235017Z
UID:21838-1762551000-1762560000@www.unitedskates.com
SUMMARY:Emo Adult Skate
DESCRIPTION:🖤🛼 EMO ADULT SKATE NIGHTS 🛼🖤Every Friday Night – Starting October 3rd18+ ONLY with Valid ID \nIt’s not a phase… it’s a whole vibe.Get ready to relive the glory days of eyeliner\, heartbreak anthems\, and skatin’ through all the emotions — because Emo Adult Skate Nights are rolling in every Friday starting October 3rd! 🎶💔🔥 \n🎧 All session long\, we’re blasting your favorite punk & alternative hits:💀 My Chemical Romance💔 Panic! At the Disco🔥 The Used🎤 Paramore🖊️ Simple Plan…and so much more that’ll take you straight back to your teenage bedroom. \n🖤 Come dressed in your best emo fashion — black on black\, studded belts\, band tees\, Converse\, and eyeliner for days📸 Blacklight photo ops + moody lighting to set the perfect scene🎟️ 18+ ONLY — Valid ID required at the door🕘 Every Friday Night 9:30pm-12:00am💲 Admission $12.00 Skate Rental $6.00 \nScream\, skate\, and sing your heart out. \nTickets Here!
URL:https://www.unitedskates.com/wickliffe/event/emo-adult-skate-6-2025-11-07/
CATEGORIES:Adult Events,Public Skates,Special Events
ATTACH;FMTTYPE=image/jpeg:https://unitedskates-assets.sfo3.digitaloceanspaces.com/wp-content/uploads/sites/12/2025/08/Emo-Adult-Night-Calendar.jpg
END:VEVENT
END:VCALENDAR