BEGIN:VCALENDAR
VERSION:2.0
PRODID:-//Rink 11 - Wickliffe - ECPv6.15.20//NONSGML v1.0//EN
CALSCALE:GREGORIAN
METHOD:PUBLISH
X-WR-CALNAME:Rink 11 - Wickliffe
X-ORIGINAL-URL:https://www.unitedskates.com/wickliffe
X-WR-CALDESC:Events for Rink 11 - Wickliffe
REFRESH-INTERVAL;VALUE=DURATION:PT1H
X-Robots-Tag:noindex
X-PUBLISHED-TTL:PT1H
BEGIN:VTIMEZONE
TZID:America/New_York
BEGIN:DAYLIGHT
TZOFFSETFROM:-0500
TZOFFSETTO:-0400
TZNAME:EDT
DTSTART:20240310T070000
END:DAYLIGHT
BEGIN:STANDARD
TZOFFSETFROM:-0400
TZOFFSETTO:-0500
TZNAME:EST
DTSTART:20241103T060000
END:STANDARD
BEGIN:DAYLIGHT
TZOFFSETFROM:-0500
TZOFFSETTO:-0400
TZNAME:EDT
DTSTART:20250309T070000
END:DAYLIGHT
BEGIN:STANDARD
TZOFFSETFROM:-0400
TZOFFSETTO:-0500
TZNAME:EST
DTSTART:20251102T060000
END:STANDARD
BEGIN:DAYLIGHT
TZOFFSETFROM:-0500
TZOFFSETTO:-0400
TZNAME:EDT
DTSTART:20260308T070000
END:DAYLIGHT
BEGIN:STANDARD
TZOFFSETFROM:-0400
TZOFFSETTO:-0500
TZNAME:EST
DTSTART:20261101T060000
END:STANDARD
END:VTIMEZONE
BEGIN:VEVENT
DTSTART;TZID=America/New_York:20251019T120000
DTEND;TZID=America/New_York:20251019T143000
DTSTAMP:20260421T155718
CREATED:20250805T183612Z
LAST-MODIFIED:20260401T175502Z
UID:23558-1760875200-1760884200@www.unitedskates.com
SUMMARY:Sunday Funday/Birthday Parties
DESCRIPTION:Book your Birthday Party! Birthday Parties available from 12:00pm-2:30pm \nAdmission at the door $14.00 \nAdmission Online $12.00 \nSkate Rental $6.00 \nFeaturing Pop and R&B Music Mix \nGet your Tickets Here! BUY HERE! \nAll 3–17-year-olds must pay admission and skate rental upon entering the facility.  Adults 18+ not skating may enter for free. All 12–17-year-olds must come into our facility with a parent or guardian that is 25 years or age or older. We are only allowing two (2) 12–17-year-olds per one parent or guardian 25 and over. The parent/guardian must stay with the teenager the entire time while in the facility. If the parent/guardian leaves the facility the teen must leave with parent/guardian. No drop off of teens or children into our facility is permitted. No drop off of teens or children to another parent into our facility is permitted. Teenagers 12-17 with their own skates are permitted without a parent if they skate the entire time. Teens asked to keep skates on repeatedly will be asked to leave with no refund.
URL:https://www.unitedskates.com/wickliffe/event/sunday-funday-birthday-parties-7/2025-10-19/
CATEGORIES:Family Events,Special Events
ATTACH;FMTTYPE=image/jpeg:https://unitedskates-assets.sfo3.digitaloceanspaces.com/wp-content/uploads/sites/12/2025/08/Sunday-Funday-Family-Fun-11-v3-scaled.jpg
END:VEVENT
BEGIN:VEVENT
DTSTART;TZID=America/New_York:20251019T120000
DTEND;TZID=America/New_York:20251019T143000
DTSTAMP:20260421T155718
CREATED:20250820T200159Z
LAST-MODIFIED:20250821T184926Z
UID:22073-1760875200-1760884200@www.unitedskates.com
SUMMARY:Frankenstein Skate
DESCRIPTION:⚡🧟 It’s All About FRANKENSTEIN! 🧟⚡This Sunday Funday\, come meet your favorite (and friendliest) monster! 🤩 Who knows… he might even have a scavenger hunt with prizes just for you! \n🗓 Sunday\, October 19th⏰ 12:00pm–2:30pm💵 Admission: $13.00 | Skate Rental: $6.00 \n🎉 Birthday Parties Available—BOOK NOW and make it a monstrously fun celebration! Book Here! \n🛼 Skating\, laughs\, prizes\, and fun—don’t miss out on a day with Frankenstein! \nSave a $1.00 when you buy online. BUY HERE!
URL:https://www.unitedskates.com/wickliffe/event/frankenstein-skate-2/
CATEGORIES:Family Events,Public Skates,Special Events
ATTACH;FMTTYPE=image/jpeg:https://unitedskates-assets.sfo3.digitaloceanspaces.com/wp-content/uploads/sites/12/2025/08/Frankenstein-Skate-2025-page-001-scaled.jpg
END:VEVENT
BEGIN:VEVENT
DTSTART;TZID=America/New_York:20251019T150000
DTEND;TZID=America/New_York:20251019T173000
DTSTAMP:20260421T155718
CREATED:20250805T183341Z
LAST-MODIFIED:20260401T190944Z
UID:21603-1760886000-1760895000@www.unitedskates.com
SUMMARY:Sunday Funday/Birthday Parties
DESCRIPTION:Book your Birthday Party! Birthday Parties available from 3:00pm-5:30pm \nAdmission at the door $14.00 \nAdmission Online $12.00 \nSkate Rental $6.00 \nFeaturing Pop and R&B Music Mix \nGet your Tickets Here! BUY HERE! \nAll 3–17-year-olds must pay admission and skate rental upon entering the facility.  Adults 18+ not skating may enter for free. All 12–17-year-olds must come into our facility with a parent or guardian that is 25 years or age or older. We are only allowing two (2) 12–17-year-olds per one parent or guardian 25 and over. The parent/guardian must stay with the teenager the entire time while in the facility. If the parent/guardian leaves the facility the teen must leave with parent/guardian. No drop off of teens or children into our facility is permitted. No drop off of teens or children to another parent into our facility is permitted. Teenagers 12-17 with their own skates are permitted without a parent if they skate the entire time. Teens asked to keep skates on repeatedly will be asked to leave with no refund.
URL:https://www.unitedskates.com/wickliffe/event/sunday-funday-birthday-parties-6/2025-10-19/
CATEGORIES:Family Events,Special Events
ATTACH;FMTTYPE=image/jpeg:https://unitedskates-assets.sfo3.digitaloceanspaces.com/wp-content/uploads/sites/12/2023/07/800px-Sunday-Funday-2022-1200x900-1.jpg
END:VEVENT
BEGIN:VEVENT
DTSTART;TZID=America/New_York:20251024T213000
DTEND;TZID=America/New_York:20251025T003000
DTSTAMP:20260421T155718
CREATED:20250805T194347Z
LAST-MODIFIED:20250805T211153Z
UID:21848-1761341400-1761352200@www.unitedskates.com
SUMMARY:Slashers Sip and Skate
DESCRIPTION:🎃🔪 Slashers Sip & Skate 🔪🎃21+ with Valid ID – A Night of Horror & Haunts on Wheels! \nReady for a spine-chilling good time? Join us for Slashers Sip & Skate where your favorite slashers come to life on the rink! 🛼💀 \n👻 Special appearances by: \n\n\nScream \n\n\nIT \n\n\nJason…and maybe even more terrifying guests lurking in the shadows! \n\n\n🍹 Only $20.00 gets you: \n\n\nAdmission + Skate Rental \n\n\n1 FREE Drink Ticket for a spooky sip on us! \n\n\n🖤 Come dressed as your favorite slasher — costumes encouraged!🎶 Killer beats and eerie vibes all night long \n📅Friday\, October 24th🕘9:30pm-12:30am🎟️ 21+ ONLY – Valid ID Required \nDare to skate with the legends of horror?Grab your friends\, your best costume\, and get ready for a frightfully fun night you won’t forget! \nGet your Tickets Here!
URL:https://www.unitedskates.com/wickliffe/event/slashers-sip-and-skate/
CATEGORIES:Adult Events,Public Skates,Special Events
ATTACH;FMTTYPE=image/jpeg:https://unitedskates-assets.sfo3.digitaloceanspaces.com/wp-content/uploads/sites/12/2025/08/Slashers-Sip-and-Skate.jpg
END:VEVENT
BEGIN:VEVENT
DTSTART;TZID=America/New_York:20251025T123000
DTEND;TZID=America/New_York:20251025T150000
DTSTAMP:20260421T155718
CREATED:20250820T200642Z
LAST-MODIFIED:20250824T004943Z
UID:22075-1761395400-1761404400@www.unitedskates.com
SUMMARY:Skate with Jason
DESCRIPTION:🔪🎃 Jason is Back… If You Dare! 🎃🔪 \nGet ready for a hair-raising\, thrill-packed skate session like no other! The legendary slasher Jason is taking over the rink\, and he wants YOU to skate… if you’re brave enough. 🛼💀 \nCome for the screams\, stay for the fun\, and make your Halloween unforgettable! \n🗓 Saturday\, October 25th⏰ 12:30pm–3:00pm💵 Admission: $13.00 | Skate Rental: $6.00 \n🍕💀 Jason’s Killer Deal includes: Only $35.00 \n\n\n1 Whole Pizza \n\n\n1 Pitcher of His Favorite Drink \n\n\n4 Orange Glow Sticks \n\n\n4 Halloween Souvenirs \n\n\n🎉 Birthday Parties Available—BOOK NOW and turn your special day into a spooky celebration! Book Here! \nSkate with friends\, enjoy the thrills\, grab your glow sticks\, and make memories that will haunt you (in a good way)! Don’t miss your chance to roll with the ultimate horror icon—Jason is waiting… \nSave a $1.00 when you buy online. BUY HERE!
URL:https://www.unitedskates.com/wickliffe/event/skate-with-jason/
CATEGORIES:Family Events,Public Skates,Special Events
ATTACH;FMTTYPE=image/jpeg:https://unitedskates-assets.sfo3.digitaloceanspaces.com/wp-content/uploads/sites/12/2025/08/Skate-with-Jason-.jpg
END:VEVENT
BEGIN:VEVENT
DTSTART;TZID=America/New_York:20251025T193000
DTEND;TZID=America/New_York:20251025T220000
DTSTAMP:20260421T155718
CREATED:20250820T202224Z
LAST-MODIFIED:20250821T180126Z
UID:22077-1761420600-1761429600@www.unitedskates.com
SUMMARY:Fright Night Roll Bounce
DESCRIPTION:👻🎃 Fright Night Roll Bounce is Back… If You Dare! 🎃👻 \nGrab your friends\, bring your family\, and get ready for a spine-tingling\, music-pumping Halloween skate for all ages! 🛼💀 \nThis year\, we’ve added a twist of terror—Ghostface and Scream are making a special appearance. Can you find them… or will they find YOU? 😱 \n🎶 Groove to the hottest R&B\, Hip-Hop\, and Halloween hits while skating under the spooky lights. \n🗓 Saturday\, October 25th⏰ 7:30pm–10:00pm💵 Admission: $14.00 | Skate Rental: $6.00 \n🎉 Birthday Parties Available—BOOK NOW and make it a fright night your friends and family will never forget! Book Here! \nSkate\, scream\, dance\, and let the Halloween fun roll—are you brave enough to join us? \nSave a $1.00 when you buy online. BUY HERE!
URL:https://www.unitedskates.com/wickliffe/event/fright-night-roll-bounce-2/
CATEGORIES:Family Events,Public Skates,Special Events
ATTACH;FMTTYPE=image/jpeg:https://unitedskates-assets.sfo3.digitaloceanspaces.com/wp-content/uploads/sites/12/2025/08/Fright-Night-Roll-Bounce-with-Jason-and-Ghost-Face.jpg
END:VEVENT
END:VCALENDAR