BEGIN:VCALENDAR
VERSION:2.0
PRODID:-//Rink 11 - Wickliffe - ECPv6.15.20//NONSGML v1.0//EN
CALSCALE:GREGORIAN
METHOD:PUBLISH
X-WR-CALNAME:Rink 11 - Wickliffe
X-ORIGINAL-URL:https://www.unitedskates.com/wickliffe
X-WR-CALDESC:Events for Rink 11 - Wickliffe
REFRESH-INTERVAL;VALUE=DURATION:PT1H
X-Robots-Tag:noindex
X-PUBLISHED-TTL:PT1H
BEGIN:VTIMEZONE
TZID:America/New_York
BEGIN:DAYLIGHT
TZOFFSETFROM:-0500
TZOFFSETTO:-0400
TZNAME:EDT
DTSTART:20240310T070000
END:DAYLIGHT
BEGIN:STANDARD
TZOFFSETFROM:-0400
TZOFFSETTO:-0500
TZNAME:EST
DTSTART:20241103T060000
END:STANDARD
BEGIN:DAYLIGHT
TZOFFSETFROM:-0500
TZOFFSETTO:-0400
TZNAME:EDT
DTSTART:20250309T070000
END:DAYLIGHT
BEGIN:STANDARD
TZOFFSETFROM:-0400
TZOFFSETTO:-0500
TZNAME:EST
DTSTART:20251102T060000
END:STANDARD
BEGIN:DAYLIGHT
TZOFFSETFROM:-0500
TZOFFSETTO:-0400
TZNAME:EDT
DTSTART:20260308T070000
END:DAYLIGHT
BEGIN:STANDARD
TZOFFSETFROM:-0400
TZOFFSETTO:-0500
TZNAME:EST
DTSTART:20261101T060000
END:STANDARD
END:VTIMEZONE
BEGIN:VEVENT
DTSTART;TZID=America/New_York:20250921T120000
DTEND;TZID=America/New_York:20250921T143000
DTSTAMP:20260421T205642
CREATED:20250805T192039Z
LAST-MODIFIED:20250812T152108Z
UID:21832-1758456000-1758465000@www.unitedskates.com
SUMMARY:Snoopy's Fall Fest Skate
DESCRIPTION:🍂🍎🎃 Snoopy’s Fall Fest Skate! 🎃🍎🍂A Skatin’ Good Time with All Your Fall Favorites! \nSnoopy is rolling into the season with a fun-filled Fall Fest on Wheels – and you’re invited! \n🛼 Fall-themed skating fun🎨 Fall crafts for all ages🍏 Bobbing for apples🌾 Hay bale toss & more festive games📸 Meet Snoopy & grab the cutest fall photo! \nSunday\, September 21st 12:00pm-2:30pm \nAdmission $13.00 \nSkate Rental $6.00 \nBring your flannels\, fall spirit\, and skating feet —Snoopy’s Fall Fest Skate is the perfect way to welcome the season! 🍁🐾 \nSave a $1.00! Buy your Tickets Here!
URL:https://www.unitedskates.com/wickliffe/event/snoopys-fall-fest-skate/
CATEGORIES:Family Events,Public Skates,Special Events
ATTACH;FMTTYPE=image/png:https://unitedskates-assets.sfo3.digitaloceanspaces.com/wp-content/uploads/sites/12/2025/08/Snoopys-Fall-Fest.png
END:VEVENT
BEGIN:VEVENT
DTSTART;TZID=America/New_York:20250926T213000
DTEND;TZID=America/New_York:20250927T000000
DTSTAMP:20260421T205642
CREATED:20250805T193759Z
LAST-MODIFIED:20250824T225822Z
UID:21844-1758922200-1758931200@www.unitedskates.com
SUMMARY:Hard Rock Adult Skate
DESCRIPTION:Hard🔥 🤘 Rock Adult Skate Night 🔥🤘 \n18+ ONLY with Valid ID \nGet ready to turn up the volume and hit the rink with serious attitude – it’s time for a night of pure rock mayhem on wheels! \n🛼 Crank it loud and skate hard to the heavy-hitting sounds of:⚡ Ozzy Osbourne⚡ AC/DC⚡ Black Sabbath⚡ Judas Priest⚡ …and more legendary rock icons that defined a generation! \n💥 Intense energy\, shredding solos\, and head-banging classics all session long🖤 Blacklights and flashing lights to set the stage🎸 Rock-inspired games\, giveaways & maybe even a surprise air guitar battle!🎟️ 18+ ONLY – Valid ID Required \n📅 Friday\, September 26th 🕘 9:30pm-12:00am💲 Admission $12.00 Skate Rental $6.00 \nThrow on your leather\, band tees\, and metal attitude –This isn’t your average skate night… it’s rock and roll on wheels. 🤘🛼 \nTickets Here!
URL:https://www.unitedskates.com/wickliffe/event/hard-rock-adult-skate/
CATEGORIES:Adult Events,Public Skates,Special Events
ATTACH;FMTTYPE=image/jpeg:https://unitedskates-assets.sfo3.digitaloceanspaces.com/wp-content/uploads/sites/12/2025/08/Hard-Rock-Adult-Skate.jpg
END:VEVENT
BEGIN:VEVENT
DTSTART;TZID=America/New_York:20250927T100000
DTEND;TZID=America/New_York:20250927T120000
DTSTAMP:20260421T205642
CREATED:20250908T193453Z
LAST-MODIFIED:20250908T201228Z
UID:22245-1758967200-1758974400@www.unitedskates.com
SUMMARY:KPOP Demon Hunters Glow Skate
DESCRIPTION:✨🎶 Guess who’s BACK?! 🎶✨She sings to keep the homoon together\, fights off demons\, AND leads the Huntrix… that’s right—it’s RUMI! 🛼💖 \nRumi had so much fun on her last visit that she’s coming back not once… not twice… but THREE times! 🙌 \n📅 Save the Dates: \n\n\nSaturday\, September 20th \n\n\nSaturday\, September 27th \n\n\nSaturday\, October 4th \n\n\n⏰ 10:00am–12:00pm (Rumi meet & greet 10:30am–11:30am) \n🎟️ Admission: Only $12.00👟 Skate Rental: $6.00 (or FREE with your own skates) \nBring your KPOP Demon Hunter–loving kids\, friends\, and family to kick off your Saturday mornings the right way—dancing\, singing\, skating\, and meeting Rumi herself! 💜 \nWILL SELL OUT! BUY YOUR TICKETS NOW!!! GET THEM HERE!
URL:https://www.unitedskates.com/wickliffe/event/kpop-demon-hunters-glow-skate/2025-09-27/
CATEGORIES:Family Events,Public Skates,Special Events
ATTACH;FMTTYPE=image/png:https://unitedskates-assets.sfo3.digitaloceanspaces.com/wp-content/uploads/sites/12/2025/09/K-Pop-Demon-Hunters-2025-1.png
END:VEVENT
END:VCALENDAR