BEGIN:VCALENDAR
VERSION:2.0
PRODID:-//Rink 11 - Wickliffe - ECPv6.15.20//NONSGML v1.0//EN
CALSCALE:GREGORIAN
METHOD:PUBLISH
X-WR-CALNAME:Rink 11 - Wickliffe
X-ORIGINAL-URL:https://www.unitedskates.com/wickliffe
X-WR-CALDESC:Events for Rink 11 - Wickliffe
REFRESH-INTERVAL;VALUE=DURATION:PT1H
X-Robots-Tag:noindex
X-PUBLISHED-TTL:PT1H
BEGIN:VTIMEZONE
TZID:America/New_York
BEGIN:DAYLIGHT
TZOFFSETFROM:-0500
TZOFFSETTO:-0400
TZNAME:EDT
DTSTART:20240310T070000
END:DAYLIGHT
BEGIN:STANDARD
TZOFFSETFROM:-0400
TZOFFSETTO:-0500
TZNAME:EST
DTSTART:20241103T060000
END:STANDARD
BEGIN:DAYLIGHT
TZOFFSETFROM:-0500
TZOFFSETTO:-0400
TZNAME:EDT
DTSTART:20250309T070000
END:DAYLIGHT
BEGIN:STANDARD
TZOFFSETFROM:-0400
TZOFFSETTO:-0500
TZNAME:EST
DTSTART:20251102T060000
END:STANDARD
BEGIN:DAYLIGHT
TZOFFSETFROM:-0500
TZOFFSETTO:-0400
TZNAME:EDT
DTSTART:20260308T070000
END:DAYLIGHT
BEGIN:STANDARD
TZOFFSETFROM:-0400
TZOFFSETTO:-0500
TZNAME:EST
DTSTART:20261101T060000
END:STANDARD
END:VTIMEZONE
BEGIN:VEVENT
DTSTART;TZID=America/New_York:20250803T130000
DTEND;TZID=America/New_York:20250803T153000
DTSTAMP:20260422T180249
CREATED:20250604T172815Z
LAST-MODIFIED:20250604T203239Z
UID:20783-1754226000-1754235000@www.unitedskates.com
SUMMARY:Friendship Skate
DESCRIPTION:🛼💖 Celebrate Friendship Day with Sunday Funday on the Rink! 💖🛼There’s no better way to celebrate Friendship Day than rolling with your besties! Bring your crew out for a special Sunday Funday filled with fun\, laughs\, and good vibes. \n🎉 Special Friendship Day Deal:🤝 BOGO Admission! Buy one admission\, get one FREE!📅 Sunday\, August 3rd | 1:00–3:30 PM(Roll in together\, save together!) \nAdmission $13.00 \nSkate Rental $6.00 \nWhether it’s your best friend\, sibling\, or favorite skate buddy — grab them and head to the rink for an unforgettable afternoon of skating fun!
URL:https://www.unitedskates.com/wickliffe/event/friendship-skate-2/
CATEGORIES:Family Events,Public Skates,Special Events
ATTACH;FMTTYPE=image/jpeg:https://unitedskates-assets.sfo3.digitaloceanspaces.com/wp-content/uploads/sites/12/2025/06/Friendship-Skate-august-page-001-scaled.jpg
END:VEVENT
BEGIN:VEVENT
DTSTART;TZID=America/New_York:20250805T123000
DTEND;TZID=America/New_York:20250805T150000
DTSTAMP:20260422T180249
CREATED:20250326T233506Z
LAST-MODIFIED:20250615T021428Z
UID:20146-1754397000-1754406000@www.unitedskates.com
SUMMARY:Icee's with Icee Bear
DESCRIPTION:Chill out with Icee Bear himself! \nJoin him for a cool day of skating and enjoying refreshing Icee’s. \nTuesday\, August 5th 12:30pm-3:00pm \nAdmission $11.00 \nSkate Rental $6.00 \nGet ready for some games\, Icee themed giveaways and so much more. \nBonus: Get a free kiddie Icee with every paid admission \nBook your daycare\, YMCA\, Summer Camp etc. Call our Sales Team 440-944-5301 \nSkip the line-buy your tickets online! BUY HERE!
URL:https://www.unitedskates.com/wickliffe/event/icees-with-icee-bear/
CATEGORIES:Family Events,Public Skates,Special Events
ATTACH;FMTTYPE=image/jpeg:https://unitedskates-assets.sfo3.digitaloceanspaces.com/wp-content/uploads/sites/12/2025/03/icee-bear-skate-summer-page-001-scaled.jpg
END:VEVENT
BEGIN:VEVENT
DTSTART;TZID=America/New_York:20250806T123000
DTEND;TZID=America/New_York:20250806T150000
DTSTAMP:20260422T180249
CREATED:20250326T222847Z
LAST-MODIFIED:20250615T015519Z
UID:20127-1754483400-1754492400@www.unitedskates.com
SUMMARY:Shark Attack Skate
DESCRIPTION:Brace yourself for Jabber Jaws! \nDive into a thrilling day filled with excitement as you skate with a shark! \nGet a chance to win shark themed prizes all session! \nThursday\, July 10th and Wednesday\, August 6th \nAdmission $10.00 \nSkate Rental $6.00 \nBook your daycare\, YMCA\, Summer Camp etc. Call our Sales Team 440-944-5301 \nSkip the line-buy your tickets online! BUY HERE! \n 
URL:https://www.unitedskates.com/wickliffe/event/shark-attack-skate-7/2025-08-06/
CATEGORIES:Family Events,Public Skates,Special Events
ATTACH;FMTTYPE=image/jpeg:https://unitedskates-assets.sfo3.digitaloceanspaces.com/wp-content/uploads/sites/12/2025/03/Shark-Attack-Skate-summer-page-001-scaled.jpg
END:VEVENT
BEGIN:VEVENT
DTSTART;TZID=America/New_York:20250806T180000
DTEND;TZID=America/New_York:20250806T203000
DTSTAMP:20260422T180249
CREATED:20250725T183320Z
LAST-MODIFIED:20250725T183320Z
UID:21491-1754503200-1754512200@www.unitedskates.com
SUMMARY:Ozzy Ozbourne Tribute Skate
DESCRIPTION:🕶️⚡ Get Ready to Pay Tribute to One of the Greatest! ⚡🕶️🎸 The Prince of Darkness is Calling… 🎸 \nJoin us for an unforgettable night as we crank up the volume and honor the legendary Ozzy Osbourne! 🤘 \nWednesday\, August 6th 6:00pm-8:30pm \nAdmission $10.00 \nSkate Rental $6.00 \nWe’re diving deep into the best of Ozzy\, Black Sabbath\, and more — from iconic riffs to bone-chilling vocals\, it’s a tribute worthy of rock royalty. 🎤🔥 \nWhether you’re a lifelong fan or just discovering the madness\, you won’t want to miss this electric tribute to the man\, the myth\, the bat-biting legend himself. 🦇 \nCome dressed in your best rocker gear and prepare to go off the rails on a crazy train! \nGet your tickets here
URL:https://www.unitedskates.com/wickliffe/event/ozzy-ozbourne-tribute-skate/
CATEGORIES:Family Events,Public Skates,Special Events
ATTACH;FMTTYPE=image/jpeg:https://unitedskates-assets.sfo3.digitaloceanspaces.com/wp-content/uploads/sites/12/2025/07/Ozzy-Osbourne-Tribute-Skate.jpg
END:VEVENT
BEGIN:VEVENT
DTSTART;TZID=America/New_York:20250807T123000
DTEND;TZID=America/New_York:20250807T150000
DTSTAMP:20260422T180249
CREATED:20250326T233737Z
LAST-MODIFIED:20250615T021509Z
UID:20148-1754569800-1754578800@www.unitedskates.com
SUMMARY:Laser Tag Skate
DESCRIPTION:Get ready for an epic Laser Tag Skate event! \nJoin us for adrenaline-pumping day where skating meets laser tag fun. \nThursday\, August 7th 12:30pm-3:00pm \nAdmission $10.00 \nSkate Rental $6.00 \nGet a free game of laser tag with every paid admission \nBook your daycare\, YMCA\, Summer Camp etc. Call our Sales Team 440-944-5301 \nSkip the line-buy your tickets online! BUY HERE!
URL:https://www.unitedskates.com/wickliffe/event/laser-tag-skate/
CATEGORIES:Family Events,Public Skates,Special Events
ATTACH;FMTTYPE=image/jpeg:https://unitedskates-assets.sfo3.digitaloceanspaces.com/wp-content/uploads/sites/12/2022/06/laser-tag-website.jpg
END:VEVENT
BEGIN:VEVENT
DTSTART;TZID=America/New_York:20250808T180000
DTEND;TZID=America/New_York:20250808T210000
DTSTAMP:20260422T180249
CREATED:20250604T171501Z
LAST-MODIFIED:20250615T021549Z
UID:20773-1754676000-1754686800@www.unitedskates.com
SUMMARY:Back to School Skate
DESCRIPTION:📚🛼 Back to School Skate Bash! 🛼📚Back to school season is here — but before the homework starts\, let’s have one last round of fun on wheels! \nJoin us for our Back-to-School Skate featuring our mischievous Minion\, who’s rolling in with a backpack full of surprises! \nFriday\, August 8th 6:00pm-9:00pm \nAdmission $13.00 \nSkate Rental $6.00 \n🎒 Giveaways all session long!✨ Win awesome school supplies — from book bags to notebooks\, pencils\, and more!🎶 Skating\, music\, and mischief with our favorite yellow troublemaker! \nLet’s kick off the school year with good vibes\, cool prizes\, and one final celebration before the bell rings! \nSkip the line-buy your tickets online! BUY HERE!
URL:https://www.unitedskates.com/wickliffe/event/back-to-school-skate-2/
CATEGORIES:Family Events,Public Skates,Special Events
ATTACH;FMTTYPE=image/jpeg:https://unitedskates-assets.sfo3.digitaloceanspaces.com/wp-content/uploads/sites/12/2025/06/Back-to-School-Despicable-Me-Skate-page-001-scaled.jpg
END:VEVENT
BEGIN:VEVENT
DTSTART;TZID=America/New_York:20250808T213000
DTEND;TZID=America/New_York:20250809T000000
DTSTAMP:20260422T180249
CREATED:20250604T171910Z
LAST-MODIFIED:20250617T200209Z
UID:20775-1754688600-1754697600@www.unitedskates.com
SUMMARY:Gospel Back to School Skate
DESCRIPTION:🛼🙏 Gospel Skate Is Back — with a Back-to-School Blessing! 🙏🛼Join us for a special edition of our beloved Gospel Skate Night\, now with a Back to School twist! \nLet’s come together in faith\, fun\, and fellowship as we roll into the new school year with uplifting music\, good vibes\, and a spirit of community. \nFriday\, August 8th 9:30pm-12:00am \nAdmission $13.00 \nSkate Rental $6.00 \n📚✨ This special session will include:🎶 Inspirational gospel music to skate to🎒 Back-to-school giveaways to get students ready🙏 A positive\, family-friendly atmosphere full of love and encouragement \nWhether you’re skating or praising\, it’s the perfect way to prepare for the school year ahead — with joy\, unity\, and grace. \nBook your group fun night out our fundraiser today! Call Amber for more information 440-944-5301 \nSkip the line-buy your tickets online! BUY HERE!
URL:https://www.unitedskates.com/wickliffe/event/gospel-back-to-school-skate/
CATEGORIES:Family Events,Public Skates,Special Events
ATTACH;FMTTYPE=image/jpeg:https://unitedskates-assets.sfo3.digitaloceanspaces.com/wp-content/uploads/sites/12/2025/06/Back-to-School-Gospel-Skate.jpg
END:VEVENT
BEGIN:VEVENT
DTSTART;TZID=America/New_York:20250809T123000
DTEND;TZID=America/New_York:20250809T150000
DTSTAMP:20260422T180249
CREATED:20250604T173455Z
LAST-MODIFIED:20250604T210531Z
UID:20789-1754742600-1754751600@www.unitedskates.com
SUMMARY:Sanario Skate
DESCRIPTION:🎀🛼 Calling All Sanrio Fans — Hello Kitty is Back! 🛼🎀Guess who’s back from vacation and ready to roll? That’s right — Hello Kitty is lacing up her skates and heading to the rink to party with YOU! \nJoin us for a Sanrio-filled skate session packed with fun\, smiles\, and your favorite adorable character. \nSaturday\, August 9th 12:30pm-3:00pm \nAdmission $13.00 \nSkate Rental $6.00 \n🎁 All session long\, we’ll be giving away:✨ Sanrio-themed prizes — from cute collectibles to sweet surprises! \nDon’t miss your chance to skate\, twirl\, and celebrate with Hello Kitty and friends. It’s going to be kawaii levels of fun!
URL:https://www.unitedskates.com/wickliffe/event/sanario-skate/
CATEGORIES:Family Events,Public Skates,Special Events
ATTACH;FMTTYPE=image/jpeg:https://unitedskates-assets.sfo3.digitaloceanspaces.com/wp-content/uploads/sites/12/2025/06/Sanrio-skate-2024-1-page-001-1-scaled.jpg
END:VEVENT
END:VCALENDAR