BEGIN:VCALENDAR
VERSION:2.0
PRODID:-//Rink 11 - Wickliffe - ECPv6.15.20//NONSGML v1.0//EN
CALSCALE:GREGORIAN
METHOD:PUBLISH
X-WR-CALNAME:Rink 11 - Wickliffe
X-ORIGINAL-URL:https://www.unitedskates.com/wickliffe
X-WR-CALDESC:Events for Rink 11 - Wickliffe
REFRESH-INTERVAL;VALUE=DURATION:PT1H
X-Robots-Tag:noindex
X-PUBLISHED-TTL:PT1H
BEGIN:VTIMEZONE
TZID:America/New_York
BEGIN:DAYLIGHT
TZOFFSETFROM:-0500
TZOFFSETTO:-0400
TZNAME:EDT
DTSTART:20240310T070000
END:DAYLIGHT
BEGIN:STANDARD
TZOFFSETFROM:-0400
TZOFFSETTO:-0500
TZNAME:EST
DTSTART:20241103T060000
END:STANDARD
BEGIN:DAYLIGHT
TZOFFSETFROM:-0500
TZOFFSETTO:-0400
TZNAME:EDT
DTSTART:20250309T070000
END:DAYLIGHT
BEGIN:STANDARD
TZOFFSETFROM:-0400
TZOFFSETTO:-0500
TZNAME:EST
DTSTART:20251102T060000
END:STANDARD
BEGIN:DAYLIGHT
TZOFFSETFROM:-0500
TZOFFSETTO:-0400
TZNAME:EDT
DTSTART:20260308T070000
END:DAYLIGHT
BEGIN:STANDARD
TZOFFSETFROM:-0400
TZOFFSETTO:-0500
TZNAME:EST
DTSTART:20261101T060000
END:STANDARD
END:VTIMEZONE
BEGIN:VEVENT
DTSTART;TZID=America/New_York:20250420T150000
DTEND;TZID=America/New_York:20250420T200000
DTSTAMP:20260423T165827
CREATED:20250122T211453Z
LAST-MODIFIED:20250203T212733Z
UID:19272-1745161200-1745179200@www.unitedskates.com
SUMMARY:Easter Character Explosion
DESCRIPTION:Get ready an Easter Explosion like no other! \nThe Easter Bunny is all set to kick off festivities and have the biggest party of the year! \nHe is even bringing along some of his friends to join this big celebration! From the beloved Mario to the speedy Sonic and many more!! \nSunday\, April 20th 3:00pm-8:00pm \nGet The Easter Bunnies deal only $20.00 includes admission\, 20 game credits and a game of laser tag \nNormal Admission $15.00 includes skate rental \nNon-skating adults $10.00 \nDo not forget your cameras! Picture opportunities are available! \nMake sure to stop by our color and craft table. \nBONUS! You can get your Face Painted from 3:30pm-6:30pm; you can even look like the Easter Bunny! \nThis is Family Fun for Everyone!!!
URL:https://www.unitedskates.com/wickliffe/event/easter-sunday-skate-2/
CATEGORIES:Family Events,Public Skates,Special Events
ATTACH;FMTTYPE=image/jpeg:https://unitedskates-assets.sfo3.digitaloceanspaces.com/wp-content/uploads/sites/12/2025/01/easter-sunday-explosion-skate-2025-page-001-scaled.jpg
END:VEVENT
BEGIN:VEVENT
DTSTART;TZID=America/New_York:20250420T210000
DTEND;TZID=America/New_York:20250421T020000
DTSTAMP:20260423T165827
CREATED:20250122T212332Z
LAST-MODIFIED:20250130T225702Z
UID:19274-1745182800-1745200800@www.unitedskates.com
SUMMARY:Bad Bunny Adult Skate
DESCRIPTION:It’s Easter Night! This is for just the adults! \nSunday\, April 20th 9:00pm-2:00am \nAdmission $13.00 \nSkate Rental $6.00 \n18+ with valid ID \n 
URL:https://www.unitedskates.com/wickliffe/event/bad-bunny-adult-skate-2/
CATEGORIES:Adult Events,Special Events
ATTACH;FMTTYPE=image/jpeg:https://unitedskates-assets.sfo3.digitaloceanspaces.com/wp-content/uploads/sites/12/2025/01/bad-bunny-adult-skate-2025-11.jpg
END:VEVENT
BEGIN:VEVENT
DTSTART;TZID=America/New_York:20250425T183000
DTEND;TZID=America/New_York:20250425T210000
DTSTAMP:20260423T165827
CREATED:20250226T151548Z
LAST-MODIFIED:20250226T200055Z
UID:19933-1745605800-1745614800@www.unitedskates.com
SUMMARY:SpongeBob Skate
DESCRIPTION:Get ready for some underwater excitement! \nYour favorite yellow sponge\, who resides beneath the sea\, is making a splash and returning to kick off your weekend with FUN! \nFriday\, April 25th 6:30pm-9:00pm \nOnly $18.00 includes admission\, skate rental\, and a game of laser tag \nHe is all set to bring the fun\, he is even up for a thrilling laser tag battle with you! \nJoin in on the adventure and make unforgettable memories this weekend. \nDon’t miss out on all the fun! \nGreat theme for a birthday party! Book Now!
URL:https://www.unitedskates.com/wickliffe/event/spongebob-skate-5/
CATEGORIES:Family Events,Public Skates,Special Events
ATTACH;FMTTYPE=image/jpeg:https://unitedskates-assets.sfo3.digitaloceanspaces.com/wp-content/uploads/sites/12/2025/02/spongebob-SKATE-2025-page-001-scaled.jpg
END:VEVENT
BEGIN:VEVENT
DTSTART;TZID=America/New_York:20250425T213000
DTEND;TZID=America/New_York:20250426T000000
DTSTAMP:20260423T165827
CREATED:20240821T154806Z
LAST-MODIFIED:20240821T155044Z
UID:17700-1745616600-1745625600@www.unitedskates.com
SUMMARY:Faith and Family Pizza Skate
DESCRIPTION:We are thrilled to announce that our Faith and Family Pizza Skate is BACK! \nThis special event promises an evening brimming with joy\, laughter\, and mouthwatering pizza\, all set against the backdrop of uplifting music and delightful skating. \nGather your congregations\, friends and loved ones for this wonderful opportunity to strengthen family bonds and create treasured memories as we come together to celebrate our faith in a warm and inviting atmosphere. \nFriday\, April 25th 9:30pm-12:00am \nOnly $13.00 per person includes admission\, skate rental\, and a slice of cheese pizza \nPizza is served from 10:00pm-11:30pm \nBring your appetite and enthusiasm\, as we look forward to welcoming families from our community for this unforgettable night of fun and fellowship! \nWe can’t wait to see you all there! \nAdvanced reservations are required! Call our Sales Team today 440-944-5301
URL:https://www.unitedskates.com/wickliffe/event/faith-and-family-pizza-skate/
CATEGORIES:Family Events,Public Skates,Special Events
ATTACH;FMTTYPE=image/jpeg:https://unitedskates-assets.sfo3.digitaloceanspaces.com/wp-content/uploads/sites/12/2024/08/Faith-Family-Pizza-Skate-2025-page-001-scaled.jpg
END:VEVENT
BEGIN:VEVENT
DTSTART;TZID=America/New_York:20250426T123000
DTEND;TZID=America/New_York:20250426T150000
DTSTAMP:20260423T165827
CREATED:20250226T162222Z
LAST-MODIFIED:20250226T201032Z
UID:19947-1745670600-1745679600@www.unitedskates.com
SUMMARY:Disney Throwback Music Skate
DESCRIPTION:We’re bringing back the nostalgia with a special event featuring the greatest hits from beloved Disney TV shows! \nGet ready to jam out to iconic songs from Cheetah Girls\, Jonas Brothers\, Hannah Montana\, and so much more! \nBut that’s not all-we’ll also be mixing in today’s hottest pop hits to keep the energy alive! \nSaturday\, April 26th 12:30pm-3:00pm \nAdmission $12.00 \nSkate Rental $6.00 \nJoin us for a fantastic trip down memory lane\, where you can sing\, dance\, and relive those unforgettable childhood moments. \nDon’t miss out on this epic musical celebration.
URL:https://www.unitedskates.com/wickliffe/event/disney-throwback-music-skate/
CATEGORIES:Family Events,Public Skates,Special Events
ATTACH;FMTTYPE=image/jpeg:https://unitedskates-assets.sfo3.digitaloceanspaces.com/wp-content/uploads/sites/12/2025/02/Throwback-Disney-Skate-page-001-scaled.jpg
END:VEVENT
END:VCALENDAR