BEGIN:VCALENDAR
VERSION:2.0
PRODID:-//Rink 11 - Wickliffe - ECPv6.15.20//NONSGML v1.0//EN
CALSCALE:GREGORIAN
METHOD:PUBLISH
X-ORIGINAL-URL:https://www.unitedskates.com/wickliffe
X-WR-CALDESC:Events for Rink 11 - Wickliffe
REFRESH-INTERVAL;VALUE=DURATION:PT1H
X-Robots-Tag:noindex
X-PUBLISHED-TTL:PT1H
BEGIN:VTIMEZONE
TZID:America/New_York
BEGIN:DAYLIGHT
TZOFFSETFROM:-0500
TZOFFSETTO:-0400
TZNAME:EDT
DTSTART:20240310T070000
END:DAYLIGHT
BEGIN:STANDARD
TZOFFSETFROM:-0400
TZOFFSETTO:-0500
TZNAME:EST
DTSTART:20241103T060000
END:STANDARD
BEGIN:DAYLIGHT
TZOFFSETFROM:-0500
TZOFFSETTO:-0400
TZNAME:EDT
DTSTART:20250309T070000
END:DAYLIGHT
BEGIN:STANDARD
TZOFFSETFROM:-0400
TZOFFSETTO:-0500
TZNAME:EST
DTSTART:20251102T060000
END:STANDARD
BEGIN:DAYLIGHT
TZOFFSETFROM:-0500
TZOFFSETTO:-0400
TZNAME:EDT
DTSTART:20260308T070000
END:DAYLIGHT
BEGIN:STANDARD
TZOFFSETFROM:-0400
TZOFFSETTO:-0500
TZNAME:EST
DTSTART:20261101T060000
END:STANDARD
END:VTIMEZONE
BEGIN:VEVENT
DTSTART;TZID=America/New_York:20250314T123000
DTEND;TZID=America/New_York:20250331T013000
DTSTAMP:20260423T175155
CREATED:20250228T205339Z
LAST-MODIFIED:20250228T205339Z
UID:19969-1741955400-1743384600@www.unitedskates.com
SUMMARY:🎉 Spring Break Skating Fun at United Skates Wickliffe! 🛼
DESCRIPTION:School’s out\, and the Spring Break excitement is rolling in! Join us for non-stop fun\, themed skate days\, special giveaways\, and family-friendly activities all week long! \n🔥 What’s Happening?✅ Themed Skate Parties – Disney Day\, Superhero Skate\, Mario’s Game Card Day & more! 🎭🎮✅ Glow & Magic Skates – Light up the rink and experience magical fun! ✨✅ Free Treats & Giveaways – Free cookies\, icee prizes\, glow sticks & more! 🍪🍦✅ Meet Special Characters & Guests – Walking magician\, Jungle Terry\, Olaf\, and more! 🦁🧙‍♂️✅ Family & Adult Skate Sessions – Fun for all ages\, plus 18+ adult skate nights! 🎶 \n📅 Spring Break Fun Runs from March 19 – March 30! \n📍 Location: 30325 Palisades Pkwy\, Wickliffe\, OH 44092📞 Call for details: 440-944-5301 \n✨ Don’t miss out—grab your friends\, lace up your skates\, and make this Spring Break unforgettable!
URL:https://www.unitedskates.com/wickliffe/event/%f0%9f%8e%89-spring-break-skating-fun-at-united-skates-wickliffe-%f0%9f%9b%bc/
CATEGORIES:Family Events,Public Skates,Special Events
ATTACH;FMTTYPE=image/jpeg:https://unitedskates-assets.sfo3.digitaloceanspaces.com/wp-content/uploads/sites/12/2025/02/Spring-Break-2025-Calendar-Front-rink-11.jpg
END:VEVENT
BEGIN:VEVENT
DTSTART;TZID=America/New_York:20250323T123000
DTEND;TZID=America/New_York:20250323T150000
DTSTAMP:20260423T175155
CREATED:20250123T181734Z
LAST-MODIFIED:20250129T180332Z
UID:19295-1742733000-1742742000@www.unitedskates.com
SUMMARY:Olaf's Summer Wish
DESCRIPTION:Guess who’s making a spectacular comeback? \nIt’s Olaf\, the lovable snowman who radiates warmth and joy. \nDespite being crafted from snow\, he has an unwavering passion for the summer season! He cannot wait till it’s Summer Time! \nJoin him on his day of wishing it was Summer \nSunday\, March 23rd 12:30pm-3:00pm \nAdmission $12.00 \nSkate Rental $6.00 \nYou won’t want to miss Olaf’s enchanting Summer Wish Skate\, where laughter\, fun and delightful memories are sure to unfold. \nSummer prize giveaways all session long. \nGreat theme for your child’s birthday party! Book Now!! \n 
URL:https://www.unitedskates.com/wickliffe/event/olafs-summer-wish/
CATEGORIES:Family Events,Public Skates,Special Events
ATTACH;FMTTYPE=image/jpeg:https://unitedskates-assets.sfo3.digitaloceanspaces.com/wp-content/uploads/sites/12/2025/01/Olaf-summer-wish-skate-page-001-scaled.jpg
END:VEVENT
BEGIN:VEVENT
DTSTART;TZID=America/New_York:20250324T103000
DTEND;TZID=America/New_York:20250324T170000
DTSTAMP:20260423T175155
CREATED:20250122T185740Z
LAST-MODIFIED:20250129T180943Z
UID:19224-1742812200-1742835600@www.unitedskates.com
SUMMARY:Game Day with Mario
DESCRIPTION:Mario is back and better than ever\, gearing up for an action-packed Game Day! \nJoin us for a day filled with excitement as you skate and play to your hearts content! \nMonday\, March 24th 10:30am-5:00pm \nAdmission $12.00 \nSkate Rental $6.00 \nWith every paid admission you’ll receive a 10-credit game card to use on all your favorite arcade games. \nDon’t miss out on this fantastic opportunity to have a blast with Mario and your friends! \nMario will be out 11:30am\, 1:30pm and 3:30pm \nWe are taking bookings for groups\, daycares\, churches and more! Call our Sales Team for more information 440-944-5301
URL:https://www.unitedskates.com/wickliffe/event/game-day-with-mario/
CATEGORIES:Family Events,Public Skates,Special Events
ATTACH;FMTTYPE=image/jpeg:https://unitedskates-assets.sfo3.digitaloceanspaces.com/wp-content/uploads/sites/12/2025/01/Mario-Game-Day-spring-page-001-1-scaled.jpg
END:VEVENT
BEGIN:VEVENT
DTSTART;TZID=America/New_York:20250325T103000
DTEND;TZID=America/New_York:20250325T170000
DTSTAMP:20260423T175155
CREATED:20250122T190525Z
LAST-MODIFIED:20250129T182247Z
UID:19226-1742898600-1742922000@www.unitedskates.com
SUMMARY:Icee Skate with Icee Bear
DESCRIPTION:Get ready for an exciting experience because it’s all about Icee! \nDid you have the chance to meet Icee Bear at his previous event? If not\, you definitely don’t want to miss him this time around. \nIcee Bear is back and hosting another thrilling Icee Skate! \nTuesday\, March 25th 10:30am-5:00pm \nAdmission $12.00 \nSkate Rental $6.00 \nJoin us for a fantastic day filled with icee-themed prizes that you can win throughout the event. \nIcee bear will out at 11:30am\, 1:30pm and 3:30pm \nWe are now taking bookings for groups\, daycares\, churches and more! Call our Sales Team today 440-944-5301 \n 
URL:https://www.unitedskates.com/wickliffe/event/icee-skate-with-icee-bear/
CATEGORIES:Family Events,Public Skates,Special Events
ATTACH;FMTTYPE=image/jpeg:https://unitedskates-assets.sfo3.digitaloceanspaces.com/wp-content/uploads/sites/12/2025/01/icee-bear-skate-editable-page-001-1-scaled.jpg
END:VEVENT
BEGIN:VEVENT
DTSTART;TZID=America/New_York:20250326T103000
DTEND;TZID=America/New_York:20250326T170000
DTSTAMP:20260423T175155
CREATED:20250122T192403Z
LAST-MODIFIED:20250129T182719Z
UID:19228-1742985000-1743008400@www.unitedskates.com
SUMMARY:Skate into the Jungle
DESCRIPTION:Let’s skat into the Jungle!! \nDo you have a passion for animals? What about love for turtles\, snakes\, even skunks? \nHere’s your incredible opportunity to meet them all in person! \nWednesday\, March 26th 10:30am-5:00pm \nAdmission $12.00 \nSkate Rental $6.00 \nJungle Terry will be here from 12:30pm-1:15pm \nBonus! We will be giving away animal themed prizes all day long! \nDon’t miss out on this wild adventure! \nWe are now taking bookings for groups\, daycares\, churches and more! Call our Sales Team Today 440-944-5301!
URL:https://www.unitedskates.com/wickliffe/event/skate-into-the-jungle-2/
CATEGORIES:Family Events,Public Skates,Special Events
ATTACH;FMTTYPE=image/jpeg:https://unitedskates-assets.sfo3.digitaloceanspaces.com/wp-content/uploads/sites/12/2025/01/SKATE-into-the-JUNGLE-rink-11-page-001-scaled.jpg
END:VEVENT
BEGIN:VEVENT
DTSTART;TZID=America/New_York:20250327T103000
DTEND;TZID=America/New_York:20250327T170000
DTSTAMP:20260423T175155
CREATED:20250122T193052Z
LAST-MODIFIED:20250129T191918Z
UID:19230-1743071400-1743094800@www.unitedskates.com
SUMMARY:Superhero Day
DESCRIPTION:It’s all about celebrating superheroes! \nWe invite you to come dressed in your favorite superhero attire and get ready to skate the day away in style! \nAs you glide around\, don’t forget that there will be an array of thrilling superhero prizes available throughout the entire session! \nThursday\, March 27th 10:30am-5:00pm \nAdmission $12.00 \nSkate Rental $6.00 \nThis is your chance to not only showcase your heroic spirit but also to have a blast with fellow fans. \nJoin us for a day filled with fun\, excitement\, and unforgettable memories. \nWe are now taking bookings for groups\, daycares\, churches and more! Call our Sales Team Today 440-944-5301. \nBonus: There might even be a special appearance by a Superhero! Come and find out who it is!
URL:https://www.unitedskates.com/wickliffe/event/superhero-day/
CATEGORIES:Family Events,Public Skates,Special Events
ATTACH;FMTTYPE=image/jpeg:https://unitedskates-assets.sfo3.digitaloceanspaces.com/wp-content/uploads/sites/12/2025/01/mystery-super-hero-skate-editable-page-001-scaled.jpg
END:VEVENT
BEGIN:VEVENT
DTSTART;TZID=America/New_York:20250328T103000
DTEND;TZID=America/New_York:20250328T170000
DTSTAMP:20260423T175155
CREATED:20250122T193530Z
LAST-MODIFIED:20250129T192311Z
UID:19232-1743157800-1743181200@www.unitedskates.com
SUMMARY:Bounce House Day
DESCRIPTION:Bounce House Day is back\, and we couldn’t be more excited!  Woo Hoo!! \nGet ready to bounce your way into the weekend with tons of fun and laughter! \nFriday\, March 28th 10:30am-5:00pm \nAdmission $12.00 \nSkate Rental $6.00 \nFree bounce house with paid admission \nWhether you’re a kid or just a kid at heart\, this is the perfect opportunity to jump\, play and enjoy a day filled with excitement. \nDon’t miss out on the bouncy fun! \nWe are now taking bookings for groups\, daycares\, churches and more! Call our Sales Team Today 440-944-5301.
URL:https://www.unitedskates.com/wickliffe/event/bounce-house-day-2/
CATEGORIES:Family Events,Public Skates,Special Events
ATTACH;FMTTYPE=image/jpeg:https://unitedskates-assets.sfo3.digitaloceanspaces.com/wp-content/uploads/sites/12/2024/03/bounce-house-skate.jpg
END:VEVENT
BEGIN:VEVENT
DTSTART;TZID=America/New_York:20250328T183000
DTEND;TZID=America/New_York:20250328T210000
DTSTAMP:20260423T175155
CREATED:20250122T205330Z
LAST-MODIFIED:20250129T193301Z
UID:19265-1743186600-1743195600@www.unitedskates.com
SUMMARY:Glow Bunny Skate
DESCRIPTION:We’re thrilled to announce that we’re kicking off April with a spectacular guest- the Easter Bunny himself! \nGet ready for a joyous celebration as he joins us to spread cheer and excitement. \nThis special appearance will be delightful experience\, complete with fun activities and a vibrant atmosphere that’s sure to make everything glow! \nFriday\, March 28th 6:30pm-9:00pm \nAdmission $12.00 \nSkate Rental $6.00 \nFree glowstick with paid admission \nWhether you’re bringing the kids or just looking to enjoy the festivities\, this event is perfect for everyone who loves to celebrate Spring and the spirit of Easter. \n 
URL:https://www.unitedskates.com/wickliffe/event/glow-bunny-skate-2/
CATEGORIES:Family Events,Public Skates,Special Events
ATTACH;FMTTYPE=image/jpeg:https://unitedskates-assets.sfo3.digitaloceanspaces.com/wp-content/uploads/sites/12/2025/01/Glow-Bunny-Jam-2025-page-001-scaled.jpg
END:VEVENT
BEGIN:VEVENT
DTSTART;TZID=America/New_York:20250328T213000
DTEND;TZID=America/New_York:20250329T003000
DTSTAMP:20260423T175155
CREATED:20240821T154148Z
LAST-MODIFIED:20240904T210154Z
UID:17698-1743197400-1743208200@www.unitedskates.com
SUMMARY:Spring Glow Gospel Skate
DESCRIPTION:Get ready to experience the magic of our Spring Glow Gospel Skate Night! \nJoin us for a fabulous celebration of the season of renewal\, featuring uplifting gospel music and a spectacular display of vibrant lights that will illuminate the night. \nThis is a perfect opportunity to gather your congregations\, families and friends for an evening filled with joy\, laughter\, and community spirit. \nCome and enjoy and unforgettable night of skating\, where we can embrace the beauty of spring together and create lasting memories. \nFriday\, March 28th 9:30pm-12:00am \nAdmission $11.00 \nSkate Rental $5.50 \nFree glow stick with paid admission \nYou won’t want to miss this radiant celebration of faith and fun! \nWe are eagerly looking forward to seeing everyone there! \nAdvanced reservations are required\, call our Sales Team to reserve 440-944-5301
URL:https://www.unitedskates.com/wickliffe/event/spring-glow-gospel-skate/
CATEGORIES:Family Events,Public Skates,Special Events
ATTACH;FMTTYPE=image/jpeg:https://unitedskates-assets.sfo3.digitaloceanspaces.com/wp-content/uploads/sites/12/2024/08/Spring-Gospel-Glow-Skate-page-001-scaled.jpg
END:VEVENT
BEGIN:VEVENT
DTSTART;TZID=America/New_York:20250329T103000
DTEND;TZID=America/New_York:20250329T123000
DTSTAMP:20260423T175155
CREATED:20250122T220202Z
LAST-MODIFIED:20250131T193224Z
UID:19288-1743244200-1743251400@www.unitedskates.com
SUMMARY:Sno Cones with Stitch
DESCRIPTION:Get ready for a cool and blue morning at Stitch’s Sno Cone Skate. \nJoin us for a refreshing skating event where you can enjoy delicious sno cone with your paid admission \nSaturday\, March 29th 10:30am-12:30pm \nAdmission $10.00 \nSkate Rental $6.00 \nStitch will be here to add to the excitement\, so come ready to dance\, skate\, and have an amazing time. \nBring your friends and family for a morning full of laughter\, fun activities and don’t forget that tasty blue sno cone.
URL:https://www.unitedskates.com/wickliffe/event/sno-cones-with-stitch/
CATEGORIES:Family Events,Public Skates,Special Events
ATTACH;FMTTYPE=image/jpeg:https://unitedskates-assets.sfo3.digitaloceanspaces.com/wp-content/uploads/sites/12/2025/01/Sno-cones-with-Stitch-2025-page-001-scaled.jpg
END:VEVENT
END:VCALENDAR