BEGIN:VCALENDAR
VERSION:2.0
PRODID:-//Rink 11 - Wickliffe - ECPv6.15.20//NONSGML v1.0//EN
CALSCALE:GREGORIAN
METHOD:PUBLISH
X-ORIGINAL-URL:https://www.unitedskates.com/wickliffe
X-WR-CALDESC:Events for Rink 11 - Wickliffe
REFRESH-INTERVAL;VALUE=DURATION:PT1H
X-Robots-Tag:noindex
X-PUBLISHED-TTL:PT1H
BEGIN:VTIMEZONE
TZID:America/New_York
BEGIN:DAYLIGHT
TZOFFSETFROM:-0500
TZOFFSETTO:-0400
TZNAME:EDT
DTSTART:20240310T070000
END:DAYLIGHT
BEGIN:STANDARD
TZOFFSETFROM:-0400
TZOFFSETTO:-0500
TZNAME:EST
DTSTART:20241103T060000
END:STANDARD
BEGIN:DAYLIGHT
TZOFFSETFROM:-0500
TZOFFSETTO:-0400
TZNAME:EDT
DTSTART:20250309T070000
END:DAYLIGHT
BEGIN:STANDARD
TZOFFSETFROM:-0400
TZOFFSETTO:-0500
TZNAME:EST
DTSTART:20251102T060000
END:STANDARD
BEGIN:DAYLIGHT
TZOFFSETFROM:-0500
TZOFFSETTO:-0400
TZNAME:EDT
DTSTART:20260308T070000
END:DAYLIGHT
BEGIN:STANDARD
TZOFFSETFROM:-0400
TZOFFSETTO:-0500
TZNAME:EST
DTSTART:20261101T060000
END:STANDARD
END:VTIMEZONE
BEGIN:VEVENT
DTSTART;TZID=America/New_York:20250314T123000
DTEND;TZID=America/New_York:20250331T013000
DTSTAMP:20260425T070039
CREATED:20250228T205339Z
LAST-MODIFIED:20250228T205339Z
UID:19969-1741955400-1743384600@www.unitedskates.com
SUMMARY:🎉 Spring Break Skating Fun at United Skates Wickliffe! 🛼
DESCRIPTION:School’s out\, and the Spring Break excitement is rolling in! Join us for non-stop fun\, themed skate days\, special giveaways\, and family-friendly activities all week long! \n🔥 What’s Happening?✅ Themed Skate Parties – Disney Day\, Superhero Skate\, Mario’s Game Card Day & more! 🎭🎮✅ Glow & Magic Skates – Light up the rink and experience magical fun! ✨✅ Free Treats & Giveaways – Free cookies\, icee prizes\, glow sticks & more! 🍪🍦✅ Meet Special Characters & Guests – Walking magician\, Jungle Terry\, Olaf\, and more! 🦁🧙‍♂️✅ Family & Adult Skate Sessions – Fun for all ages\, plus 18+ adult skate nights! 🎶 \n📅 Spring Break Fun Runs from March 19 – March 30! \n📍 Location: 30325 Palisades Pkwy\, Wickliffe\, OH 44092📞 Call for details: 440-944-5301 \n✨ Don’t miss out—grab your friends\, lace up your skates\, and make this Spring Break unforgettable!
URL:https://www.unitedskates.com/wickliffe/event/%f0%9f%8e%89-spring-break-skating-fun-at-united-skates-wickliffe-%f0%9f%9b%bc/
CATEGORIES:Family Events,Public Skates,Special Events
ATTACH;FMTTYPE=image/jpeg:https://unitedskates-assets.sfo3.digitaloceanspaces.com/wp-content/uploads/sites/12/2025/02/Spring-Break-2025-Calendar-Front-rink-11.jpg
END:VEVENT
BEGIN:VEVENT
DTSTART;TZID=America/New_York:20250316T123000
DTEND;TZID=America/New_York:20250316T150000
DTSTAMP:20260425T070039
CREATED:20250122T200746Z
LAST-MODIFIED:20250129T165922Z
UID:19250-1742128200-1742137200@www.unitedskates.com
SUMMARY:Leprechaun Lunch Skate
DESCRIPTION:Great News-our beloved leprechaun is back\, and he’s bringing something special with him! \nHe’s hosting his very own lunch skate\, and you’re invited to join the fun! \nThis is the perfect opportunity to take a break\, enjoy a delightful lunch\, and skate with friends while soaking in the festive atmosphere. \nSunday\, March 16th 12:30pm-3:00pm \nOnly $14.99 includes admission\, skate rental\, a slice of cheese pizza and a drink \nDon’t miss out on this chance to celebrate with our cheerful leprechaun and create wonderful memories! \nPizza and drinks are served from 1:00pm-2:30pm
URL:https://www.unitedskates.com/wickliffe/event/leprechaun-lunch-skate/
CATEGORIES:Family Events,Public Skates,Special Events
ATTACH;FMTTYPE=image/jpeg:https://unitedskates-assets.sfo3.digitaloceanspaces.com/wp-content/uploads/sites/12/2025/01/Leprechaun-Lunch-2024-page-001-1-scaled.jpg
END:VEVENT
BEGIN:VEVENT
DTSTART;TZID=America/New_York:20250316T213000
DTEND;TZID=America/New_York:20250317T023000
DTSTAMP:20260425T070039
CREATED:20250122T202541Z
LAST-MODIFIED:20250129T171053Z
UID:19252-1742160600-1742178600@www.unitedskates.com
SUMMARY:Adult Late Night Skate
DESCRIPTION:Adults let’s skate into your St. Patrick’s Day! \nKick off your St. Patrick’s Day celebration on the right skate! \nSunday\, March 16th 9:30pm-2:30am \nAdmission $13.00 \nSkate Rental $6.00 \n18+ with valid ID \n 
URL:https://www.unitedskates.com/wickliffe/event/adult-late-night-skate-5/
CATEGORIES:Adult Events,Special Events
ATTACH;FMTTYPE=image/jpeg:https://unitedskates-assets.sfo3.digitaloceanspaces.com/wp-content/uploads/sites/12/2025/01/late-skate-2024-page-001-scaled.jpg
END:VEVENT
BEGIN:VEVENT
DTSTART;TZID=America/New_York:20250317T123000
DTEND;TZID=America/New_York:20250317T150000
DTSTAMP:20260425T070039
CREATED:20250122T194248Z
LAST-MODIFIED:20250129T172420Z
UID:19234-1742214600-1742223600@www.unitedskates.com
SUMMARY:AYCE St. Patrick's Day
DESCRIPTION:It’s St. Patrick’s Day\, and what better way to celebrate than spending the day with our very own St. Patrick! \nJoin us for a festive occasion as Patrick and SpongeBob make a special appearance\, hosting an all-you-can-eat pizza skate that you won’t want to miss! \nMonday\, March 17th 12:30pm-3:00pm and 3:30pm-6:30pm \nOnly $14.99 includes admission\, unlimited pizza\, drinks and a green glow stick \nNeed skate rental? Only $4.00 more. \nNon-skating adults $10.00 \nEnjoy delicious pizza while skating and soaking in the festive atmosphere. \nBring your friends and families for a day filled with fun\, laughter and plenty of green vibes. \nLet’s make this St. Patrick’s Day a memorable one. \nWe will have St. Patrick themed prizes all session long! \nWe are now taking bookings for groups\, daycares\, churches and more! Call our Sales Team Today 440-944-5301. \nPizza and drinks are served from 1:00pm-2:30pm and 4:00pm-6:00pm
URL:https://www.unitedskates.com/wickliffe/event/ayce-st-patricks-day/2025-03-17/
CATEGORIES:Family Events,Public Skates,Special Events
ATTACH;FMTTYPE=image/jpeg:https://unitedskates-assets.sfo3.digitaloceanspaces.com/wp-content/uploads/sites/12/2025/01/St-Patrick-s-Day-Skate-2025-page-001-scaled.jpg
END:VEVENT
BEGIN:VEVENT
DTSTART;TZID=America/New_York:20250319T123000
DTEND;TZID=America/New_York:20250319T150000
DTSTAMP:20260425T070039
CREATED:20250122T184204Z
LAST-MODIFIED:20250129T172838Z
UID:19218-1742387400-1742396400@www.unitedskates.com
SUMMARY:Disney Day
DESCRIPTION:Get ready for a magical Disney Day! \nWe’re mixing classic Disney tunes with today’s pop music! \nWednesday\, March 19th 12:30pm-3:00pm \nAdmission $12.00 \nSkate Rental $6.00 \nJoin us for fun Disney giveaways and a day full of enchantment. \nBonus: There might be some special appearances from some of your Disney Favorites…. \nWe are taking bookings for groups\, daycares\, churches and more! Call our Sales Team for more information 440-944-5301
URL:https://www.unitedskates.com/wickliffe/event/disney-day/
CATEGORIES:Family Events,Public Skates,Special Events
ATTACH;FMTTYPE=image/jpeg:https://unitedskates-assets.sfo3.digitaloceanspaces.com/wp-content/uploads/sites/12/2025/01/Disney-Mystery-Character-Skates-EDITABLE-page-001-scaled.jpg
END:VEVENT
BEGIN:VEVENT
DTSTART;TZID=America/New_York:20250320T123000
DTEND;TZID=America/New_York:20250320T150000
DTSTAMP:20260425T070039
CREATED:20250122T184540Z
LAST-MODIFIED:20250129T173404Z
UID:19220-1742473800-1742482800@www.unitedskates.com
SUMMARY:Rice Krispie Day
DESCRIPTION:Who’s ready to celebrate with a chance to win a massive Giant Rice Krispie treat? \nThis is your golden opportunity to indulge in a scrumptious\, crispy delight that’s sure to satisfy any sweet tooth. \nThursday\, March 20th 12:30pm-3:00pm \nAdmission $12.00 \nSkate Rental $6.00 \nRice Krispie giveaways all session long. \nWe are taking bookings for groups\, daycares\, churches and more! Call our Sales Team for more information 440-944-5301
URL:https://www.unitedskates.com/wickliffe/event/rice-krispie-day-2/
CATEGORIES:Family Events,Public Skates,Special Events
ATTACH;FMTTYPE=image/jpeg:https://unitedskates-assets.sfo3.digitaloceanspaces.com/wp-content/uploads/sites/12/2025/01/Rice-Krispie-Flyer-Skate-mar-page-001-scaled.jpg
END:VEVENT
BEGIN:VEVENT
DTSTART;TZID=America/New_York:20250321T123000
DTEND;TZID=America/New_York:20250321T150000
DTSTAMP:20260425T070039
CREATED:20250122T185215Z
LAST-MODIFIED:20250129T174000Z
UID:19222-1742560200-1742569200@www.unitedskates.com
SUMMARY:Laser Tag Day
DESCRIPTION:Are you a fan of laser tag? \nWell\, get excited because today is officially Laser Tag Day! \nJoin us for an exhilarating day filled with action and fun\, and don’t forget your roller skates! \nFriday\, March 21st 12:30pm-3:00pm \nAdmission $12.00 \nSkate Rental $6.00 \nEnjoy a thrilling roller-skating session and receive a FREE game of laser tag with your paid admission. \nIt’s the perfect way to unleash your competitive spirit and have a blast with friends and family. \nWe are taking bookings for groups\, daycares\, churches and more! Call our Sales Team for more information 440-944-5301
URL:https://www.unitedskates.com/wickliffe/event/laser-tag-day-2/
CATEGORIES:Family Events,Public Skates,Special Events
ATTACH;FMTTYPE=image/jpeg:https://unitedskates-assets.sfo3.digitaloceanspaces.com/wp-content/uploads/sites/12/2023/04/laser-tag-tile.jpg
END:VEVENT
BEGIN:VEVENT
DTSTART;TZID=America/New_York:20250321T183000
DTEND;TZID=America/New_York:20250321T210000
DTSTAMP:20260425T070039
CREATED:20250123T183513Z
LAST-MODIFIED:20250129T175008Z
UID:19326-1742581800-1742590800@www.unitedskates.com
SUMMARY:Sonic's Glow Roll
DESCRIPTION:We can hardly contain our excitement-Sonic is making his highly anticipated grand appearance! \nThe legendary speedster has finally zoomed his way to United Skates Wickliffe\, and it’s going to be an unforgettable event. \nGet ready for an action-packed night filled with skating\, fun activities and a chance to meet the fastest hedgehog around! \nFriday\, March 21st 6:30pm-9:00pm \nAdmission $12.00 \nSkate Rental $6.00 \nBonus!! It’s Sonic’s first ever glow roll! He is going to be giving away a FREE blue glow stick with paid admission \nGreat theme for your child’s birthday party! Book Now!!
URL:https://www.unitedskates.com/wickliffe/event/sonics-glow-roll/
CATEGORIES:Family Events,Public Skates,Special Events
ATTACH;FMTTYPE=image/jpeg:https://unitedskates-assets.sfo3.digitaloceanspaces.com/wp-content/uploads/sites/12/2025/01/sonic-glow-roll-editable-page-001-scaled.jpg
END:VEVENT
BEGIN:VEVENT
DTSTART;TZID=America/New_York:20250321T213000
DTEND;TZID=America/New_York:20250322T010000
DTSTAMP:20260425T070039
CREATED:20250220T201539Z
LAST-MODIFIED:20250220T201539Z
UID:19925-1742592600-1742605200@www.unitedskates.com
SUMMARY:Flashback Sip and Skate
DESCRIPTION:Attention all adults!! \nGet ready for an unforgettable evening at our Sip & Skate event\, where the roller rink is filled with nostalgia. \nWe’ll be jamming to the hottest tracks from the 80s\, 90s and 2000s\, bringing back those unforgettable memories \nFriday\, March 21st 9:30pm-1:00am \nOnly $20.00 including skate rental\, and 1 drink ticket \nThis is a 21+ gathering\, so grab your skates\, get one of your favorite drinks\, and let’s celebrate the golden era of music together. \nPrepare for a night of fun\, laughter\, and groovy vibes. \nDon’t miss out of this epic throwback celebration.
URL:https://www.unitedskates.com/wickliffe/event/flashback-sip-and-skate/
CATEGORIES:Adult Events,Special Events
ATTACH;FMTTYPE=image/jpeg:https://unitedskates-assets.sfo3.digitaloceanspaces.com/wp-content/uploads/sites/12/2025/02/flashback-Thursdays.jpg
END:VEVENT
BEGIN:VEVENT
DTSTART;TZID=America/New_York:20250322T103000
DTEND;TZID=America/New_York:20250322T123000
DTSTAMP:20260425T070039
CREATED:20250122T215707Z
LAST-MODIFIED:20250129T174357Z
UID:19286-1742639400-1742646600@www.unitedskates.com
SUMMARY:Goofy's Cookie Skate
DESCRIPTION:Get ready for a morning filled with fun at Goofy’s Cookie Skate! \nJoin us for an exciting morning of skating where you’ll get a FREE cookie with your paid admission \nSaturday\, March 22nd 10:30am-12:30pm \nAdmission $10.00 \nSkate Rental $6.00 \nBring your family and friends for a delightful morning\, meet Goofy\, take pictures and make lasting memories on the rink.
URL:https://www.unitedskates.com/wickliffe/event/goofys-cookie-skate/
CATEGORIES:Family Events,Public Skates,Special Events
ATTACH;FMTTYPE=image/jpeg:https://unitedskates-assets.sfo3.digitaloceanspaces.com/wp-content/uploads/sites/12/2025/01/Goofy-Cookie-Skate-2025-page-001-scaled.jpg
END:VEVENT
BEGIN:VEVENT
DTSTART;TZID=America/New_York:20250322T123000
DTEND;TZID=America/New_York:20250322T150000
DTSTAMP:20260425T070039
CREATED:20250123T183024Z
LAST-MODIFIED:20250131T194517Z
UID:19324-1742646600-1742655600@www.unitedskates.com
SUMMARY:Magic Day
DESCRIPTION:Get ready for an enchanting experience at the Magic Show Roller Skate!! \nPrepare to be amazed as a talented magician strolls through the rink\, performing mind-boggling magic tricks right before your eyes. \nSaturday\, March 22nd 12:30pm-3:00pm \nAdmission $12.00 \nSkate Rental $6.00 \nThe magician will be here from 1:00pm-2:00pm \nWhether it’s levitating objects or sleight of hand\, you’ll be captivated by the spellbinding performances while you skate your afternoon away. \nDon’t miss this thrilling fusion of skating and magic-join us for an afternoon filled with wonder and excitement.
URL:https://www.unitedskates.com/wickliffe/event/magic-day/
CATEGORIES:Family Events,Public Skates,Special Events
ATTACH;FMTTYPE=image/jpeg:https://unitedskates-assets.sfo3.digitaloceanspaces.com/wp-content/uploads/sites/12/2025/01/day-of-magic-v2.jpg
END:VEVENT
END:VCALENDAR