BEGIN:VCALENDAR
VERSION:2.0
PRODID:-//Rink 11 - Wickliffe - ECPv6.15.20//NONSGML v1.0//EN
CALSCALE:GREGORIAN
METHOD:PUBLISH
X-ORIGINAL-URL:https://www.unitedskates.com/wickliffe
X-WR-CALDESC:Events for Rink 11 - Wickliffe
REFRESH-INTERVAL;VALUE=DURATION:PT1H
X-Robots-Tag:noindex
X-PUBLISHED-TTL:PT1H
BEGIN:VTIMEZONE
TZID:America/New_York
BEGIN:DAYLIGHT
TZOFFSETFROM:-0500
TZOFFSETTO:-0400
TZNAME:EDT
DTSTART:20240310T070000
END:DAYLIGHT
BEGIN:STANDARD
TZOFFSETFROM:-0400
TZOFFSETTO:-0500
TZNAME:EST
DTSTART:20241103T060000
END:STANDARD
BEGIN:DAYLIGHT
TZOFFSETFROM:-0500
TZOFFSETTO:-0400
TZNAME:EDT
DTSTART:20250309T070000
END:DAYLIGHT
BEGIN:STANDARD
TZOFFSETFROM:-0400
TZOFFSETTO:-0500
TZNAME:EST
DTSTART:20251102T060000
END:STANDARD
BEGIN:DAYLIGHT
TZOFFSETFROM:-0500
TZOFFSETTO:-0400
TZNAME:EDT
DTSTART:20260308T070000
END:DAYLIGHT
BEGIN:STANDARD
TZOFFSETFROM:-0400
TZOFFSETTO:-0500
TZNAME:EST
DTSTART:20261101T060000
END:STANDARD
END:VTIMEZONE
BEGIN:VEVENT
DTSTART;VALUE=DATE:20250214
DTEND;VALUE=DATE:20250219
DTSTAMP:20260425T122654
CREATED:20250107T150230Z
LAST-MODIFIED:20250123T133443Z
UID:19172-1739509200-1739854799@www.unitedskates.com
SUMMARY:❤️🛼 Presidents Day Weekend 🛼❤️
DESCRIPTION:School’s Out—Let’s Skate This Presidents’ Day Weekend!\nCelebrate the long weekend with us at United Skates of Wickliffe! From exciting themed events and character appearances to family skating and glow fun\, there’s something for everyone to enjoy. Bring your friends and family for an action-packed holiday weekend on wheels! \nWeekend Event Highlights:\nFriday\, February 14: Valentine’s Day Fun! \n\nValentine’s Day Skate: 4:30 PM – 6:30 PM ($6.00 Admission).\nGrinch Stole Valentine’s Day: 6:30 PM – 9:00 PM ($12 Admission).\nRed Light Special Adult Skate (18+ with valid ID): 9:30 PM – 12:30 AM ($12 Admission).\n\nA special Valentine’s edition skate just for adults!\n\n\n\nSaturday\, February 15: Family Fun All Day! \n\nSno Cone Skate: 10:30 AM – 12:30 PM ($10 Admission).\nDucky Day Skate: 12:30 PM – 3:00 PM ($12 Admission).\nFamily Skate Sessions:\n\n4:00 PM – 6:30 PM and 6:30 PM – 9:00 PM ($12 Admission per session).\n\n\nSaturday Night Skate: 7:00 PM – 10:30 PM ($13 Admission).\n\nSunday\, February 16: Meet SpongeBob and More! \n\nPopsicles with SpongeBob: 12:30 PM – 3:00 PM ($12 Admission).\nFamily Skate Sessions:\n\n3:30 PM – 6:00 PM and 6:30 PM – 9:00 PM ($12 Admission per session).\n\n\nAdult Late-Night Skate (18+ with valid ID): 9:30 PM – 2:30 AM ($13 Admission).\n\nMonday\, February 17: Presidents’ Day Skating Fun! \n\nEarly Bird Skate: 10:00 AM – 12:00 PM ($8.00 Admission).\nSpiderman Skate: 12:30 PM – 3:00 PM ($12 Admission).\nPresidents’ Day Skate: 3:30 PM – 6:00 PM ($12 Admission).\nOld School Adult Skate (25+ with valid ID): 7:00 PM – 11:00 PM ($12 Admission).\n\nAffordable Family Fun:\n\nSkate Rentals: $6.00 additional.\nSkate Mate Rentals: $5.00 additional.\n\n📍 Visit us at 30325 Palisades Pkwy\, Wickliffe\, OH 44092.\n📞 Call 440-944-5301 or visit www.UnitedSkates.com/Wickliffe for more details. \nDon’t miss out on this Presidents’ Day Weekend filled with skating fun\, games\, and family-friendly activities. See you at the rink! \nCLICK HERE view special Presidents Day Weekend Schedule
URL:https://www.unitedskates.com/wickliffe/event/%e2%9d%a4%ef%b8%8f%f0%9f%9b%bc-presidents-day-weekend-%f0%9f%9b%bc%e2%9d%a4%ef%b8%8f/
CATEGORIES:Adult Events,Family Events,Public Skates,Special Events
ATTACH;FMTTYPE=image/jpeg:https://unitedskates-assets.sfo3.digitaloceanspaces.com/wp-content/uploads/sites/12/2025/01/Pres-day-weekend-2025-calendar-Front-rink11.jpg
END:VEVENT
BEGIN:VEVENT
DTSTART;TZID=America/New_York:20250216T123000
DTEND;TZID=America/New_York:20250216T150000
DTSTAMP:20260425T122654
CREATED:20241219T193448Z
LAST-MODIFIED:20241220T233542Z
UID:19116-1739709000-1739718000@www.unitedskates.com
SUMMARY:Popsicles with SpongeBob
DESCRIPTION:Get ready for a splashing good time because SpongeBob is kicking off Sunday Funday on the rink! \nJoin him for an afternoon filled with fun\, laughter\, and skating! \nSunday\, February 16th 12:30pm-3:00pm \nAdmission $12.00 \nSkate Rental $6.00 \nAnd guess what? He’s bringing along a special treat-one of his favorites\, a popsicle! \nHe is giving you one FREE with paid admission \nDon’t miss a chance to skate with SpongeBob and enjoy some delicious popsicles while making unforgettable memories. \nIf you have a SpongeBob FAN\, and their birthday is coming Book yours Now!! Have SpongeBob at your birthday party. \n 
URL:https://www.unitedskates.com/wickliffe/event/popsicles-with-spongebob-5/
CATEGORIES:Family Events,Public Skates,Special Events
ATTACH;FMTTYPE=image/jpeg:https://unitedskates-assets.sfo3.digitaloceanspaces.com/wp-content/uploads/sites/12/2024/03/Popsicles-with-Spongebob-rink11-1.jpg
END:VEVENT
BEGIN:VEVENT
DTSTART;TZID=America/New_York:20250216T213000
DTEND;TZID=America/New_York:20250217T023000
DTSTAMP:20260425T122654
CREATED:20241219T193838Z
LAST-MODIFIED:20241220T234438Z
UID:19118-1739741400-1739759400@www.unitedskates.com
SUMMARY:President's Day Late Night
DESCRIPTION:Attention Adults! \nWe’re kicking off Presidents’ Day with an exciting Late-Night Skate! \nJoin us for a night filled with fun\, music and great company! \nSunday\, February 16th 9:30pm-2:30am \nAdmission $13.00 \nSkate Rental $6.00 \n18+ with valid ID
URL:https://www.unitedskates.com/wickliffe/event/presidents-day-late-night/
CATEGORIES:Adult Events,Special Events
ATTACH;FMTTYPE=image/jpeg:https://unitedskates-assets.sfo3.digitaloceanspaces.com/wp-content/uploads/sites/12/2024/12/Presidents-Day-1-scaled.jpg
END:VEVENT
BEGIN:VEVENT
DTSTART;TZID=America/New_York:20250217T100000
DTEND;TZID=America/New_York:20250217T120000
DTSTAMP:20260425T122654
CREATED:20241219T194650Z
LAST-MODIFIED:20241219T194650Z
UID:19120-1739786400-1739793600@www.unitedskates.com
SUMMARY:Early Bird Skate
DESCRIPTION:Happy Presidents’ Day! No School Means it’s the perfect time to hit the rink and have some fun. \nJoin us for our Early Bird Skate and kick off the day with family and friends. \nMonday\, February 17th 10:00am-12:00pm \nAdmission $8.00 \nSkate Rental $6.00 \nEnjoy great music\, exciting skating\, and make the most of your day off. \nWe are taking bookings for groups\, daycares\, and more! Call our Sales Team today 440-944-5301
URL:https://www.unitedskates.com/wickliffe/event/early-bird-skate-5/
CATEGORIES:Family Events,Public Skates,Special Events
ATTACH;FMTTYPE=image/jpeg:https://unitedskates-assets.sfo3.digitaloceanspaces.com/wp-content/uploads/sites/12/2023/12/early-bird-skate.jpg
END:VEVENT
BEGIN:VEVENT
DTSTART;TZID=America/New_York:20250217T123000
DTEND;TZID=America/New_York:20250217T150000
DTSTAMP:20260425T122654
CREATED:20241219T195421Z
LAST-MODIFIED:20241219T195422Z
UID:19122-1739795400-1739804400@www.unitedskates.com
SUMMARY:Spider-Man Skate
DESCRIPTION:Happy Presidents’ Day! With no school today\, it’s the perfect opportunity to skate! \nGuess what?! Spider-Man is back and making a special appearance at the rink! \nJoin us for an action-packed day of skating fun\, and excitement as you meet your favorite web-slinger. \nMonday\, February 17th 12:30pm-3:00pm \nAdmission $12.00 \nSkate Rental $6.00 \nBring your family and friends for a memorable day filled with laughter and adventure. \nDon’t miss out on this chance to skate with Spider-Man.
URL:https://www.unitedskates.com/wickliffe/event/spider-man-skate-5/
CATEGORIES:Family Events,Public Skates,Special Events
ATTACH;FMTTYPE=image/jpeg:https://unitedskates-assets.sfo3.digitaloceanspaces.com/wp-content/uploads/sites/12/2024/03/spiderman-skate.jpg
END:VEVENT
BEGIN:VEVENT
DTSTART;TZID=America/New_York:20250217T153000
DTEND;TZID=America/New_York:20250217T180000
DTSTAMP:20260425T122654
CREATED:20241219T200103Z
LAST-MODIFIED:20241219T215847Z
UID:19124-1739806200-1739815200@www.unitedskates.com
SUMMARY:Presidents' Day Skate
DESCRIPTION:Happy Presidents’ Day! With no school today\, it’s the perfect time to grab your skates and hit the rink! \nJoin us for a fun filled early evening filled with skating\, music\, and great company. \nMonday\, February 17th 3:30pm-6:00pm \nAdmission $12.00 \nSkate Rental $6.00 \nIt’s a fantastic way to enjoy the day off with family and friends! \nPlay games\, laser tag and more! \n 
URL:https://www.unitedskates.com/wickliffe/event/presidents-day-skate-3/
CATEGORIES:Family Events,Public Skates,Special Events
ATTACH;FMTTYPE=image/jpeg:https://unitedskates-assets.sfo3.digitaloceanspaces.com/wp-content/uploads/sites/12/2024/12/Family-President-s-Day-Skate-2025-page-001-scaled.jpg
END:VEVENT
BEGIN:VEVENT
DTSTART;TZID=America/New_York:20250217T190000
DTEND;TZID=America/New_York:20250217T230000
DTSTAMP:20260425T122654
CREATED:20241219T201117Z
LAST-MODIFIED:20241220T235124Z
UID:19126-1739818800-1739833200@www.unitedskates.com
SUMMARY:Presidents' Day Old School Adult Skate
DESCRIPTION:Get ready to roll back in time with our Presidents’ Day-Old School Skate \nJoin us for a nostalgic skating experience featuring 80’s\, 90’s and Jazz Music. \nCelebrate the holiday on the rink \nMonday\, February 17th 7:00pm-11:00pm \nAdmission $12.00 \nSkate Rental $6.00 \n25+ with valid ID
URL:https://www.unitedskates.com/wickliffe/event/presidents-day-old-school-adult-skate/
CATEGORIES:Adult Events,Special Events
ATTACH;FMTTYPE=image/jpeg:https://unitedskates-assets.sfo3.digitaloceanspaces.com/wp-content/uploads/sites/12/2024/12/Presidents-Day-Flyer-Event-v1-2-scaled.jpg
END:VEVENT
BEGIN:VEVENT
DTSTART;TZID=America/New_York:20250221T183000
DTEND;TZID=America/New_York:20250221T210000
DTSTAMP:20260425T122654
CREATED:20241219T202148Z
LAST-MODIFIED:20241219T213311Z
UID:19128-1740162600-1740171600@www.unitedskates.com
SUMMARY:Neon Glow Night
DESCRIPTION:Get ready for an electrifying night at our Neon Glow Skate! \nCome dressed in your brightest colors and prepare to shine underneath our black lights \nFriday\, February 21st 6:30pm-9:00pm \nAdmission $12.00 \nSkate Rental $6.00 \nGet a Free glow stick with paid admission \nIt’s the perfect opportunity to show off your neon style and skate the night away! \nPlus\, do not miss the chance to get your face painted with vibrant neon designs. Available from 7:00pm-8:00pm \nBring your friends and let’s light up the night together with fun\, laughter and glowing memories. \nBook your Neon Glow Laser Tag Party NOW!
URL:https://www.unitedskates.com/wickliffe/event/neon-glow-night/
CATEGORIES:Family Events,Public Skates,Special Events
ATTACH;FMTTYPE=image/jpeg:https://unitedskates-assets.sfo3.digitaloceanspaces.com/wp-content/uploads/sites/12/2024/12/Neon-GLOW-skate-2024-1-page-001.jpg
END:VEVENT
BEGIN:VEVENT
DTSTART;TZID=America/New_York:20250221T213000
DTEND;TZID=America/New_York:20250222T000000
DTSTAMP:20260425T122654
CREATED:20240821T153646Z
LAST-MODIFIED:20240829T204215Z
UID:17696-1740173400-1740182400@www.unitedskates.com
SUMMARY:Peace and Love Gospel Skate
DESCRIPTION:We invite you to a delightful evening at the Peace and Love Gospel Skate Night! \nJoin us for an enriching experience filled with uplifting gospel melodies\, joyful skating\, and a celebration of unity and harmony within our community. \nThis is a wonderful opportunity to gather your friends and family as we come together to spread positivity and connect through faith\, music and fun \nFriday\, February 21st 9:30pm-12:00am \nAdmission $11.00 \nSkate Rental $5.50 \nReceive Peace and Love \nLet’s unite in love and joy as we skate\, sing\, and celebrate the spirit of peace together! \nWe are excited to see you all there. \nBe sure to reserve your congregation now! Call our sales team at 440-944-5301 \n 
URL:https://www.unitedskates.com/wickliffe/event/peace-and-love-gospel-skate/
CATEGORIES:Family Events,Public Skates,Special Events
ATTACH;FMTTYPE=image/jpeg:https://unitedskates-assets.sfo3.digitaloceanspaces.com/wp-content/uploads/sites/12/2024/08/Peace-and-Love-Gospel-Skate-page-001-scaled.jpg
END:VEVENT
BEGIN:VEVENT
DTSTART;TZID=America/New_York:20250222T103000
DTEND;TZID=America/New_York:20250222T123000
DTSTAMP:20260425T122654
CREATED:20241219T182931Z
LAST-MODIFIED:20241219T182932Z
UID:19080-1740220200-1740227400@www.unitedskates.com
SUMMARY:Ice Cream Sandwich Skate
DESCRIPTION:Kick off your Saturday morning with a delightful treat and some roller-skating fun! \nIt’s FREE Ice Cream Sandwich Day! \nGlid on over and enjoy a delicious ice cream sandwich with your paid admission. \nSaturday\, February 22nd 10:30am-12:30pm \nAdmission $10.00 \nSkate Rental $6.00 \nThis is the perfect way to start your weekend on a sweet note.
URL:https://www.unitedskates.com/wickliffe/event/ice-cream-sandwich-skate-7/
CATEGORIES:Family Events,Public Skates,Special Events
ATTACH;FMTTYPE=image/jpeg:https://unitedskates-assets.sfo3.digitaloceanspaces.com/wp-content/uploads/sites/12/2023/10/ice-sand-skate-rink-11-1.jpg
END:VEVENT
END:VCALENDAR