BEGIN:VCALENDAR
VERSION:2.0
PRODID:-//Rink 11 - Wickliffe - ECPv6.15.20//NONSGML v1.0//EN
CALSCALE:GREGORIAN
METHOD:PUBLISH
X-ORIGINAL-URL:https://www.unitedskates.com/wickliffe
X-WR-CALDESC:Events for Rink 11 - Wickliffe
REFRESH-INTERVAL;VALUE=DURATION:PT1H
X-Robots-Tag:noindex
X-PUBLISHED-TTL:PT1H
BEGIN:VTIMEZONE
TZID:America/New_York
BEGIN:DAYLIGHT
TZOFFSETFROM:-0500
TZOFFSETTO:-0400
TZNAME:EDT
DTSTART:20240310T070000
END:DAYLIGHT
BEGIN:STANDARD
TZOFFSETFROM:-0400
TZOFFSETTO:-0500
TZNAME:EST
DTSTART:20241103T060000
END:STANDARD
BEGIN:DAYLIGHT
TZOFFSETFROM:-0500
TZOFFSETTO:-0400
TZNAME:EDT
DTSTART:20250309T070000
END:DAYLIGHT
BEGIN:STANDARD
TZOFFSETFROM:-0400
TZOFFSETTO:-0500
TZNAME:EST
DTSTART:20251102T060000
END:STANDARD
BEGIN:DAYLIGHT
TZOFFSETFROM:-0500
TZOFFSETTO:-0400
TZNAME:EDT
DTSTART:20260308T070000
END:DAYLIGHT
BEGIN:STANDARD
TZOFFSETFROM:-0400
TZOFFSETTO:-0500
TZNAME:EST
DTSTART:20261101T060000
END:STANDARD
END:VTIMEZONE
BEGIN:VEVENT
DTSTART;TZID=America/New_York:20250131T213000
DTEND;TZID=America/New_York:20250201T003000
DTSTAMP:20260425T071927
CREATED:20241202T185045Z
LAST-MODIFIED:20241202T211040Z
UID:18976-1738359000-1738369800@www.unitedskates.com
SUMMARY:Emo Adult Skate
DESCRIPTION:Attention all emo music enthusiasts. \nGet ready for an unforgettable night as we bring you the ultimate emo experience. \nJoin us on Friday\, January 31st 9:30pm-12:30am \nThis is an exclusive adults-only session where you can immerse yourself in the best of emo music. \nAdmission $12.00 \nSkate Rental $6.00 \nWhether you’re looking to reminisce or discover new favorites\, this is the perfect opportunity to connect with fellow fans and enjoy a curated playlist that captures the essence of the genre. \nDon’t miss out on this chance to celebrate the music that speaks to our hearts.
URL:https://www.unitedskates.com/wickliffe/event/emo-adult-skate-4/
CATEGORIES:Adult Events,Special Events
ATTACH;FMTTYPE=image/jpeg:https://unitedskates-assets.sfo3.digitaloceanspaces.com/wp-content/uploads/sites/12/2024/12/EMO-skate-rink-2024-editable-1-page-001-1-scaled.jpg
END:VEVENT
END:VCALENDAR