BEGIN:VCALENDAR
VERSION:2.0
PRODID:-//Rink 11 - Wickliffe - ECPv6.15.20//NONSGML v1.0//EN
CALSCALE:GREGORIAN
METHOD:PUBLISH
X-ORIGINAL-URL:https://www.unitedskates.com/wickliffe
X-WR-CALDESC:Events for Rink 11 - Wickliffe
REFRESH-INTERVAL;VALUE=DURATION:PT1H
X-Robots-Tag:noindex
X-PUBLISHED-TTL:PT1H
BEGIN:VTIMEZONE
TZID:America/New_York
BEGIN:DAYLIGHT
TZOFFSETFROM:-0500
TZOFFSETTO:-0400
TZNAME:EDT
DTSTART:20240310T070000
END:DAYLIGHT
BEGIN:STANDARD
TZOFFSETFROM:-0400
TZOFFSETTO:-0500
TZNAME:EST
DTSTART:20241103T060000
END:STANDARD
BEGIN:DAYLIGHT
TZOFFSETFROM:-0500
TZOFFSETTO:-0400
TZNAME:EDT
DTSTART:20250309T070000
END:DAYLIGHT
BEGIN:STANDARD
TZOFFSETFROM:-0400
TZOFFSETTO:-0500
TZNAME:EST
DTSTART:20251102T060000
END:STANDARD
BEGIN:DAYLIGHT
TZOFFSETFROM:-0500
TZOFFSETTO:-0400
TZNAME:EDT
DTSTART:20260308T070000
END:DAYLIGHT
BEGIN:STANDARD
TZOFFSETFROM:-0400
TZOFFSETTO:-0500
TZNAME:EST
DTSTART:20261101T060000
END:STANDARD
END:VTIMEZONE
BEGIN:VEVENT
DTSTART;TZID=America/New_York:20250119T123000
DTEND;TZID=America/New_York:20250119T150000
DTSTAMP:20260425T143217
CREATED:20241129T214208Z
LAST-MODIFIED:20241202T215518Z
UID:18939-1737289800-1737298800@www.unitedskates.com
SUMMARY:Mario and Luigi Skate
DESCRIPTION:Calling all Super Mario Fans! \nGet ready for a Sunday Funday that you absolutely cannot miss! \nJoin us for an exciting day where Mario and Luigi will be ready to roll and have a blast with you. \nSunday\, January 19th 12:30pm-3:00pm \nAdmission $12.00 \nSkate Rental $6.00 \nWhether you’re a seasoned player or just love the iconic duo\, this event promises loads of fun\, games\, and unforgettable moments. \nBring your friends and family to celebrate in true Mario style! \nPs. A great day to host your child’s Mario themed party!! You can have both Mario and Luigi there!
URL:https://www.unitedskates.com/wickliffe/event/mario-and-luigi-skate/
CATEGORIES:Family Events,Public Skates,Special Events
ATTACH;FMTTYPE=image/jpeg:https://unitedskates-assets.sfo3.digitaloceanspaces.com/wp-content/uploads/sites/12/2024/11/Mario-and-Luigi-Skate-2023-1-page-001-scaled.jpg
END:VEVENT
BEGIN:VEVENT
DTSTART;TZID=America/New_York:20250119T213000
DTEND;TZID=America/New_York:20250120T023000
DTSTAMP:20260425T143217
CREATED:20241203T160843Z
LAST-MODIFIED:20241203T162540Z
UID:19024-1737322200-1737340200@www.unitedskates.com
SUMMARY:MLK Jr Late Night Skate
DESCRIPTION:Let’s celebrate Martin Luther King Jr Day with an exciting late-night adult skate! \nJoin us so you can unwind\, connect with friends and enjoy the rhythm of the night on wheels. \nSunday\, January 19th 9:30pm-2:30am \nAdmission $13.00 \nSkate Rental $6.00 \n18+ with valid ID \nR&B\, Hip-Hop and Skate Music ALL NIGHT! \n 
URL:https://www.unitedskates.com/wickliffe/event/mlk-jr-late-night-skate/
CATEGORIES:Adult Events,Special Events
ATTACH;FMTTYPE=image/jpeg:https://unitedskates-assets.sfo3.digitaloceanspaces.com/wp-content/uploads/sites/12/2024/12/MLK-DAY-Adult-Skate-Night-page-001-scaled.jpg
END:VEVENT
BEGIN:VEVENT
DTSTART;TZID=America/New_York:20250120T100000
DTEND;TZID=America/New_York:20250120T120000
DTSTAMP:20260425T143217
CREATED:20241129T215408Z
LAST-MODIFIED:20241202T214058Z
UID:18943-1737367200-1737374400@www.unitedskates.com
SUMMARY:Early Bird Skate
DESCRIPTION:Happy MLK Jr. Day! \nSchools are out\, and what better way to celebrate than by kicking the day off with our exciting Early Bird Skate! \nMonday\, January 20th 10:00am-12:00pm \nAdmission $9.00 \nSkate Rental $6.00 \nJoin us for a fantastic time filled with fun\, music\, games\, and skating to honor the legacy of Martin Luther King Jr. \nGather your friends and family\, and let’s make this holiday memorable with joy and movement on the rink.
URL:https://www.unitedskates.com/wickliffe/event/early-bird-skate-4/
CATEGORIES:Family Events,Public Skates,Special Events
ATTACH;FMTTYPE=image/jpeg:https://unitedskates-assets.sfo3.digitaloceanspaces.com/wp-content/uploads/sites/12/2024/11/mlk-day-singleday-2025-aa-1-page-001-scaled.jpg
END:VEVENT
BEGIN:VEVENT
DTSTART;TZID=America/New_York:20250120T123000
DTEND;TZID=America/New_York:20250120T150000
DTSTAMP:20260425T143217
CREATED:20241129T215831Z
LAST-MODIFIED:20241202T213323Z
UID:18945-1737376200-1737385200@www.unitedskates.com
SUMMARY:MLK Jr Day Skate
DESCRIPTION:It’s MLK Jr. DAY! \nSchools are out\, so come out and skate your day away with us! \nMonday\, January 20th 12:30pm-3:00pm and 3:30pm-6:00pm \nAdmission $12.00 \nSkate Rental $6.00 \nEnjoy a fantastic time on the rink\, and don’t forget to join in on the excitement of laser tag or our fun games. \nIt’s the perfect way to celebrate the day with friends and family while honoring the legacy of Martin Luther King Jr. \nLet’s make this holiday filled with joy\, laughter\, and unforgettable memories.
URL:https://www.unitedskates.com/wickliffe/event/mlk-jr-day-skate/2025-01-20/
CATEGORIES:Family Events,Public Skates,Special Events
ATTACH;FMTTYPE=image/jpeg:https://unitedskates-assets.sfo3.digitaloceanspaces.com/wp-content/uploads/sites/12/2024/11/MLK-FAMILY-SKATE-2025-page-001-scaled.jpg
END:VEVENT
BEGIN:VEVENT
DTSTART;TZID=America/New_York:20250124T213000
DTEND;TZID=America/New_York:20250125T000000
DTSTAMP:20260425T143217
CREATED:20240821T150219Z
LAST-MODIFIED:20240829T203749Z
UID:17694-1737754200-1737763200@www.unitedskates.com
SUMMARY:Gospel Night Glow Skate Jam
DESCRIPTION:Get ready for a spectacular Gospel Night Glow Skate Jam! \nJoin us for an electrifying evening filled with vibrant lights\, uplifting Gospel music\, and an incredible atmosphere. \nFriday\, January 24th 9:30pm-12:00am \nAdmission $11.00 \nSkate Rental $5.50 \nFree glow stick with every paid admission \nBring your friends\, families and congregations to skate under the glow and celebrate faith in a fun and exciting way! \nDon’t miss out on this unforgettable night of joy and connection! \nWe can’t wait to skate with you all! \nAdvanced reservations are required\, please call our Sales Team Today 440-944-5301
URL:https://www.unitedskates.com/wickliffe/event/gospel-night-glow-skate-jam/
CATEGORIES:Family Events,Public Skates,Special Events
ATTACH;FMTTYPE=image/jpeg:https://unitedskates-assets.sfo3.digitaloceanspaces.com/wp-content/uploads/sites/12/2024/08/Gospel-Skate-Glow-in-Dark-page-001-scaled.jpg
END:VEVENT
BEGIN:VEVENT
DTSTART;TZID=America/New_York:20250125T093000
DTEND;TZID=America/New_York:20250125T110000
DTSTAMP:20260425T143217
CREATED:20241202T181010Z
LAST-MODIFIED:20241204T190255Z
UID:18972-1737797400-1737802800@www.unitedskates.com
SUMMARY:Glinda's Enchanted Breakfast
DESCRIPTION:Step into a world of magic at Glinda’s Enchanted Breakfast! \nJoin the beloved Glinda\, along with her enchanting princess friends-Snow White\, Tiana and Belle! \nEnjoy a delightful morning filled with joyful singing\, captivating dancing\, and whimsical storytelling. \nHave your littles dress up as their favorite Princess or as their favorite witch. \nIndulge in a scrumptious breakfast buffet featuring a variety of delicious options. \nSaturday\, January 25th 9:30am-11:00am \nOnly $20.00 includes the delicious breakfast buffet of pancakes\, scrambled eggs\, bacon\, pastries\, coffee and juice \nAdults and Children 3 and older must pay. \nChildren 2 and younger are FREE. \nThis enchanting experience requires tickets to be purchased in advance. \nSecure your SPOT NOW for a morning filled with joy and wonder. BUY YOUR TICKETS HERE! \nOf course\, picture opportunities will be available! \nThis is a non-skating event.
URL:https://www.unitedskates.com/wickliffe/event/glindas-enchanted-breakfast/
CATEGORIES:Family Events,Public Skates,Special Events
ATTACH;FMTTYPE=image/jpeg:https://unitedskates-assets.sfo3.digitaloceanspaces.com/wp-content/uploads/sites/12/2024/12/Glindas-Enchanted-Breakfast-2025.jpg
END:VEVENT
BEGIN:VEVENT
DTSTART;TZID=America/New_York:20250125T123000
DTEND;TZID=America/New_York:20250125T150000
DTSTAMP:20260425T143217
CREATED:20241129T214727Z
LAST-MODIFIED:20241202T204807Z
UID:18941-1737808200-1737817200@www.unitedskates.com
SUMMARY:Nerd Skate
DESCRIPTION:Attention all nerd fans! \nGet excited because our Nerd Day is making a triumphant return! \nSaturday\, January 25th 12:30pm-3:00pm \nAdmission $12.00 \nSkate Rental $6.00 \nJoin us for a fantastic event where you’ll have the chance to win awesome nerd-themed prizes throughout the session! \nBut that’s not all=why not take it up a notch? Feel free to come dressed as your favorite nerdy character\, just like Sheldon! \nIt’s a perfect opportunity to showcase your fandom and have a blast with fellow enthusiasts.
URL:https://www.unitedskates.com/wickliffe/event/nerd-skate-2/
CATEGORIES:Family Events,Public Skates,Special Events
ATTACH;FMTTYPE=image/jpeg:https://unitedskates-assets.sfo3.digitaloceanspaces.com/wp-content/uploads/sites/12/2024/11/NERDS-DAY-SKATE-2024-page-001-1-scaled.jpg
END:VEVENT
END:VCALENDAR