BEGIN:VCALENDAR
VERSION:2.0
PRODID:-//Rink 11 - Wickliffe - ECPv6.15.20//NONSGML v1.0//EN
CALSCALE:GREGORIAN
METHOD:PUBLISH
X-WR-CALNAME:Rink 11 - Wickliffe
X-ORIGINAL-URL:https://www.unitedskates.com/wickliffe
X-WR-CALDESC:Events for Rink 11 - Wickliffe
REFRESH-INTERVAL;VALUE=DURATION:PT1H
X-Robots-Tag:noindex
X-PUBLISHED-TTL:PT1H
BEGIN:VTIMEZONE
TZID:America/New_York
BEGIN:DAYLIGHT
TZOFFSETFROM:-0500
TZOFFSETTO:-0400
TZNAME:EDT
DTSTART:20250309T070000
END:DAYLIGHT
BEGIN:STANDARD
TZOFFSETFROM:-0400
TZOFFSETTO:-0500
TZNAME:EST
DTSTART:20251102T060000
END:STANDARD
BEGIN:DAYLIGHT
TZOFFSETFROM:-0500
TZOFFSETTO:-0400
TZNAME:EDT
DTSTART:20260308T070000
END:DAYLIGHT
BEGIN:STANDARD
TZOFFSETFROM:-0400
TZOFFSETTO:-0500
TZNAME:EST
DTSTART:20261101T060000
END:STANDARD
BEGIN:DAYLIGHT
TZOFFSETFROM:-0500
TZOFFSETTO:-0400
TZNAME:EDT
DTSTART:20270314T070000
END:DAYLIGHT
BEGIN:STANDARD
TZOFFSETFROM:-0400
TZOFFSETTO:-0500
TZNAME:EST
DTSTART:20271107T060000
END:STANDARD
END:VTIMEZONE
BEGIN:VEVENT
DTSTART;VALUE=DATE:20260417
DTEND;VALUE=DATE:20260602
DTSTAMP:20260419T191839
CREATED:20260408T185401Z
LAST-MODIFIED:20260408T185401Z
UID:24344-1776402000-1780289999@www.unitedskates.com
SUMMARY:🎉 Scouts End of Year Parties at United Skates! 🛼
DESCRIPTION:Celebrate the end of an amazing year with the ultimate roller-skating party! Bring your troop out for a fun-filled experience packed with music\, lights\, and nonstop skating excitement. \n✨ Event Details:🗓 Fridays: 6:00pm–8:30pm🗓 Saturdays: 12:30pm–3:00pm & 4:00pm–6:30pm🗓 Sundays: 12:00pm–2:30pm\, 3:00pm–5:30pm & 6:00pm–8:30pm \n💲 Only $8 per personIncludes admission + skate rental! \n🎯 Perfect for celebrating achievements\, earning patches\, and making unforgettable memories with your troop. \n📞 Advanced reservations required – Call now: 440-944-5301
URL:https://www.unitedskates.com/wickliffe/event/%f0%9f%8e%89-scouts-end-of-year-parties-at-united-skates-%f0%9f%9b%bc/
CATEGORIES:Family Events,Special Events
ATTACH;FMTTYPE=image/png:https://unitedskates-assets.sfo3.digitaloceanspaces.com/wp-content/uploads/sites/12/2026/04/ChatGPT-Image-Apr-8-2026-02_08_36-PM.png
END:VEVENT
BEGIN:VEVENT
DTSTART;TZID=America/New_York:20260517T120000
DTEND;TZID=America/New_York:20260517T143000
DTSTAMP:20260419T191839
CREATED:20260401T185344Z
LAST-MODIFIED:20260402T191105Z
UID:24051-1779019200-1779028200@www.unitedskates.com
SUMMARY:SpongeBob AYCE Skate
DESCRIPTION:🍍🧽 SpongeBob is HERE! 🧽🍍 \nHe battled the WORST wind storm just to make it—and now he’s ready to party with YOU! Don’t miss this special all-you-can-eat pizza skate featuring everyone’s favorite undersea friend 🛼✨ \nJoin SpongeBob for an afternoon full of skating\, music\, games\, and unlimited cheesy goodness! Plus\, you’ll have the chance to meet SpongeBob and snap some awesome photos 📸💛 \n🍕 All-You-Can-Eat Pizza Skate:\nEnjoy unlimited cheese pizza from 12:30pm-2:00pm! \n📅 Sunday\, May 17th\n⏰ 12:00pm-2:30pm \n🎟️ Skating Admission: $15.00 Includes admission\, skate rental\, and unlimited cheese pizza \n👨‍👩‍👧 Non-Skating Adults: $10.00 Includes unlimited cheese pizza \n🎂 Celebrating something special? Birthday parties are available—book now and make it a day to remember! Book Now! \n🚨 Don’t miss out—buy your tickets now for this one-of-a-kind event! Buy Now!
URL:https://www.unitedskates.com/wickliffe/event/spongebob-ayce-skate/
CATEGORIES:Family Events,Public Skates,Special Events
ATTACH;FMTTYPE=image/png:https://unitedskates-assets.sfo3.digitaloceanspaces.com/wp-content/uploads/sites/12/2026/04/AYCE-Pizza-with-SpongeBob.png
END:VEVENT
BEGIN:VEVENT
DTSTART;TZID=America/New_York:20260517T150000
DTEND;TZID=America/New_York:20260517T173000
DTSTAMP:20260419T191839
CREATED:20250805T183341Z
LAST-MODIFIED:20260401T191004Z
UID:22661-1779030000-1779039000@www.unitedskates.com
SUMMARY:Sunday Funday/Birthday Parties
DESCRIPTION:Book your Birthday Party! Birthday Parties available from 3:00pm-5:30pm \nAdmission at the door $14.00 \nAdmission Online $12.00 \nSkate Rental $6.00 \nFeaturing Pop and R&B Music Mix \nGet your Tickets Here! BUY HERE! \nAll 3–17-year-olds must pay admission and skate rental upon entering the facility.  Adults 18+ not skating may enter for free. All 12–17-year-olds must come into our facility with a parent or guardian that is 25 years or age or older. We are only allowing two (2) 12–17-year-olds per one parent or guardian 25 and over. The parent/guardian must stay with the teenager the entire time while in the facility. If the parent/guardian leaves the facility the teen must leave with parent/guardian. No drop off of teens or children into our facility is permitted. No drop off of teens or children to another parent into our facility is permitted. Teenagers 12-17 with their own skates are permitted without a parent if they skate the entire time. Teens asked to keep skates on repeatedly will be asked to leave with no refund.
URL:https://www.unitedskates.com/wickliffe/event/sunday-funday-birthday-parties-6/2026-05-17/
CATEGORIES:Family Events,Special Events
ATTACH;FMTTYPE=image/jpeg:https://unitedskates-assets.sfo3.digitaloceanspaces.com/wp-content/uploads/sites/12/2023/07/800px-Sunday-Funday-2022-1200x900-1.jpg
END:VEVENT
END:VCALENDAR