BEGIN:VCALENDAR
VERSION:2.0
PRODID:-//Rink 11 - Wickliffe - ECPv6.15.20//NONSGML v1.0//EN
CALSCALE:GREGORIAN
METHOD:PUBLISH
X-WR-CALNAME:Rink 11 - Wickliffe
X-ORIGINAL-URL:https://www.unitedskates.com/wickliffe
X-WR-CALDESC:Events for Rink 11 - Wickliffe
REFRESH-INTERVAL;VALUE=DURATION:PT1H
X-Robots-Tag:noindex
X-PUBLISHED-TTL:PT1H
BEGIN:VTIMEZONE
TZID:America/New_York
BEGIN:DAYLIGHT
TZOFFSETFROM:-0500
TZOFFSETTO:-0400
TZNAME:EDT
DTSTART:20250309T070000
END:DAYLIGHT
BEGIN:STANDARD
TZOFFSETFROM:-0400
TZOFFSETTO:-0500
TZNAME:EST
DTSTART:20251102T060000
END:STANDARD
BEGIN:DAYLIGHT
TZOFFSETFROM:-0500
TZOFFSETTO:-0400
TZNAME:EDT
DTSTART:20260308T070000
END:DAYLIGHT
BEGIN:STANDARD
TZOFFSETFROM:-0400
TZOFFSETTO:-0500
TZNAME:EST
DTSTART:20261101T060000
END:STANDARD
BEGIN:DAYLIGHT
TZOFFSETFROM:-0500
TZOFFSETTO:-0400
TZNAME:EDT
DTSTART:20270314T070000
END:DAYLIGHT
BEGIN:STANDARD
TZOFFSETFROM:-0400
TZOFFSETTO:-0500
TZNAME:EST
DTSTART:20271107T060000
END:STANDARD
END:VTIMEZONE
BEGIN:VEVENT
DTSTART;VALUE=DATE:20260417
DTEND;VALUE=DATE:20260602
DTSTAMP:20260419T174444
CREATED:20260408T185401Z
LAST-MODIFIED:20260408T185401Z
UID:24344-1776402000-1780289999@www.unitedskates.com
SUMMARY:🎉 Scouts End of Year Parties at United Skates! 🛼
DESCRIPTION:Celebrate the end of an amazing year with the ultimate roller-skating party! Bring your troop out for a fun-filled experience packed with music\, lights\, and nonstop skating excitement. \n✨ Event Details:🗓 Fridays: 6:00pm–8:30pm🗓 Saturdays: 12:30pm–3:00pm & 4:00pm–6:30pm🗓 Sundays: 12:00pm–2:30pm\, 3:00pm–5:30pm & 6:00pm–8:30pm \n💲 Only $8 per personIncludes admission + skate rental! \n🎯 Perfect for celebrating achievements\, earning patches\, and making unforgettable memories with your troop. \n📞 Advanced reservations required – Call now: 440-944-5301
URL:https://www.unitedskates.com/wickliffe/event/%f0%9f%8e%89-scouts-end-of-year-parties-at-united-skates-%f0%9f%9b%bc/
CATEGORIES:Family Events,Special Events
ATTACH;FMTTYPE=image/png:https://unitedskates-assets.sfo3.digitaloceanspaces.com/wp-content/uploads/sites/12/2026/04/ChatGPT-Image-Apr-8-2026-02_08_36-PM.png
END:VEVENT
BEGIN:VEVENT
DTSTART;TZID=America/New_York:20260425T123000
DTEND;TZID=America/New_York:20260425T150000
DTSTAMP:20260419T174444
CREATED:20260302T194206Z
LAST-MODIFIED:20260324T160110Z
UID:23958-1777120200-1777129200@www.unitedskates.com
SUMMARY:💙🛼👨‍👧‍👦 DAD and ME SKATE DAY! 👨‍👧‍👦🛼💙
DESCRIPTION:Make it a day of laughs\, high-fives\, and unforgettable memories at a special skate session just for dads and their favorite sidekicks! \n🗓 Saturday\, April 25th⏰ 12:30 PM – 3:00 PM \n👨‍👧 Quality time & family fun🎶 Great music & all-ages skating✨ The perfect weekend outing for dads & kids \n💲 Admission⭐ $12 Online Buy Here!⭐ $14 At the Door🛼 Skate Rental: $6.00 \n🔥 DADDY & ME SUPER DEAL — ONLY $100! 🔥(Up to 4 people)✅ Admission✅ Skate Rental🍕 Whole Pizza🥤 Pitcher of Pop🎮 100 Game Credits✨ 4 Laser Tag Stickers \n🎉 Birthday parties available — celebrate together!📣 Spots fill fast… book now! \n💙 Lace up\, roll out\, and enjoy a fun-filled afternoon made for dads and their skating crew! 🛼✨
URL:https://www.unitedskates.com/wickliffe/event/%f0%9f%92%99%f0%9f%9b%bc%f0%9f%91%a8%f0%9f%91%a7%f0%9f%91%a6-dad-and-me-skate-day-%f0%9f%91%a8%f0%9f%91%a7%f0%9f%91%a6%f0%9f%9b%bc%f0%9f%92%99/
CATEGORIES:Family Events,Public Skates,Special Events
ATTACH;FMTTYPE=image/png:https://unitedskates-assets.sfo3.digitaloceanspaces.com/wp-content/uploads/sites/12/2026/03/ChatGPT-Image-Mar-24-2026-11_51_28-AM-1.png
END:VEVENT
END:VCALENDAR