BEGIN:VCALENDAR
VERSION:2.0
PRODID:-//Rink 11 - Wickliffe - ECPv6.15.20//NONSGML v1.0//EN
CALSCALE:GREGORIAN
METHOD:PUBLISH
X-WR-CALNAME:Rink 11 - Wickliffe
X-ORIGINAL-URL:https://www.unitedskates.com/wickliffe
X-WR-CALDESC:Events for Rink 11 - Wickliffe
REFRESH-INTERVAL;VALUE=DURATION:PT1H
X-Robots-Tag:noindex
X-PUBLISHED-TTL:PT1H
BEGIN:VTIMEZONE
TZID:America/New_York
BEGIN:DAYLIGHT
TZOFFSETFROM:-0500
TZOFFSETTO:-0400
TZNAME:EDT
DTSTART:20250309T070000
END:DAYLIGHT
BEGIN:STANDARD
TZOFFSETFROM:-0400
TZOFFSETTO:-0500
TZNAME:EST
DTSTART:20251102T060000
END:STANDARD
BEGIN:DAYLIGHT
TZOFFSETFROM:-0500
TZOFFSETTO:-0400
TZNAME:EDT
DTSTART:20260308T070000
END:DAYLIGHT
BEGIN:STANDARD
TZOFFSETFROM:-0400
TZOFFSETTO:-0500
TZNAME:EST
DTSTART:20261101T060000
END:STANDARD
BEGIN:DAYLIGHT
TZOFFSETFROM:-0500
TZOFFSETTO:-0400
TZNAME:EDT
DTSTART:20270314T070000
END:DAYLIGHT
BEGIN:STANDARD
TZOFFSETFROM:-0400
TZOFFSETTO:-0500
TZNAME:EST
DTSTART:20271107T060000
END:STANDARD
END:VTIMEZONE
BEGIN:VEVENT
DTSTART;TZID=America/New_York:20260411T123000
DTEND;TZID=America/New_York:20260411T150000
DTSTAMP:20260419T174440
CREATED:20260302T190519Z
LAST-MODIFIED:20260304T203213Z
UID:23948-1775910600-1775919600@www.unitedskates.com
SUMMARY:Sonic's Pajama Skate
DESCRIPTION:Get ready to roll\, relax\, and race into fun at the coziest skate party in town! Sonic is trading his sneakers for his favorite pajama bottoms — and he wants YOU to join the comfy celebration! \n🗓 Saturday\, April 11th⏰ 12:30 PM – 3:00 PM \n✨ Come see Sonic in his favorite pajama bottoms🛏️ Wear YOUR pajama bottoms & skate in cozy style🎁 Enter to win comfy pillows & soft blankets🎶 Enjoy music\, skating\, and family fun for all ages \n💲 Admission⭐ $12 Online Buy Here!⭐ $14 At the Door🛼 Skate Rental: $5.50 \n🎉 Birthday parties available — celebrate with Sonic!📣 Spots fill fast… book now! \n💙 Lace up\, stay cozy\, and skate into a Sonic-speed afternoon of fun! 🛼✨
URL:https://www.unitedskates.com/wickliffe/event/sonics-pajama-skate/
CATEGORIES:Family Events,Public Skates,Special Events
ATTACH;FMTTYPE=image/png:https://unitedskates-assets.sfo3.digitaloceanspaces.com/wp-content/uploads/sites/12/2026/03/Sonics-Pajama-Skate.png
END:VEVENT
END:VCALENDAR