BEGIN:VCALENDAR
VERSION:2.0
PRODID:-//Rink 11 - Wickliffe - ECPv6.15.20//NONSGML v1.0//EN
CALSCALE:GREGORIAN
METHOD:PUBLISH
X-WR-CALNAME:Rink 11 - Wickliffe
X-ORIGINAL-URL:https://www.unitedskates.com/wickliffe
X-WR-CALDESC:Events for Rink 11 - Wickliffe
REFRESH-INTERVAL;VALUE=DURATION:PT1H
X-Robots-Tag:noindex
X-PUBLISHED-TTL:PT1H
BEGIN:VTIMEZONE
TZID:America/New_York
BEGIN:DAYLIGHT
TZOFFSETFROM:-0500
TZOFFSETTO:-0400
TZNAME:EDT
DTSTART:20250309T070000
END:DAYLIGHT
BEGIN:STANDARD
TZOFFSETFROM:-0400
TZOFFSETTO:-0500
TZNAME:EST
DTSTART:20251102T060000
END:STANDARD
BEGIN:DAYLIGHT
TZOFFSETFROM:-0500
TZOFFSETTO:-0400
TZNAME:EDT
DTSTART:20260308T070000
END:DAYLIGHT
BEGIN:STANDARD
TZOFFSETFROM:-0400
TZOFFSETTO:-0500
TZNAME:EST
DTSTART:20261101T060000
END:STANDARD
BEGIN:DAYLIGHT
TZOFFSETFROM:-0500
TZOFFSETTO:-0400
TZNAME:EDT
DTSTART:20270314T070000
END:DAYLIGHT
BEGIN:STANDARD
TZOFFSETFROM:-0400
TZOFFSETTO:-0500
TZNAME:EST
DTSTART:20271107T060000
END:STANDARD
END:VTIMEZONE
BEGIN:VEVENT
DTSTART;TZID=America/New_York:20260306T180000
DTEND;TZID=America/New_York:20260306T203000
DTSTAMP:20260419T174429
CREATED:20260201T202615Z
LAST-MODIFIED:20260203T200752Z
UID:23712-1772820000-1772829000@www.unitedskates.com
SUMMARY:Glow with SpongeBob and Stitch
DESCRIPTION:💥✨🛼 GLOW PARTY ALERT! 🛼✨💥Get ready to LIGHT UP the rink with TWO fan favorites — SpongeBob 🧽 and Stitch 💙 all in ONE epic night! \n🌈 Glow lights • 🎶 High-energy music • 🛼 Non-stop skating • 📸 Character funThis is a party you do NOT want to miss! \n📅 Friday\, March 6th⏰ 6:00pm–8:30pm \n💲 Admission:🔹 $12.00 online (BEST DEAL!)🔹 $14.00 at the door🔹 Skate Rental: $6.00 \n🎟️ Tickets are going fast — grab yours now!👉 Buy tickets here \n🎂 Want the ULTIMATE birthday party? Celebrate under the glow with skating\, music\, and your favorite characters!👉 Book your birthday party here \n🌟 Dress in white or neon and get ready to GLOW! 🌟
URL:https://www.unitedskates.com/wickliffe/event/glow-with-spongebob-and-stitch/
CATEGORIES:Family Events,Public Skates,Special Events
ATTACH;FMTTYPE=image/png:https://unitedskates-assets.sfo3.digitaloceanspaces.com/wp-content/uploads/sites/12/2026/02/Glow-Pizza-Character-Party.png
END:VEVENT
BEGIN:VEVENT
DTSTART;TZID=America/New_York:20260306T213000
DTEND;TZID=America/New_York:20260307T000000
DTSTAMP:20260419T174429
CREATED:20251212T235228Z
LAST-MODIFIED:20260402T135514Z
UID:23132-1772832600-1772841600@www.unitedskates.com
SUMMARY:Emo Adult Skate
DESCRIPTION:🖤🛼 EMO ADULT SKATE NIGHTS 🛼🖤Every First Friday of the Month18+ ONLY with Valid ID \nIt’s not a phase… it’s a whole vibe.Get ready to relive the glory days of eyeliner\, heartbreak anthems\, and skatin’ through all the emotions — because Emo Adult Skate Nights are rolling in🎶💔🔥 \n🎧 All session long\, we’re blasting your favorite punk & alternative hits:💀 My Chemical Romance💔 Panic! At the Disco🔥 The Used🎤 Paramore🖊️ Simple Plan…and so much more that’ll take you straight back to your teenage bedroom. \n🖤 Come dressed in your best emo fashion — black on black\, studded belts\, band tees\, Converse\, and eyeliner for days📸 Blacklight photo ops + moody lighting to set the perfect scene🎟️ 18+ ONLY — Valid ID required at the door🕘 Every Friday Night 9:30pm-12:00am💲 Admission $12.00 Skate Rental $6.00 \nScream\, skate\, and sing your heart out. \nTickets Here!
URL:https://www.unitedskates.com/wickliffe/event/emo-adult-skate-7/2026-03-06/
CATEGORIES:Adult Events,Special Events
ATTACH;FMTTYPE=image/png:https://unitedskates-assets.sfo3.digitaloceanspaces.com/wp-content/uploads/sites/12/2025/12/Emo-Adult-Night-Calendar-2.png
END:VEVENT
END:VCALENDAR