BEGIN:VCALENDAR
VERSION:2.0
PRODID:-//Rink 11 - Wickliffe - ECPv6.15.20//NONSGML v1.0//EN
CALSCALE:GREGORIAN
METHOD:PUBLISH
X-WR-CALNAME:Rink 11 - Wickliffe
X-ORIGINAL-URL:https://www.unitedskates.com/wickliffe
X-WR-CALDESC:Events for Rink 11 - Wickliffe
REFRESH-INTERVAL;VALUE=DURATION:PT1H
X-Robots-Tag:noindex
X-PUBLISHED-TTL:PT1H
BEGIN:VTIMEZONE
TZID:America/New_York
BEGIN:DAYLIGHT
TZOFFSETFROM:-0500
TZOFFSETTO:-0400
TZNAME:EDT
DTSTART:20250309T070000
END:DAYLIGHT
BEGIN:STANDARD
TZOFFSETFROM:-0400
TZOFFSETTO:-0500
TZNAME:EST
DTSTART:20251102T060000
END:STANDARD
BEGIN:DAYLIGHT
TZOFFSETFROM:-0500
TZOFFSETTO:-0400
TZNAME:EDT
DTSTART:20260308T070000
END:DAYLIGHT
BEGIN:STANDARD
TZOFFSETFROM:-0400
TZOFFSETTO:-0500
TZNAME:EST
DTSTART:20261101T060000
END:STANDARD
BEGIN:DAYLIGHT
TZOFFSETFROM:-0500
TZOFFSETTO:-0400
TZNAME:EDT
DTSTART:20270314T070000
END:DAYLIGHT
BEGIN:STANDARD
TZOFFSETFROM:-0400
TZOFFSETTO:-0500
TZNAME:EST
DTSTART:20271107T060000
END:STANDARD
END:VTIMEZONE
BEGIN:VEVENT
DTSTART;TZID=America/New_York:20260221T123000
DTEND;TZID=America/New_York:20260221T150000
DTSTAMP:20260420T133032
CREATED:20260106T212313Z
LAST-MODIFIED:20260109T210202Z
UID:23261-1771677000-1771686000@www.unitedskates.com
SUMMARY:Magic Day
DESCRIPTION:Do you love MAGIC? Then this one is for YOU! 🎉✨Join us for a thrilling afternoon of skating and illusions as our walking magician travels around the rink performing amazing tricks right before your eyes! 😄🎩 \n📅 Saturday\, February 21st🕧 12:30pm–3:00pm🪄 The Magician will appear from 1:30pm–2:30pm \n🛼 Admission at the door: $14.00👟 Skate Rental: $6.00💻 Admission $12.00 when you buy your tickets online — grab your tickets now! Buy Here! \nThis is the perfect add-on to any celebration —🎉 Make your birthday party even more magical… book yours now! Book Here! \nSkate\, smile\, and be amazed — you never know what trick is coming next! ✨😄
URL:https://www.unitedskates.com/wickliffe/event/magic-day-2/
CATEGORIES:Family Events,Public Skates,Special Events
ATTACH;FMTTYPE=image/jpeg:https://unitedskates-assets.sfo3.digitaloceanspaces.com/wp-content/uploads/sites/12/2025/12/day-of-magic-v2-1.jpg
END:VEVENT
END:VCALENDAR