BEGIN:VCALENDAR
VERSION:2.0
PRODID:-//Rink 11 - Wickliffe - ECPv6.15.20//NONSGML v1.0//EN
CALSCALE:GREGORIAN
METHOD:PUBLISH
X-WR-CALNAME:Rink 11 - Wickliffe
X-ORIGINAL-URL:https://www.unitedskates.com/wickliffe
X-WR-CALDESC:Events for Rink 11 - Wickliffe
REFRESH-INTERVAL;VALUE=DURATION:PT1H
X-Robots-Tag:noindex
X-PUBLISHED-TTL:PT1H
BEGIN:VTIMEZONE
TZID:America/New_York
BEGIN:DAYLIGHT
TZOFFSETFROM:-0500
TZOFFSETTO:-0400
TZNAME:EDT
DTSTART:20250309T070000
END:DAYLIGHT
BEGIN:STANDARD
TZOFFSETFROM:-0400
TZOFFSETTO:-0500
TZNAME:EST
DTSTART:20251102T060000
END:STANDARD
BEGIN:DAYLIGHT
TZOFFSETFROM:-0500
TZOFFSETTO:-0400
TZNAME:EDT
DTSTART:20260308T070000
END:DAYLIGHT
BEGIN:STANDARD
TZOFFSETFROM:-0400
TZOFFSETTO:-0500
TZNAME:EST
DTSTART:20261101T060000
END:STANDARD
BEGIN:DAYLIGHT
TZOFFSETFROM:-0500
TZOFFSETTO:-0400
TZNAME:EDT
DTSTART:20270314T070000
END:DAYLIGHT
BEGIN:STANDARD
TZOFFSETFROM:-0400
TZOFFSETTO:-0500
TZNAME:EST
DTSTART:20271107T060000
END:STANDARD
END:VTIMEZONE
BEGIN:VEVENT
DTSTART;TZID=America/New_York:20260206T200000
DTEND;TZID=America/New_York:20260206T223000
DTSTAMP:20260419T191837
CREATED:20251213T002752Z
LAST-MODIFIED:20260107T215140Z
UID:23138-1770408000-1770417000@www.unitedskates.com
SUMMARY:🎤🔥 OLD SCHOOL vs NEW SCHOOL🎤
DESCRIPTION:🎤🔥 OLD SCHOOL vs NEW SCHOOLR&B + HIP-HOP EDITION! 🔥🎤 \nGet ready for the ULTIMATE music battle on the rink!We’re throwing down decade vs decade with the smoothest R&B classics and the hottest new-school hip-hop hits — all in ONE epic night! \n📅 Friday\, February 6th🕕8:00pm-10:30pm🎟 Admission at the door: $14.00 | Skate Rental: $6.00 \n🎶 All session long:We’re spinning the BEST R&B & Hip-Hop music from BOTH generations —the throwback jams you grew up on vs. the new heat you can’t stop playing! \nWho wins? YOU decide on the rink.Bring the energy\, bring your crew\, and get ready to skate\, vibe\, and battle it out old school vs new school style! \n🔥🛼 Don’t miss this R&B + Hip-Hop showdown! \nOnline Admission $12.00! Buy Here!
URL:https://www.unitedskates.com/wickliffe/event/%f0%9f%8e%a4%f0%9f%94%a5-old-school-vs-new-school%f0%9f%8e%a4/
CATEGORIES:Family Events,Public Skates,Special Events
ATTACH;FMTTYPE=image/png:https://unitedskates-assets.sfo3.digitaloceanspaces.com/wp-content/uploads/sites/12/2025/12/Old-School-vs-New-School-RB-and-Hip-Hop-Edition-1.png
END:VEVENT
END:VCALENDAR