BEGIN:VCALENDAR
VERSION:2.0
PRODID:-//Rink 11 - Wickliffe - ECPv6.15.20//NONSGML v1.0//EN
CALSCALE:GREGORIAN
METHOD:PUBLISH
X-WR-CALNAME:Rink 11 - Wickliffe
X-ORIGINAL-URL:https://www.unitedskates.com/wickliffe
X-WR-CALDESC:Events for Rink 11 - Wickliffe
REFRESH-INTERVAL;VALUE=DURATION:PT1H
X-Robots-Tag:noindex
X-PUBLISHED-TTL:PT1H
BEGIN:VTIMEZONE
TZID:America/New_York
BEGIN:DAYLIGHT
TZOFFSETFROM:-0500
TZOFFSETTO:-0400
TZNAME:EDT
DTSTART:20240310T070000
END:DAYLIGHT
BEGIN:STANDARD
TZOFFSETFROM:-0400
TZOFFSETTO:-0500
TZNAME:EST
DTSTART:20241103T060000
END:STANDARD
BEGIN:DAYLIGHT
TZOFFSETFROM:-0500
TZOFFSETTO:-0400
TZNAME:EDT
DTSTART:20250309T070000
END:DAYLIGHT
BEGIN:STANDARD
TZOFFSETFROM:-0400
TZOFFSETTO:-0500
TZNAME:EST
DTSTART:20251102T060000
END:STANDARD
BEGIN:DAYLIGHT
TZOFFSETFROM:-0500
TZOFFSETTO:-0400
TZNAME:EDT
DTSTART:20260308T070000
END:DAYLIGHT
BEGIN:STANDARD
TZOFFSETFROM:-0400
TZOFFSETTO:-0500
TZNAME:EST
DTSTART:20261101T060000
END:STANDARD
END:VTIMEZONE
BEGIN:VEVENT
DTSTART;TZID=America/New_York:20251214T120000
DTEND;TZID=America/New_York:20251214T143000
DTSTAMP:20260421T013314
CREATED:20250805T183612Z
LAST-MODIFIED:20260401T175514Z
UID:23565-1765713600-1765722600@www.unitedskates.com
SUMMARY:Sunday Funday/Birthday Parties
DESCRIPTION:Book your Birthday Party! Birthday Parties available from 12:00pm-2:30pm \nAdmission at the door $14.00 \nAdmission Online $12.00 \nSkate Rental $6.00 \nFeaturing Pop and R&B Music Mix \nGet your Tickets Here! BUY HERE! \nAll 3–17-year-olds must pay admission and skate rental upon entering the facility.  Adults 18+ not skating may enter for free. All 12–17-year-olds must come into our facility with a parent or guardian that is 25 years or age or older. We are only allowing two (2) 12–17-year-olds per one parent or guardian 25 and over. The parent/guardian must stay with the teenager the entire time while in the facility. If the parent/guardian leaves the facility the teen must leave with parent/guardian. No drop off of teens or children into our facility is permitted. No drop off of teens or children to another parent into our facility is permitted. Teenagers 12-17 with their own skates are permitted without a parent if they skate the entire time. Teens asked to keep skates on repeatedly will be asked to leave with no refund.
URL:https://www.unitedskates.com/wickliffe/event/sunday-funday-birthday-parties-7/2025-12-14/
CATEGORIES:Family Events,Special Events
ATTACH;FMTTYPE=image/jpeg:https://unitedskates-assets.sfo3.digitaloceanspaces.com/wp-content/uploads/sites/12/2025/08/Sunday-Funday-Family-Fun-11-v3-scaled.jpg
END:VEVENT
BEGIN:VEVENT
DTSTART;TZID=America/New_York:20251214T120000
DTEND;TZID=America/New_York:20251214T143000
DTSTAMP:20260421T013314
CREATED:20251030T193819Z
LAST-MODIFIED:20251202T185214Z
UID:22404-1765713600-1765722600@www.unitedskates.com
SUMMARY:🎅🍪 COCOA & COOKIES WITH SANTA! 🍪🎅
DESCRIPTION:It’s the most wonderful time of the year to lace up your skates and celebrate the holiday season with Santa himself! 🎄✨ \nJoin us for a cozy afternoon of skating\, holiday cheer\, and sweet treats that will warm your heart and bring smiles to every face. ❤️ \n📅 Sunday\, December 14th🕛 12:00pm-2:30pm🎅 Santa Appearance: 12:45pm-1:45pm \n🎟️ Admission: $18.00🛼 Includes Skate Rental\, Hot Cocoa\, and a Cookie! ☕🍪 \nBring your camera for photos with Santa\, enjoy your cocoa\, and skate into the holiday spirit with your family and friends! ❄️🛼 \nBook your birthday NOW!  Book Here! \nSave a $1.00! Buy your tickets online! BUY HERE!
URL:https://www.unitedskates.com/wickliffe/event/%f0%9f%8e%85%f0%9f%8d%aa-cocoa-cookies-with-santa-%f0%9f%8d%aa%f0%9f%8e%85/
CATEGORIES:Family Events,Public Skates,Special Events
ATTACH;FMTTYPE=image/png:https://unitedskates-assets.sfo3.digitaloceanspaces.com/wp-content/uploads/sites/12/2025/10/Santas-Cookie-and-Cocoa-Skate.png
END:VEVENT
BEGIN:VEVENT
DTSTART;TZID=America/New_York:20251214T150000
DTEND;TZID=America/New_York:20251214T173000
DTSTAMP:20260421T013314
CREATED:20250805T183341Z
LAST-MODIFIED:20260401T190959Z
UID:21611-1765724400-1765733400@www.unitedskates.com
SUMMARY:Sunday Funday/Birthday Parties
DESCRIPTION:Book your Birthday Party! Birthday Parties available from 3:00pm-5:30pm \nAdmission at the door $14.00 \nAdmission Online $12.00 \nSkate Rental $6.00 \nFeaturing Pop and R&B Music Mix \nGet your Tickets Here! BUY HERE! \nAll 3–17-year-olds must pay admission and skate rental upon entering the facility.  Adults 18+ not skating may enter for free. All 12–17-year-olds must come into our facility with a parent or guardian that is 25 years or age or older. We are only allowing two (2) 12–17-year-olds per one parent or guardian 25 and over. The parent/guardian must stay with the teenager the entire time while in the facility. If the parent/guardian leaves the facility the teen must leave with parent/guardian. No drop off of teens or children into our facility is permitted. No drop off of teens or children to another parent into our facility is permitted. Teenagers 12-17 with their own skates are permitted without a parent if they skate the entire time. Teens asked to keep skates on repeatedly will be asked to leave with no refund.
URL:https://www.unitedskates.com/wickliffe/event/sunday-funday-birthday-parties-6/2025-12-14/
CATEGORIES:Family Events,Special Events
ATTACH;FMTTYPE=image/jpeg:https://unitedskates-assets.sfo3.digitaloceanspaces.com/wp-content/uploads/sites/12/2023/07/800px-Sunday-Funday-2022-1200x900-1.jpg
END:VEVENT
BEGIN:VEVENT
DTSTART;TZID=America/New_York:20251214T180000
DTEND;TZID=America/New_York:20251214T203000
DTSTAMP:20260421T013314
CREATED:20251030T194110Z
LAST-MODIFIED:20251104T203057Z
UID:22406-1765735200-1765744200@www.unitedskates.com
SUMMARY:🎄🧣 UGLY SWEATER SKATE! 🧣🎄
DESCRIPTION:It’s time to dress to impress… in your UGLIEST holiday sweater! 😂✨ \nJoin us for a night of festive fun at our Ugly Sweater Skate — where the tackier\, the better!Show off your wildest winter look and compete in our Ugly Sweater Contest for a chance to win fun prizes! 🎁 \n📅 Sunday\, December 14th🕕 6:00pm – 8:30pm💲 Admission: $13.00 | Skate Rental: $6.00 \nBring your friends\, your best ugly sweater\, and your holiday spirit for a night of skating\, laughter\, and lights! 🎅🛼✨ \nBook your Birthday Party Now! Book Here! \nSave a $1.00! Buy your tickets online! BUY HERE!
URL:https://www.unitedskates.com/wickliffe/event/%f0%9f%8e%84%f0%9f%a7%a3-ugly-sweater-skate-%f0%9f%a7%a3%f0%9f%8e%84/
CATEGORIES:Family Events,Public Skates,Special Events
ATTACH;FMTTYPE=image/jpeg:https://unitedskates-assets.sfo3.digitaloceanspaces.com/wp-content/uploads/sites/12/2025/10/UGLY-SWEATER-Skate-Flyer-page-001-scaled.jpg
END:VEVENT
BEGIN:VEVENT
DTSTART;TZID=America/New_York:20251214T213000
DTEND;TZID=America/New_York:20251215T020000
DTSTAMP:20260421T013314
CREATED:20251205T191521Z
LAST-MODIFIED:20251205T191522Z
UID:23011-1765747800-1765764000@www.unitedskates.com
SUMMARY:🎉🛼 ADULT UGLY SWEATER SKATE NIGHT! 🛼🎉
DESCRIPTION:🎄 18+ WITH VALID ID 🎄\nGet ready to roll\, laugh\, and show off the ugliest\, wildest\, most ridiculous holiday sweater you can find — because it’s time for a Sunday Night Adult Ugly Sweater Skate! \n🔥 You asked for it… we’re making it BIG!🎁 UGLY SWEATER CONTEST!Who’s walking away with the title of Ugliest Sweater Champion?Bragging rights + prizes on the line! \n🎶 Adult vibes\, great music\, glowing lights🍹 Café + drinks available😂 The uglier the sweater… the better! \n📅 Sunday\, December 14th  \n🕒 9:30pm-2:00am \nAdmission $13.00 Skate Rental $6.00 \nGrab your friends\, grab your sweater\, and get ready for a night of skating\, laughing\, and holiday chaos — ADULT STYLE! \n🎄🔥 Don’t miss the UGLIEST skate night of the season!
URL:https://www.unitedskates.com/wickliffe/event/%f0%9f%8e%89%f0%9f%9b%bc-adult-ugly-sweater-skate-night-%f0%9f%9b%bc%f0%9f%8e%89/
CATEGORIES:Adult Events,Special Events
ATTACH;FMTTYPE=image/jpeg:https://unitedskates-assets.sfo3.digitaloceanspaces.com/wp-content/uploads/sites/12/2025/12/ugly-sweater-party-scaled.jpg
END:VEVENT
END:VCALENDAR