BEGIN:VCALENDAR
VERSION:2.0
PRODID:-//Rink 11 - Wickliffe - ECPv6.15.20//NONSGML v1.0//EN
CALSCALE:GREGORIAN
METHOD:PUBLISH
X-WR-CALNAME:Rink 11 - Wickliffe
X-ORIGINAL-URL:https://www.unitedskates.com/wickliffe
X-WR-CALDESC:Events for Rink 11 - Wickliffe
REFRESH-INTERVAL;VALUE=DURATION:PT1H
X-Robots-Tag:noindex
X-PUBLISHED-TTL:PT1H
BEGIN:VTIMEZONE
TZID:America/New_York
BEGIN:DAYLIGHT
TZOFFSETFROM:-0500
TZOFFSETTO:-0400
TZNAME:EDT
DTSTART:20240310T070000
END:DAYLIGHT
BEGIN:STANDARD
TZOFFSETFROM:-0400
TZOFFSETTO:-0500
TZNAME:EST
DTSTART:20241103T060000
END:STANDARD
BEGIN:DAYLIGHT
TZOFFSETFROM:-0500
TZOFFSETTO:-0400
TZNAME:EDT
DTSTART:20250309T070000
END:DAYLIGHT
BEGIN:STANDARD
TZOFFSETFROM:-0400
TZOFFSETTO:-0500
TZNAME:EST
DTSTART:20251102T060000
END:STANDARD
BEGIN:DAYLIGHT
TZOFFSETFROM:-0500
TZOFFSETTO:-0400
TZNAME:EDT
DTSTART:20260308T070000
END:DAYLIGHT
BEGIN:STANDARD
TZOFFSETFROM:-0400
TZOFFSETTO:-0500
TZNAME:EST
DTSTART:20261101T060000
END:STANDARD
END:VTIMEZONE
BEGIN:VEVENT
DTSTART;TZID=America/New_York:20251206T123000
DTEND;TZID=America/New_York:20251206T150000
DTSTAMP:20260421T031125
CREATED:20251030T191424Z
LAST-MODIFIED:20251104T184312Z
UID:22387-1765024200-1765033200@www.unitedskates.com
SUMMARY:Grinch's Glow Roll
DESCRIPTION:💚✨ He’s Back… and Ready to GLOW! ✨💚 \nIt’s the GRINCH GLOW PARTY you’ve been waiting for! Join us Saturday\, December 6th for not one but TWO glowing sessions of fun:🕐 12:30 PM – 3:00 PM🕓 4:00 PM – 6:30 PM \n💥 Admission: $13.00🛼 Skate Rental: $6.00 \nGet ready to roll\, dance\, and shine — every guest gets a FREE glow stick with paid admission! 🌟 The Grinch is bringing the glow\, the groove\, and all the laughs. \nWant to make your day extra special? 🎉🎂 Book your birthday party and have The Grinch there to celebrate! Book Here!Don’t wait — this one’s going to light up the rink! 💚✨ \nSave a $1.00! Buy your tickets online! BUY HERE!
URL:https://www.unitedskates.com/wickliffe/event/grinchs-glow-roll/2025-12-06/
CATEGORIES:Family Events,Public Skates,Special Events
ATTACH;FMTTYPE=image/jpeg:https://unitedskates-assets.sfo3.digitaloceanspaces.com/wp-content/uploads/sites/12/2025/10/Grinch-Glow-Skate-2025-page-001-scaled.jpg
END:VEVENT
BEGIN:VEVENT
DTSTART;TZID=America/New_York:20251206T160000
DTEND;TZID=America/New_York:20251206T183000
DTSTAMP:20260421T031125
CREATED:20251030T191424Z
LAST-MODIFIED:20251104T184312Z
UID:22389-1765036800-1765045800@www.unitedskates.com
SUMMARY:Grinch's Glow Roll
DESCRIPTION:💚✨ He’s Back… and Ready to GLOW! ✨💚 \nIt’s the GRINCH GLOW PARTY you’ve been waiting for! Join us Saturday\, December 6th for not one but TWO glowing sessions of fun:🕐 12:30 PM – 3:00 PM🕓 4:00 PM – 6:30 PM \n💥 Admission: $13.00🛼 Skate Rental: $6.00 \nGet ready to roll\, dance\, and shine — every guest gets a FREE glow stick with paid admission! 🌟 The Grinch is bringing the glow\, the groove\, and all the laughs. \nWant to make your day extra special? 🎉🎂 Book your birthday party and have The Grinch there to celebrate! Book Here!Don’t wait — this one’s going to light up the rink! 💚✨ \nSave a $1.00! Buy your tickets online! BUY HERE!
URL:https://www.unitedskates.com/wickliffe/event/grinchs-glow-roll/2025-12-06/2/
CATEGORIES:Family Events,Public Skates,Special Events
ATTACH;FMTTYPE=image/jpeg:https://unitedskates-assets.sfo3.digitaloceanspaces.com/wp-content/uploads/sites/12/2025/10/Grinch-Glow-Skate-2025-page-001-scaled.jpg
END:VEVENT
END:VCALENDAR