BEGIN:VCALENDAR
VERSION:2.0
PRODID:-//Rink 11 - Wickliffe - ECPv6.15.20//NONSGML v1.0//EN
CALSCALE:GREGORIAN
METHOD:PUBLISH
X-WR-CALNAME:Rink 11 - Wickliffe
X-ORIGINAL-URL:https://www.unitedskates.com/wickliffe
X-WR-CALDESC:Events for Rink 11 - Wickliffe
REFRESH-INTERVAL;VALUE=DURATION:PT1H
X-Robots-Tag:noindex
X-PUBLISHED-TTL:PT1H
BEGIN:VTIMEZONE
TZID:America/New_York
BEGIN:DAYLIGHT
TZOFFSETFROM:-0500
TZOFFSETTO:-0400
TZNAME:EDT
DTSTART:20240310T070000
END:DAYLIGHT
BEGIN:STANDARD
TZOFFSETFROM:-0400
TZOFFSETTO:-0500
TZNAME:EST
DTSTART:20241103T060000
END:STANDARD
BEGIN:DAYLIGHT
TZOFFSETFROM:-0500
TZOFFSETTO:-0400
TZNAME:EDT
DTSTART:20250309T070000
END:DAYLIGHT
BEGIN:STANDARD
TZOFFSETFROM:-0400
TZOFFSETTO:-0500
TZNAME:EST
DTSTART:20251102T060000
END:STANDARD
BEGIN:DAYLIGHT
TZOFFSETFROM:-0500
TZOFFSETTO:-0400
TZNAME:EDT
DTSTART:20260308T070000
END:DAYLIGHT
BEGIN:STANDARD
TZOFFSETFROM:-0400
TZOFFSETTO:-0500
TZNAME:EST
DTSTART:20261101T060000
END:STANDARD
END:VTIMEZONE
BEGIN:VEVENT
DTSTART;TZID=America/New_York:20251126T123000
DTEND;TZID=America/New_York:20251201T230000
DTSTAMP:20260421T044630
CREATED:20251022T175854Z
LAST-MODIFIED:20251022T175854Z
UID:22360-1764160200-1764630000@www.unitedskates.com
SUMMARY:🦃 Thanksgiving Break Skating Week at United Skates Wickliffe!
DESCRIPTION:School’s Out — Let’s Roll! \nThanksgiving Break just got a whole lot more exciting! From Wednesday\, November 26th through Monday\, December 1st\, \nthe rink is packed with holiday-themed sessions\, special guests\, and non-stop skating fun for the whole family. \nWhether you’re coming for the food\, the music\, or the memories\, there’s something for everyone to enjoy! \n\nHere’s What’s Happening All Week: \n🛼 Wednesday\, November 26 \n\n\nPublic Skate: 12:30PM–3:00PM — $10 Admission \n\n\nThanksgiving with Stitch: 5:30PM–8:00PM — $12 Admission \n\n\nThanksgiving Eve Adult Skate (18+): 9:00PM–1:00AM — $13 Admission \n\n\n🍕 Thursday\, November 27 – Thanksgiving Night Skate \n\n\n7:00PM–10:00PM — $12 AdmissionEnjoy a relaxed night on wheels after the turkey! Try our incredible pizza and ICEE specials. \n\n\n🎅 Friday\, November 28 – Black Friday Fun! \n\n\nPublic Skate: 12:00PM–2:30PM & 3:00PM–5:30PM — $10 Admission \n\n\nSanta’s Holiday Kickoff: 6:30PM–9:30PM — $13 AdmissionMeet Santa from 7:00PM–9:00PM and take photos while skating to your favorite holiday jams! \n\n\n⛄ Saturday\, November 29 – Family Skate Saturday \n\n\nSaturday Morning Skate: 10:30AM–12:30PM — $10 Admission \n\n\nOlaf Sno-Cone Skate: 12:30PM–3:00PM — $13 Admission (includes a free sno-cone!) \n\n\nFamily Skate: 4:00PM–6:30PM — $13 Admission \n\n\nSaturday Night: 7:30PM–10:30PM — $14 Admission \n\n\n🎄 Sunday\, November 30 – Holiday Family Day \n\n\nGrinch’s Indoor Snowball Fight: 12:00PM–2:30PM — $13 Admission (Snowball fight at 2:00PM!) \n\n\nFamily Skates: 3:00PM–5:30PM & 6:00PM–8:30PM — $13 Admission \n\n\nSunday Night Adult Skate (18+): 9:30PM–1:30AM — $12 Admission \n\n\n✨ Monday\, December 1 – Keep the Fun Going! \n\n\nPublic Skate: 12:30PM–3:00PM — $10 Admission \n\n\nOld School Adult Night (25+): 7:00PM–11:00PM — $12 Admission
URL:https://www.unitedskates.com/wickliffe/event/%f0%9f%a6%83-thanksgiving-break-skating-week-at-united-skates-wickliffe/
CATEGORIES:Family Events,Public Skates,Special Events
ATTACH;FMTTYPE=image/jpeg:https://unitedskates-assets.sfo3.digitaloceanspaces.com/wp-content/uploads/sites/12/2025/10/11-Thanksgiving-Break-Roller-Skate-2025-8.5-x-11-in.jpg
END:VEVENT
BEGIN:VEVENT
DTSTART;TZID=America/New_York:20251126T173000
DTEND;TZID=America/New_York:20251126T200000
DTSTAMP:20260421T044630
CREATED:20251001T142639Z
LAST-MODIFIED:20251001T161347Z
UID:22294-1764178200-1764187200@www.unitedskates.com
SUMMARY:💙🦃Thanksgiving with Stitch💙🦃
DESCRIPTION:🦃💙 Guess Who’s Hosting a Thanksgiving Skate? 💙🦃 \nThat’s right – it’s STITCH! He’s taking over the rink for his very own Thanksgiving Eve Skate and you’re invited! \n🗓 Wednesday\, November 26th🕠 5:30pm – 8:00pm🎟 Admission: $12 | Skate Rental: $6 \n✨ What’s Happening?💙 Meet & Skate with Stitch – snap pics and roll into the holiday with your favorite blue buddy!🎨 Stitch’s Coloring Station – get creative and show off your Thanksgiving spirit.🎉 Holiday Fun All Session Long – the perfect way to start your holiday break! \n💻 Save $1.00 when you buy your tickets online – don’t miss out on this out-of-this-world Thanksgiving Eve party. BUY HERE! \n🎂 Want to make your birthday extra special? Book a party with us and have Stitch stop by to celebrate with you! BOOK HERE! \nGrab your friends and family\, lace up your skates\, and kick off the holiday with Stitch’s Thanksgiving Skate – it’s going to be a blast! 🛼✨
URL:https://www.unitedskates.com/wickliffe/event/%f0%9f%92%99%f0%9f%a6%83thanksgiving-with-stitch%f0%9f%92%99%f0%9f%a6%83/
CATEGORIES:Family Events,Public Skates,Special Events
ATTACH;FMTTYPE=image/png:https://unitedskates-assets.sfo3.digitaloceanspaces.com/wp-content/uploads/sites/12/2025/10/Thanksgiving-with-Stitch.png
END:VEVENT
BEGIN:VEVENT
DTSTART;TZID=America/New_York:20251126T210000
DTEND;TZID=America/New_York:20251127T010000
DTSTAMP:20260421T044630
CREATED:20251001T143010Z
LAST-MODIFIED:20251003T223252Z
UID:22296-1764190800-1764205200@www.unitedskates.com
SUMMARY:Thanksgiving Eve Adult Skate
DESCRIPTION:🍂🛼 Thanksgiving Eve Adult Skate Night! 🛼🍂Calling all adults – this one’s just for YOU! 🎉 Before the big feast\, come celebrate Thanksgiving Eve on the rink with an exclusive 18+ skate night at United Skates of America. \n🗓 Wednesday\, November 26th🕘 9:00pm – 1:00am🎟 Admission: $13 | Skate Rental: $6🔞 Ages 18+ with valid ID \n✨ The Party Lineup:🎧 DJ Smillz in the booth bringing the heat🎶 JB – Cleveland Shuffle – House Music all night long🔥 The best grown-up vibes on 8 wheels! \n💻 Secure your spot NOW – buy online and guarantee entry! BUY HERE! \nKick off the holiday weekend with great music\, smooth skating\, and nothing but adult fun. Grab your crew\, lace up\, and let’s roll into Thanksgiving the right way!
URL:https://www.unitedskates.com/wickliffe/event/thanksgiving-eve-adult-skate-2/
CATEGORIES:Adult Events,Special Events
ATTACH;FMTTYPE=image/png:https://unitedskates-assets.sfo3.digitaloceanspaces.com/wp-content/uploads/sites/12/2025/10/Thanksgiving-Adult-Skate-1.png
END:VEVENT
END:VCALENDAR