BEGIN:VCALENDAR
VERSION:2.0
PRODID:-//Rink 11 - Wickliffe - ECPv6.15.20//NONSGML v1.0//EN
CALSCALE:GREGORIAN
METHOD:PUBLISH
X-WR-CALNAME:Rink 11 - Wickliffe
X-ORIGINAL-URL:https://www.unitedskates.com/wickliffe
X-WR-CALDESC:Events for Rink 11 - Wickliffe
REFRESH-INTERVAL;VALUE=DURATION:PT1H
X-Robots-Tag:noindex
X-PUBLISHED-TTL:PT1H
BEGIN:VTIMEZONE
TZID:America/New_York
BEGIN:DAYLIGHT
TZOFFSETFROM:-0500
TZOFFSETTO:-0400
TZNAME:EDT
DTSTART:20240310T070000
END:DAYLIGHT
BEGIN:STANDARD
TZOFFSETFROM:-0400
TZOFFSETTO:-0500
TZNAME:EST
DTSTART:20241103T060000
END:STANDARD
BEGIN:DAYLIGHT
TZOFFSETFROM:-0500
TZOFFSETTO:-0400
TZNAME:EDT
DTSTART:20250309T070000
END:DAYLIGHT
BEGIN:STANDARD
TZOFFSETFROM:-0400
TZOFFSETTO:-0500
TZNAME:EST
DTSTART:20251102T060000
END:STANDARD
BEGIN:DAYLIGHT
TZOFFSETFROM:-0500
TZOFFSETTO:-0400
TZNAME:EDT
DTSTART:20260308T070000
END:DAYLIGHT
BEGIN:STANDARD
TZOFFSETFROM:-0400
TZOFFSETTO:-0500
TZNAME:EST
DTSTART:20261101T060000
END:STANDARD
END:VTIMEZONE
BEGIN:VEVENT
DTSTART;TZID=America/New_York:20251122T123000
DTEND;TZID=America/New_York:20251122T150000
DTSTAMP:20260421T060647
CREATED:20251001T142013Z
LAST-MODIFIED:20251001T170820Z
UID:22289-1763814600-1763823600@www.unitedskates.com
SUMMARY:🦃✨Gobbles' Glow in the Dark Skate🦃✨
DESCRIPTION:✨🦃 Glow Big with Gobbles! 🦃✨It’s all about Gobbles this weekend – and now that his countdown is complete\, he’s lighting up the rink with glowing fun and excitement! \nJoin Gobbles for a Glow in the Dark Skate that’s packed with music\, lights\, and unforgettable memories: \n🗓 Saturday\, November 22nd | 12:30pm – 3:00pm🗓 Sunday\, November 23rd | 12:00pm – 2:30pm🎟 Admission: $13 | Skate Rental: $6 \n🌟 BONUS: Every paid admission gets a FREE Glow Stick – so you can shine right along with Gobbles all session long! \n💻 Buy your tickets online and save $1.00 – don’t wait\, these glowing sessions will fill up fast! BUY HERE! \n🎂 Want to make your birthday party extra special? Book today and have Gobbles stop by your celebration for a one-of-a-kind birthday surprise! BOOK HERE! \nGrab your friends\, put on your brightest outfit\, and come skate\, shine\, and glow with Gobbles this Thanksgiving season! 🎶✨🛼
URL:https://www.unitedskates.com/wickliffe/event/%f0%9f%a6%83%e2%9c%a8gobbles-glow-in-the-dark-skate%f0%9f%a6%83%e2%9c%a8/2025-11-22/
CATEGORIES:Family Events,Public Skates,Special Events
ATTACH;FMTTYPE=image/jpeg:https://unitedskates-assets.sfo3.digitaloceanspaces.com/wp-content/uploads/sites/12/2025/10/Gobble-Cosmic-Glow-Skate-1-page-001-scaled.jpg
END:VEVENT
END:VCALENDAR