BEGIN:VCALENDAR
VERSION:2.0
PRODID:-//Rink 11 - Wickliffe - ECPv6.15.20//NONSGML v1.0//EN
CALSCALE:GREGORIAN
METHOD:PUBLISH
X-ORIGINAL-URL:https://www.unitedskates.com/wickliffe
X-WR-CALDESC:Events for Rink 11 - Wickliffe
REFRESH-INTERVAL;VALUE=DURATION:PT1H
X-Robots-Tag:noindex
X-PUBLISHED-TTL:PT1H
BEGIN:VTIMEZONE
TZID:America/New_York
BEGIN:DAYLIGHT
TZOFFSETFROM:-0500
TZOFFSETTO:-0400
TZNAME:EDT
DTSTART:20240310T070000
END:DAYLIGHT
BEGIN:STANDARD
TZOFFSETFROM:-0400
TZOFFSETTO:-0500
TZNAME:EST
DTSTART:20241103T060000
END:STANDARD
BEGIN:DAYLIGHT
TZOFFSETFROM:-0500
TZOFFSETTO:-0400
TZNAME:EDT
DTSTART:20250309T070000
END:DAYLIGHT
BEGIN:STANDARD
TZOFFSETFROM:-0400
TZOFFSETTO:-0500
TZNAME:EST
DTSTART:20251102T060000
END:STANDARD
BEGIN:DAYLIGHT
TZOFFSETFROM:-0500
TZOFFSETTO:-0400
TZNAME:EDT
DTSTART:20260308T070000
END:DAYLIGHT
BEGIN:STANDARD
TZOFFSETFROM:-0400
TZOFFSETTO:-0500
TZNAME:EST
DTSTART:20261101T060000
END:STANDARD
END:VTIMEZONE
BEGIN:VEVENT
DTSTART;TZID=America/New_York:20251026T120000
DTEND;TZID=America/New_York:20251026T143000
DTSTAMP:20260421T031318
CREATED:20250805T183612Z
LAST-MODIFIED:20260401T175502Z
UID:23559-1761480000-1761489000@www.unitedskates.com
SUMMARY:Sunday Funday/Birthday Parties
DESCRIPTION:Book your Birthday Party! Birthday Parties available from 12:00pm-2:30pm \nAdmission at the door $14.00 \nAdmission Online $12.00 \nSkate Rental $6.00 \nFeaturing Pop and R&B Music Mix \nGet your Tickets Here! BUY HERE! \nAll 3–17-year-olds must pay admission and skate rental upon entering the facility.  Adults 18+ not skating may enter for free. All 12–17-year-olds must come into our facility with a parent or guardian that is 25 years or age or older. We are only allowing two (2) 12–17-year-olds per one parent or guardian 25 and over. The parent/guardian must stay with the teenager the entire time while in the facility. If the parent/guardian leaves the facility the teen must leave with parent/guardian. No drop off of teens or children into our facility is permitted. No drop off of teens or children to another parent into our facility is permitted. Teenagers 12-17 with their own skates are permitted without a parent if they skate the entire time. Teens asked to keep skates on repeatedly will be asked to leave with no refund.
URL:https://www.unitedskates.com/wickliffe/event/sunday-funday-birthday-parties-7/2025-10-26/
CATEGORIES:Family Events,Special Events
ATTACH;FMTTYPE=image/jpeg:https://unitedskates-assets.sfo3.digitaloceanspaces.com/wp-content/uploads/sites/12/2025/08/Sunday-Funday-Family-Fun-11-v3-scaled.jpg
END:VEVENT
BEGIN:VEVENT
DTSTART;TZID=America/New_York:20251026T120000
DTEND;TZID=America/New_York:20251026T143000
DTSTAMP:20260421T031318
CREATED:20250820T202629Z
LAST-MODIFIED:20250824T013304Z
UID:22079-1761480000-1761489000@www.unitedskates.com
SUMMARY:Mickey's Not So Scary Halloween Party
DESCRIPTION:🎃✨ Calling All Mickey Fans! ✨🎃 \nIt’s time to kick off Halloween with Mickey at his Not-So-Scary Halloween Party! Bring your friends\, dress in your favorite Halloween costume\, and skate into a magical day full of fun\, laughter\, and festive surprises. 🛼💫 \nMickey will be on the rink ready to meet everyone\, and he’s bringing along a craft station and giveaways to keep the fun going all session long! From creative activities to treats\, there’s something for everyone to enjoy. \n🗓 Sunday\, October 26th⏰ 12:00pm–2:30pm💵 Admission: $15.00 includes skate rental \n🎉 Birthday Parties Available—BOOK NOW and make your special day an extra magical Halloween celebration! Book Here! \nSkate\, create\, and celebrate with Mickey in a fun\, festive\, and family-friendly environment. This is the perfect way to get into the Halloween spirit—don’t miss out! \nSave a $1.00 when you buy online. BUY HERE!
URL:https://www.unitedskates.com/wickliffe/event/mickeys-not-so-scary-halloween-party/
CATEGORIES:Family Events,Public Skates,Special Events
ATTACH;FMTTYPE=image/png:https://unitedskates-assets.sfo3.digitaloceanspaces.com/wp-content/uploads/sites/12/2025/08/Copy-of-Halloween-Not-So-Scary-Swap-Characters-8.5-x-11-in.png
END:VEVENT
BEGIN:VEVENT
DTSTART;TZID=America/New_York:20251026T150000
DTEND;TZID=America/New_York:20251026T173000
DTSTAMP:20260421T031318
CREATED:20250805T183341Z
LAST-MODIFIED:20260401T190945Z
UID:21604-1761490800-1761499800@www.unitedskates.com
SUMMARY:Sunday Funday/Birthday Parties
DESCRIPTION:Book your Birthday Party! Birthday Parties available from 3:00pm-5:30pm \nAdmission at the door $14.00 \nAdmission Online $12.00 \nSkate Rental $6.00 \nFeaturing Pop and R&B Music Mix \nGet your Tickets Here! BUY HERE! \nAll 3–17-year-olds must pay admission and skate rental upon entering the facility.  Adults 18+ not skating may enter for free. All 12–17-year-olds must come into our facility with a parent or guardian that is 25 years or age or older. We are only allowing two (2) 12–17-year-olds per one parent or guardian 25 and over. The parent/guardian must stay with the teenager the entire time while in the facility. If the parent/guardian leaves the facility the teen must leave with parent/guardian. No drop off of teens or children into our facility is permitted. No drop off of teens or children to another parent into our facility is permitted. Teenagers 12-17 with their own skates are permitted without a parent if they skate the entire time. Teens asked to keep skates on repeatedly will be asked to leave with no refund.
URL:https://www.unitedskates.com/wickliffe/event/sunday-funday-birthday-parties-6/2025-10-26/
CATEGORIES:Family Events,Special Events
ATTACH;FMTTYPE=image/jpeg:https://unitedskates-assets.sfo3.digitaloceanspaces.com/wp-content/uploads/sites/12/2023/07/800px-Sunday-Funday-2022-1200x900-1.jpg
END:VEVENT
BEGIN:VEVENT
DTSTART;TZID=America/New_York:20251026T213000
DTEND;TZID=America/New_York:20251027T013000
DTSTAMP:20260421T031318
CREATED:20250820T203028Z
LAST-MODIFIED:20250904T161200Z
UID:22081-1761514200-1761528600@www.unitedskates.com
SUMMARY:Freak Show Adult Skate
DESCRIPTION:🎃🛼 The Annual Freak Show Adult Skate is Back… Are You Ready to Get Spooky? 🛼🎃 \nThis Halloween\, we’re turning the rink into the ultimate adult playground of thrills and chills. Slip into your most daring\, creative\, or hauntingly gorgeous Halloween costume and glide through a night of music\, dancing\, and unforgettable spooky fun. \n🗓 Sunday\, October 26th⏰ 9:30pm–1:30am💵 Admission: $12.00 | Skate Rental: $6.00🔞 18+ with valid ID \nExpect a night full of: \n\n\nKiller beats that keep you rolling all night \n\n\nA hauntingly festive atmosphere with Halloween vibes at every turn \n\n\nCostume contests\, prizes\, and all the tricks and treats you can handle \n\n\nGather your friends\, sip\, skate\, and show off your Halloween spirit in an adult-only celebration that’s wicked\, wild\, and unforgettable. This is the freakiest skate of the year—don’t miss it!
URL:https://www.unitedskates.com/wickliffe/event/freak-show-adult-skate-2/
CATEGORIES:Adult Events,Special Events
ATTACH;FMTTYPE=image/jpeg:https://unitedskates-assets.sfo3.digitaloceanspaces.com/wp-content/uploads/sites/12/2025/08/Freak-Show-Adult-Skate-2.jpg
END:VEVENT
END:VCALENDAR