BEGIN:VCALENDAR
VERSION:2.0
PRODID:-//Rink 11 - Wickliffe - ECPv6.15.20//NONSGML v1.0//EN
CALSCALE:GREGORIAN
METHOD:PUBLISH
X-ORIGINAL-URL:https://www.unitedskates.com/wickliffe
X-WR-CALDESC:Events for Rink 11 - Wickliffe
REFRESH-INTERVAL;VALUE=DURATION:PT1H
X-Robots-Tag:noindex
X-PUBLISHED-TTL:PT1H
BEGIN:VTIMEZONE
TZID:America/New_York
BEGIN:DAYLIGHT
TZOFFSETFROM:-0500
TZOFFSETTO:-0400
TZNAME:EDT
DTSTART:20240310T070000
END:DAYLIGHT
BEGIN:STANDARD
TZOFFSETFROM:-0400
TZOFFSETTO:-0500
TZNAME:EST
DTSTART:20241103T060000
END:STANDARD
BEGIN:DAYLIGHT
TZOFFSETFROM:-0500
TZOFFSETTO:-0400
TZNAME:EDT
DTSTART:20250309T070000
END:DAYLIGHT
BEGIN:STANDARD
TZOFFSETFROM:-0400
TZOFFSETTO:-0500
TZNAME:EST
DTSTART:20251102T060000
END:STANDARD
BEGIN:DAYLIGHT
TZOFFSETFROM:-0500
TZOFFSETTO:-0400
TZNAME:EDT
DTSTART:20260308T070000
END:DAYLIGHT
BEGIN:STANDARD
TZOFFSETFROM:-0400
TZOFFSETTO:-0500
TZNAME:EST
DTSTART:20261101T060000
END:STANDARD
END:VTIMEZONE
BEGIN:VEVENT
DTSTART;TZID=America/New_York:20251018T123000
DTEND;TZID=America/New_York:20251018T150000
DTSTAMP:20260421T223854
CREATED:20250820T195242Z
LAST-MODIFIED:20250820T205055Z
UID:22070-1760790600-1760799600@www.unitedskates.com
SUMMARY:Hocus Pocus Skate
DESCRIPTION:✨🧹 They’re Backkkk! 🧹✨The Sanderson Sisters have returned for a spellbinding good time! Are you ready\, witches?! 🪄💜 \nKick off your Saturday with magic\, skating\, and fun—don’t forget to wear your favorite witchy outfit & kicks! \n🗓 Saturday\, October 18th⏰ 12:30pm–3:00pm \n🎟️Admission $13.00 Skate Rental $6.00🌙 Meet the Sisters LIVE from 1:00pm–2:00pm! \n🎉 Birthday Parties Available—BOOK NOW and make it a magical celebration! Book Here! \n✨ Grab your broomsticks\, grab your friends—it’s going to be a wicked good time! \nBuy your Tickets Now! Buy Here!
URL:https://www.unitedskates.com/wickliffe/event/hocus-pocus-skate-2/
CATEGORIES:Family Events,Public Skates,Special Events
ATTACH;FMTTYPE=image/png:https://unitedskates-assets.sfo3.digitaloceanspaces.com/wp-content/uploads/sites/12/2025/08/Copy-of-Hocus-Pocus-Disney-Skate.png
END:VEVENT
END:VCALENDAR