BEGIN:VCALENDAR
VERSION:2.0
PRODID:-//Rink 11 - Wickliffe - ECPv6.15.20//NONSGML v1.0//EN
CALSCALE:GREGORIAN
METHOD:PUBLISH
X-ORIGINAL-URL:https://www.unitedskates.com/wickliffe
X-WR-CALDESC:Events for Rink 11 - Wickliffe
REFRESH-INTERVAL;VALUE=DURATION:PT1H
X-Robots-Tag:noindex
X-PUBLISHED-TTL:PT1H
BEGIN:VTIMEZONE
TZID:America/New_York
BEGIN:DAYLIGHT
TZOFFSETFROM:-0500
TZOFFSETTO:-0400
TZNAME:EDT
DTSTART:20240310T070000
END:DAYLIGHT
BEGIN:STANDARD
TZOFFSETFROM:-0400
TZOFFSETTO:-0500
TZNAME:EST
DTSTART:20241103T060000
END:STANDARD
BEGIN:DAYLIGHT
TZOFFSETFROM:-0500
TZOFFSETTO:-0400
TZNAME:EDT
DTSTART:20250309T070000
END:DAYLIGHT
BEGIN:STANDARD
TZOFFSETFROM:-0400
TZOFFSETTO:-0500
TZNAME:EST
DTSTART:20251102T060000
END:STANDARD
BEGIN:DAYLIGHT
TZOFFSETFROM:-0500
TZOFFSETTO:-0400
TZNAME:EDT
DTSTART:20260308T070000
END:DAYLIGHT
BEGIN:STANDARD
TZOFFSETFROM:-0400
TZOFFSETTO:-0500
TZNAME:EST
DTSTART:20261101T060000
END:STANDARD
END:VTIMEZONE
BEGIN:VEVENT
DTSTART;TZID=America/New_York:20251011T123000
DTEND;TZID=America/New_York:20251011T150000
DTSTAMP:20260421T084724
CREATED:20250820T193614Z
LAST-MODIFIED:20250824T024545Z
UID:22062-1760185800-1760194800@www.unitedskates.com
SUMMARY:Skate with Chucky
DESCRIPTION:🎃🔪 Guess Who’s Back on Wheels?! 🔪🎃Chucky is BACK and ready to ROLL… if you dare! 👀 Come face-to-face with your favorite doll for a thrill-packed afternoon of skating\, scares\, and fun! \n🗓 Saturday\, October 11th⏰ 12:30pm–3:00pm💵 Admission: $13.00 | Skate Rental: $6.00 \n🍕✨ Don’t miss Chucky’s Enchanted Meal Deal: Only $35.00 \n\n\n1 Whole Pizza \n\n\n1 Pitcher of Chucky’s favorite drink \n\n\n4 Orange Glow Sticks \n\n\n4 Halloween Souvenirs \n\n\n🎉 Planning a birthday? We’ve got you covered BOOK NOW for the ultimate party on wheels! Book Here! \nSave a $1.00 when you buy online. BUY HERE!
URL:https://www.unitedskates.com/wickliffe/event/skate-with-chucky-2/
CATEGORIES:Family Events,Public Skates,Special Events
ATTACH;FMTTYPE=image/jpeg:https://unitedskates-assets.sfo3.digitaloceanspaces.com/wp-content/uploads/sites/12/2025/08/Chucky-Skate-2025-page-001-scaled.jpg
END:VEVENT
END:VCALENDAR