BEGIN:VCALENDAR
VERSION:2.0
PRODID:-//Rink 11 - Wickliffe - ECPv6.15.20//NONSGML v1.0//EN
CALSCALE:GREGORIAN
METHOD:PUBLISH
X-WR-CALNAME:Rink 11 - Wickliffe
X-ORIGINAL-URL:https://www.unitedskates.com/wickliffe
X-WR-CALDESC:Events for Rink 11 - Wickliffe
REFRESH-INTERVAL;VALUE=DURATION:PT1H
X-Robots-Tag:noindex
X-PUBLISHED-TTL:PT1H
BEGIN:VTIMEZONE
TZID:America/New_York
BEGIN:DAYLIGHT
TZOFFSETFROM:-0500
TZOFFSETTO:-0400
TZNAME:EDT
DTSTART:20240310T070000
END:DAYLIGHT
BEGIN:STANDARD
TZOFFSETFROM:-0400
TZOFFSETTO:-0500
TZNAME:EST
DTSTART:20241103T060000
END:STANDARD
BEGIN:DAYLIGHT
TZOFFSETFROM:-0500
TZOFFSETTO:-0400
TZNAME:EDT
DTSTART:20250309T070000
END:DAYLIGHT
BEGIN:STANDARD
TZOFFSETFROM:-0400
TZOFFSETTO:-0500
TZNAME:EST
DTSTART:20251102T060000
END:STANDARD
BEGIN:DAYLIGHT
TZOFFSETFROM:-0500
TZOFFSETTO:-0400
TZNAME:EDT
DTSTART:20260308T070000
END:DAYLIGHT
BEGIN:STANDARD
TZOFFSETFROM:-0400
TZOFFSETTO:-0500
TZNAME:EST
DTSTART:20261101T060000
END:STANDARD
END:VTIMEZONE
BEGIN:VEVENT
DTSTART;TZID=America/New_York:20250913T123000
DTEND;TZID=America/New_York:20250913T150000
DTSTAMP:20260421T155838
CREATED:20250828T162701Z
LAST-MODIFIED:20250828T163322Z
UID:22222-1757766600-1757775600@www.unitedskates.com
SUMMARY:KPOP Demon Hunters Skate
DESCRIPTION:🔥✨ ARE YOU READY?! ✨🔥Since you love Demon Hunters so much… it’s BACK AGAIN! 🎉 \nCome dressed in your best Demon Hunter attire OR rep your favorite KPOP artist for a chance to win our costume contest! 🏆🎶 \n🎵 We’ll be playing all the hits from the soundtrack—Golden\, My Little Soda Pop\, and more! \n🍴 Don’t miss our café specials: \n\n\nDerpy’s Famous Funnel Fries 🍟✨ \n\n\nSoja Boy’s Soda Pop 🥤🎶 \n\n\n🎂 Birthday Parties are available—book yours today! Book Here! \n📅 Saturday\, September 13th🕛 12:30 PM – 3:00 PM \nAdmission $13.00 Skate Rental $6.00 \n⚡Don’t miss this epic event—it’s going to be LEGENDARY!⚡ \nSave a $1.00 on your admission! Buy your Tickets Here!
URL:https://www.unitedskates.com/wickliffe/event/kpop-demon-hunters-skate/
CATEGORIES:Family Events,Public Skates,Special Events
ATTACH;FMTTYPE=image/png:https://unitedskates-assets.sfo3.digitaloceanspaces.com/wp-content/uploads/sites/12/2025/08/v2-K-Pop-Demon-Hunters-2025.png
END:VEVENT
END:VCALENDAR