BEGIN:VCALENDAR
VERSION:2.0
PRODID:-//Rink 11 - Wickliffe - ECPv6.15.20//NONSGML v1.0//EN
CALSCALE:GREGORIAN
METHOD:PUBLISH
X-WR-CALNAME:Rink 11 - Wickliffe
X-ORIGINAL-URL:https://www.unitedskates.com/wickliffe
X-WR-CALDESC:Events for Rink 11 - Wickliffe
REFRESH-INTERVAL;VALUE=DURATION:PT1H
X-Robots-Tag:noindex
X-PUBLISHED-TTL:PT1H
BEGIN:VTIMEZONE
TZID:America/New_York
BEGIN:DAYLIGHT
TZOFFSETFROM:-0500
TZOFFSETTO:-0400
TZNAME:EDT
DTSTART:20240310T070000
END:DAYLIGHT
BEGIN:STANDARD
TZOFFSETFROM:-0400
TZOFFSETTO:-0500
TZNAME:EST
DTSTART:20241103T060000
END:STANDARD
BEGIN:DAYLIGHT
TZOFFSETFROM:-0500
TZOFFSETTO:-0400
TZNAME:EDT
DTSTART:20250309T070000
END:DAYLIGHT
BEGIN:STANDARD
TZOFFSETFROM:-0400
TZOFFSETTO:-0500
TZNAME:EST
DTSTART:20251102T060000
END:STANDARD
BEGIN:DAYLIGHT
TZOFFSETFROM:-0500
TZOFFSETTO:-0400
TZNAME:EDT
DTSTART:20260308T070000
END:DAYLIGHT
BEGIN:STANDARD
TZOFFSETFROM:-0400
TZOFFSETTO:-0500
TZNAME:EST
DTSTART:20261101T060000
END:STANDARD
END:VTIMEZONE
BEGIN:VEVENT
DTSTART;TZID=America/New_York:20250905T183000
DTEND;TZID=America/New_York:20250905T213000
DTSTAMP:20260421T155852
CREATED:20250812T145807Z
LAST-MODIFIED:20250826T153543Z
UID:21979-1757097000-1757107800@www.unitedskates.com
SUMMARY:Demon Hunters Skate
DESCRIPTION:⚔️🔥 CALLING ALL DEMON HUNTERS! 🔥⚔️ \nYou are officially invited to meet RUMI — LIVE and in person at United Skates of America – Wickliffe! 🛼✨ \n📅 Friday\, September 5th🕡 6:30pm – 9:30pm \n🎭 Come dressed to impress and enter our Cosplay Contest for a chance to win epic prizes! Whether you’re a pro demon slayer or just here for the glow\, this night will be legendary. \n💲 Admission: $13.00👟 Skate Rental: $6.00💻 Save $1.00 when you buy online! \nBuy Your Tickets Here \n🛼 Skating • Music • Photos with Rumi • Cosplay Fun • Prizes \nSharpen your swords (and your skate skills) — the demons don’t stand a chance! 🖤
URL:https://www.unitedskates.com/wickliffe/event/demon-hunters-skate/
CATEGORIES:Family Events,Public Skates,Special Events
ATTACH;FMTTYPE=image/jpeg:https://unitedskates-assets.sfo3.digitaloceanspaces.com/wp-content/uploads/sites/12/2025/08/K-pop-demon-hunters-scaled.jpg
END:VEVENT
END:VCALENDAR