BEGIN:VCALENDAR
VERSION:2.0
PRODID:-//Rink 11 - Wickliffe - ECPv6.15.20//NONSGML v1.0//EN
CALSCALE:GREGORIAN
METHOD:PUBLISH
X-WR-CALNAME:Rink 11 - Wickliffe
X-ORIGINAL-URL:https://www.unitedskates.com/wickliffe
X-WR-CALDESC:Events for Rink 11 - Wickliffe
REFRESH-INTERVAL;VALUE=DURATION:PT1H
X-Robots-Tag:noindex
X-PUBLISHED-TTL:PT1H
BEGIN:VTIMEZONE
TZID:America/New_York
BEGIN:DAYLIGHT
TZOFFSETFROM:-0500
TZOFFSETTO:-0400
TZNAME:EDT
DTSTART:20240310T070000
END:DAYLIGHT
BEGIN:STANDARD
TZOFFSETFROM:-0400
TZOFFSETTO:-0500
TZNAME:EST
DTSTART:20241103T060000
END:STANDARD
BEGIN:DAYLIGHT
TZOFFSETFROM:-0500
TZOFFSETTO:-0400
TZNAME:EDT
DTSTART:20250309T070000
END:DAYLIGHT
BEGIN:STANDARD
TZOFFSETFROM:-0400
TZOFFSETTO:-0500
TZNAME:EST
DTSTART:20251102T060000
END:STANDARD
BEGIN:DAYLIGHT
TZOFFSETFROM:-0500
TZOFFSETTO:-0400
TZNAME:EDT
DTSTART:20260308T070000
END:DAYLIGHT
BEGIN:STANDARD
TZOFFSETFROM:-0400
TZOFFSETTO:-0500
TZNAME:EST
DTSTART:20261101T060000
END:STANDARD
END:VTIMEZONE
BEGIN:VEVENT
DTSTART;TZID=America/New_York:20250808T180000
DTEND;TZID=America/New_York:20250808T210000
DTSTAMP:20260421T205627
CREATED:20250604T171501Z
LAST-MODIFIED:20250615T021549Z
UID:20773-1754676000-1754686800@www.unitedskates.com
SUMMARY:Back to School Skate
DESCRIPTION:📚🛼 Back to School Skate Bash! 🛼📚Back to school season is here — but before the homework starts\, let’s have one last round of fun on wheels! \nJoin us for our Back-to-School Skate featuring our mischievous Minion\, who’s rolling in with a backpack full of surprises! \nFriday\, August 8th 6:00pm-9:00pm \nAdmission $13.00 \nSkate Rental $6.00 \n🎒 Giveaways all session long!✨ Win awesome school supplies — from book bags to notebooks\, pencils\, and more!🎶 Skating\, music\, and mischief with our favorite yellow troublemaker! \nLet’s kick off the school year with good vibes\, cool prizes\, and one final celebration before the bell rings! \nSkip the line-buy your tickets online! BUY HERE!
URL:https://www.unitedskates.com/wickliffe/event/back-to-school-skate-2/
CATEGORIES:Family Events,Public Skates,Special Events
ATTACH;FMTTYPE=image/jpeg:https://unitedskates-assets.sfo3.digitaloceanspaces.com/wp-content/uploads/sites/12/2025/06/Back-to-School-Despicable-Me-Skate-page-001-scaled.jpg
END:VEVENT
BEGIN:VEVENT
DTSTART;TZID=America/New_York:20250808T213000
DTEND;TZID=America/New_York:20250809T000000
DTSTAMP:20260421T205627
CREATED:20250604T171910Z
LAST-MODIFIED:20250617T200209Z
UID:20775-1754688600-1754697600@www.unitedskates.com
SUMMARY:Gospel Back to School Skate
DESCRIPTION:🛼🙏 Gospel Skate Is Back — with a Back-to-School Blessing! 🙏🛼Join us for a special edition of our beloved Gospel Skate Night\, now with a Back to School twist! \nLet’s come together in faith\, fun\, and fellowship as we roll into the new school year with uplifting music\, good vibes\, and a spirit of community. \nFriday\, August 8th 9:30pm-12:00am \nAdmission $13.00 \nSkate Rental $6.00 \n📚✨ This special session will include:🎶 Inspirational gospel music to skate to🎒 Back-to-school giveaways to get students ready🙏 A positive\, family-friendly atmosphere full of love and encouragement \nWhether you’re skating or praising\, it’s the perfect way to prepare for the school year ahead — with joy\, unity\, and grace. \nBook your group fun night out our fundraiser today! Call Amber for more information 440-944-5301 \nSkip the line-buy your tickets online! BUY HERE!
URL:https://www.unitedskates.com/wickliffe/event/gospel-back-to-school-skate/
CATEGORIES:Family Events,Public Skates,Special Events
ATTACH;FMTTYPE=image/jpeg:https://unitedskates-assets.sfo3.digitaloceanspaces.com/wp-content/uploads/sites/12/2025/06/Back-to-School-Gospel-Skate.jpg
END:VEVENT
END:VCALENDAR