BEGIN:VCALENDAR
VERSION:2.0
PRODID:-//Rink 11 - Wickliffe - ECPv6.15.20//NONSGML v1.0//EN
CALSCALE:GREGORIAN
METHOD:PUBLISH
X-WR-CALNAME:Rink 11 - Wickliffe
X-ORIGINAL-URL:https://www.unitedskates.com/wickliffe
X-WR-CALDESC:Events for Rink 11 - Wickliffe
REFRESH-INTERVAL;VALUE=DURATION:PT1H
X-Robots-Tag:noindex
X-PUBLISHED-TTL:PT1H
BEGIN:VTIMEZONE
TZID:America/New_York
BEGIN:DAYLIGHT
TZOFFSETFROM:-0500
TZOFFSETTO:-0400
TZNAME:EDT
DTSTART:20240310T070000
END:DAYLIGHT
BEGIN:STANDARD
TZOFFSETFROM:-0400
TZOFFSETTO:-0500
TZNAME:EST
DTSTART:20241103T060000
END:STANDARD
BEGIN:DAYLIGHT
TZOFFSETFROM:-0500
TZOFFSETTO:-0400
TZNAME:EDT
DTSTART:20250309T070000
END:DAYLIGHT
BEGIN:STANDARD
TZOFFSETFROM:-0400
TZOFFSETTO:-0500
TZNAME:EST
DTSTART:20251102T060000
END:STANDARD
BEGIN:DAYLIGHT
TZOFFSETFROM:-0500
TZOFFSETTO:-0400
TZNAME:EDT
DTSTART:20260308T070000
END:DAYLIGHT
BEGIN:STANDARD
TZOFFSETFROM:-0400
TZOFFSETTO:-0500
TZNAME:EST
DTSTART:20261101T060000
END:STANDARD
END:VTIMEZONE
BEGIN:VEVENT
DTSTART;TZID=America/New_York:20250802T123000
DTEND;TZID=America/New_York:20250802T150000
DTSTAMP:20260422T163659
CREATED:20250604T172550Z
LAST-MODIFIED:20250615T021306Z
UID:20781-1754137800-1754146800@www.unitedskates.com
SUMMARY:Ice Cream Sandwich Skate
DESCRIPTION:🍦🍪 Who Loves Ice Cream Sandwiches? We Do! How About You? 🍪🍦We’re celebrating National Ice Cream Sandwich Day the only way we know how — by sharing the sweetness with YOU! \nJoin us on Saturday\, August 2nd 12:30pm-3:00pm for a cool and tasty celebration! With your paid admission\, you’ll get a FREE ice cream sandwich to help you beat the heat and treat yourself. \nAdmission $13.00 \nSkate Rental $6.00 \n🎉 Cool treats\, good vibes\, and skating fun — what could be sweeter? \nRoll on down… because ice cream is better when shared! \nSkip the line-buy your tickets online! BUY HERE!
URL:https://www.unitedskates.com/wickliffe/event/ice-cream-sandwich-skate-9/
CATEGORIES:Family Events,Public Skates,Special Events
ATTACH;FMTTYPE=image/jpeg:https://unitedskates-assets.sfo3.digitaloceanspaces.com/wp-content/uploads/sites/12/2023/10/ice-sand-skate-rink-11-1.jpg
END:VEVENT
END:VCALENDAR