BEGIN:VCALENDAR
VERSION:2.0
PRODID:-//Rink 11 - Wickliffe - ECPv6.15.20//NONSGML v1.0//EN
CALSCALE:GREGORIAN
METHOD:PUBLISH
X-ORIGINAL-URL:https://www.unitedskates.com/wickliffe
X-WR-CALDESC:Events for Rink 11 - Wickliffe
REFRESH-INTERVAL;VALUE=DURATION:PT1H
X-Robots-Tag:noindex
X-PUBLISHED-TTL:PT1H
BEGIN:VTIMEZONE
TZID:America/New_York
BEGIN:DAYLIGHT
TZOFFSETFROM:-0500
TZOFFSETTO:-0400
TZNAME:EDT
DTSTART:20240310T070000
END:DAYLIGHT
BEGIN:STANDARD
TZOFFSETFROM:-0400
TZOFFSETTO:-0500
TZNAME:EST
DTSTART:20241103T060000
END:STANDARD
BEGIN:DAYLIGHT
TZOFFSETFROM:-0500
TZOFFSETTO:-0400
TZNAME:EDT
DTSTART:20250309T070000
END:DAYLIGHT
BEGIN:STANDARD
TZOFFSETFROM:-0400
TZOFFSETTO:-0500
TZNAME:EST
DTSTART:20251102T060000
END:STANDARD
BEGIN:DAYLIGHT
TZOFFSETFROM:-0500
TZOFFSETTO:-0400
TZNAME:EDT
DTSTART:20260308T070000
END:DAYLIGHT
BEGIN:STANDARD
TZOFFSETFROM:-0400
TZOFFSETTO:-0500
TZNAME:EST
DTSTART:20261101T060000
END:STANDARD
END:VTIMEZONE
BEGIN:VEVENT
DTSTART;TZID=America/New_York:20250712T123000
DTEND;TZID=America/New_York:20250712T150000
DTSTAMP:20260422T205919
CREATED:20250604T153237Z
LAST-MODIFIED:20250615T015715Z
UID:20724-1752323400-1752332400@www.unitedskates.com
SUMMARY:Sno Cones with Minnie Mouse
DESCRIPTION:🎀🍧 Calling All Minnie Mouse Fans! 🍧🎀Kick off your Saturday afternoon with something extra sweet — and a visit from the one and only Minnie Mouse! \nShe’s bringing smiles\, sparkles\, and sno cones — and she can’t wait to meet you and make new friends! \nSaturday\, July 12th 12:30pm-3:00pm \nAdmission $13.00 \nSkate Rental $6.00 \n🎉 Meet Minnie Mouse🍧 Get a FREE sno cone with your paid admission🛼 Enjoy an afternoon full of fun\, laughter\, and skating magic! \nPut on your polka dots and join us for a Minnie-rific time you won’t forget! \nSkip the line-buy your tickets online! BUY HERE!
URL:https://www.unitedskates.com/wickliffe/event/sno-cones-with-minnie-mouse/
CATEGORIES:Family Events,Public Skates,Special Events
ATTACH;FMTTYPE=image/jpeg:https://unitedskates-assets.sfo3.digitaloceanspaces.com/wp-content/uploads/sites/12/2025/06/Sno-cones-with-Minnie-page-001-scaled.jpg
END:VEVENT
END:VCALENDAR