BEGIN:VCALENDAR
VERSION:2.0
PRODID:-//Rink 11 - Wickliffe - ECPv6.15.20//NONSGML v1.0//EN
CALSCALE:GREGORIAN
METHOD:PUBLISH
X-ORIGINAL-URL:https://www.unitedskates.com/wickliffe
X-WR-CALDESC:Events for Rink 11 - Wickliffe
REFRESH-INTERVAL;VALUE=DURATION:PT1H
X-Robots-Tag:noindex
X-PUBLISHED-TTL:PT1H
BEGIN:VTIMEZONE
TZID:America/New_York
BEGIN:DAYLIGHT
TZOFFSETFROM:-0500
TZOFFSETTO:-0400
TZNAME:EDT
DTSTART:20240310T070000
END:DAYLIGHT
BEGIN:STANDARD
TZOFFSETFROM:-0400
TZOFFSETTO:-0500
TZNAME:EST
DTSTART:20241103T060000
END:STANDARD
BEGIN:DAYLIGHT
TZOFFSETFROM:-0500
TZOFFSETTO:-0400
TZNAME:EDT
DTSTART:20250309T070000
END:DAYLIGHT
BEGIN:STANDARD
TZOFFSETFROM:-0400
TZOFFSETTO:-0500
TZNAME:EST
DTSTART:20251102T060000
END:STANDARD
BEGIN:DAYLIGHT
TZOFFSETFROM:-0500
TZOFFSETTO:-0400
TZNAME:EDT
DTSTART:20260308T070000
END:DAYLIGHT
BEGIN:STANDARD
TZOFFSETFROM:-0400
TZOFFSETTO:-0500
TZNAME:EST
DTSTART:20261101T060000
END:STANDARD
END:VTIMEZONE
BEGIN:VEVENT
DTSTART;TZID=America/New_York:20250703T180000
DTEND;TZID=America/New_York:20250703T203000
DTSTAMP:20260424T001137
CREATED:20250501T133606Z
LAST-MODIFIED:20250615T014731Z
UID:20356-1751565600-1751574600@www.unitedskates.com
SUMMARY:Sonic's Red\, White and Boom Skate
DESCRIPTION:Guess who’s racing back to United Skates? \nHe’s having an absolute blast and doesn’t want the fun to end! \nJoin Sonic as he kicks off the Fourth of July with his exciting Red\, White and Boom Skate event. \nCome meet Sonic and join in on the festivities to make your holiday kickoff even sweeter. \nThursday\, July 3rd 6:00pm-8:30pm \nAdmission $10.00 \nSkate Rental $6.00 \nSonic is even giving away a delicious red\, white and blue sno cone with every paid admission. \nThis sure will cool you down and help celebrate the holiday in style. \nSkip the line-buy your tickets online! BUY HERE!
URL:https://www.unitedskates.com/wickliffe/event/sonics-red-white-and-boom-skate/
CATEGORIES:Family Events,Public Skates,Special Events
ATTACH;FMTTYPE=image/jpeg:https://unitedskates-assets.sfo3.digitaloceanspaces.com/wp-content/uploads/sites/12/2025/05/Sonics-Red-White-Boom-Skate-page-001-scaled.jpg
END:VEVENT
BEGIN:VEVENT
DTSTART;TZID=America/New_York:20250703T210000
DTEND;TZID=America/New_York:20250704T010000
DTSTAMP:20260424T001137
CREATED:20250501T134059Z
LAST-MODIFIED:20250618T193933Z
UID:20358-1751576400-1751590800@www.unitedskates.com
SUMMARY:Denim and Diamonds Adult Skate
DESCRIPTION:Attention Adults! \nGet ready to kick off your Fourth of July in style with an unforgettable night dedicated to the best of both Old School and New School R&B Music. \nJoin us for our Denim and Diamonds Skate night\, where you can show off your unique style and have a blast on the rink. \nThursday\, July 3rd 9:00pm-1:00am \nAdmission $12.00 \nSkate Rental $6.00 \n18+ with valid ID \nCome dressed to impress! We’ll also be hosting a contest for the best-dressed in denim!!! \nSkip the line-buy your tickets online! BUY HERE!
URL:https://www.unitedskates.com/wickliffe/event/denim-and-diamonds-adult-skate/
CATEGORIES:Adult Events,Special Events
ATTACH;FMTTYPE=image/jpeg:https://unitedskates-assets.sfo3.digitaloceanspaces.com/wp-content/uploads/sites/12/2025/05/denim-and-diamond-adult-skate-11.jpg
END:VEVENT
END:VCALENDAR