BEGIN:VCALENDAR
VERSION:2.0
PRODID:-//Rink 11 - Wickliffe - ECPv6.15.20//NONSGML v1.0//EN
CALSCALE:GREGORIAN
METHOD:PUBLISH
X-ORIGINAL-URL:https://www.unitedskates.com/wickliffe
X-WR-CALDESC:Events for Rink 11 - Wickliffe
REFRESH-INTERVAL;VALUE=DURATION:PT1H
X-Robots-Tag:noindex
X-PUBLISHED-TTL:PT1H
BEGIN:VTIMEZONE
TZID:America/New_York
BEGIN:DAYLIGHT
TZOFFSETFROM:-0500
TZOFFSETTO:-0400
TZNAME:EDT
DTSTART:20240310T070000
END:DAYLIGHT
BEGIN:STANDARD
TZOFFSETFROM:-0400
TZOFFSETTO:-0500
TZNAME:EST
DTSTART:20241103T060000
END:STANDARD
BEGIN:DAYLIGHT
TZOFFSETFROM:-0500
TZOFFSETTO:-0400
TZNAME:EDT
DTSTART:20250309T070000
END:DAYLIGHT
BEGIN:STANDARD
TZOFFSETFROM:-0400
TZOFFSETTO:-0500
TZNAME:EST
DTSTART:20251102T060000
END:STANDARD
BEGIN:DAYLIGHT
TZOFFSETFROM:-0500
TZOFFSETTO:-0400
TZNAME:EDT
DTSTART:20260308T070000
END:DAYLIGHT
BEGIN:STANDARD
TZOFFSETFROM:-0400
TZOFFSETTO:-0500
TZNAME:EST
DTSTART:20261101T060000
END:STANDARD
END:VTIMEZONE
BEGIN:VEVENT
DTSTART;TZID=America/New_York:20250624T123000
DTEND;TZID=America/New_York:20250624T150000
DTSTAMP:20260423T051454
CREATED:20250326T213703Z
LAST-MODIFIED:20250615T013542Z
UID:20104-1750768200-1750777200@www.unitedskates.com
SUMMARY:Rice Krispie Treat Day
DESCRIPTION:Join us for a day filled around the marshmallow sweet treats! \nGet a chance to win a giant Rice Krispie Treat!! \nTuesday\, June 24th and Thursday\, July 31st 12:30pm-3:00pm \nAdmission $11.00 \nSkate Rental $6.00 \nFree Rice Krispie Treats with paid admission \nBook your daycare\, YMCA\, Summer Camp etc. Call our Sales Team 440-944-5301 \nSkip the line-buy your tickets online! BUY HERE!
URL:https://www.unitedskates.com/wickliffe/event/rice-krispie-treat-day/2025-06-24/
CATEGORIES:Family Events,Public Skates,Special Events
ATTACH;FMTTYPE=image/jpeg:https://unitedskates-assets.sfo3.digitaloceanspaces.com/wp-content/uploads/sites/12/2025/03/Rice-Krispie-Flyer-Skate-summer-page-001-scaled.jpg
END:VEVENT
BEGIN:VEVENT
DTSTART;TZID=America/New_York:20250624T180000
DTEND;TZID=America/New_York:20250624T203000
DTSTAMP:20260423T051454
CREATED:20250501T002344Z
LAST-MODIFIED:20250615T013633Z
UID:20339-1750788000-1750797000@www.unitedskates.com
SUMMARY:Nacho Tuesday
DESCRIPTION:Instead of Taco Tuesday\, we’re switching it up to Nacho Tuesday! \nCome join us for a delicious treat-get FREE nachos with every paid admission! \nIt’s the perfect way to enjoy some tasty snacks while having fun on the rink. \nTuesday\, June 24th 6:00pm-8:30pm \nAdmission $10.00 \nSkate Rental $6.00 \nDon’t miss out on this tasty twist. \nSkip the line-buy your tickets online! BUY HERE!
URL:https://www.unitedskates.com/wickliffe/event/nacho-tuesday-2/
CATEGORIES:Family Events,Public Skates,Special Events
ATTACH;FMTTYPE=image/png:https://unitedskates-assets.sfo3.digitaloceanspaces.com/wp-content/uploads/sites/12/2025/04/nacho-tile.png
END:VEVENT
END:VCALENDAR