BEGIN:VCALENDAR
VERSION:2.0
PRODID:-//Rink 11 - Wickliffe - ECPv6.15.20//NONSGML v1.0//EN
CALSCALE:GREGORIAN
METHOD:PUBLISH
X-ORIGINAL-URL:https://www.unitedskates.com/wickliffe
X-WR-CALDESC:Events for Rink 11 - Wickliffe
REFRESH-INTERVAL;VALUE=DURATION:PT1H
X-Robots-Tag:noindex
X-PUBLISHED-TTL:PT1H
BEGIN:VTIMEZONE
TZID:America/New_York
BEGIN:DAYLIGHT
TZOFFSETFROM:-0500
TZOFFSETTO:-0400
TZNAME:EDT
DTSTART:20240310T070000
END:DAYLIGHT
BEGIN:STANDARD
TZOFFSETFROM:-0400
TZOFFSETTO:-0500
TZNAME:EST
DTSTART:20241103T060000
END:STANDARD
BEGIN:DAYLIGHT
TZOFFSETFROM:-0500
TZOFFSETTO:-0400
TZNAME:EDT
DTSTART:20250309T070000
END:DAYLIGHT
BEGIN:STANDARD
TZOFFSETFROM:-0400
TZOFFSETTO:-0500
TZNAME:EST
DTSTART:20251102T060000
END:STANDARD
BEGIN:DAYLIGHT
TZOFFSETFROM:-0500
TZOFFSETTO:-0400
TZNAME:EDT
DTSTART:20260308T070000
END:DAYLIGHT
BEGIN:STANDARD
TZOFFSETFROM:-0400
TZOFFSETTO:-0500
TZNAME:EST
DTSTART:20261101T060000
END:STANDARD
END:VTIMEZONE
BEGIN:VEVENT
DTSTART;TZID=America/New_York:20250614T123000
DTEND;TZID=America/New_York:20250614T150000
DTSTAMP:20260423T051453
CREATED:20250430T211803Z
LAST-MODIFIED:20250430T211803Z
UID:20315-1749904200-1749913200@www.unitedskates.com
SUMMARY:Scratch and Sniff Sticker Day
DESCRIPTION:Are you a fan of scratch-and-sniff stickers? \nIf so\, this event is tailor-made for you! \nJoin us for an exciting day where\, with your paid admission\, you’ll receive two tickets to our exclusive scratch-and-sniff sticker station! \nBut that’s not all- we’ll also be raffling off some delightful silly-scented markers to two lucky winners! \nSaturday\, June 14th 12:30pm-3:00pm \nAdmission $13.00 \nSkate Rental $6.00 \nDon’t miss your chance to experience the fun and whimsey of these unique stickers and markers!
URL:https://www.unitedskates.com/wickliffe/event/scratch-and-sniff-sticker-day/
CATEGORIES:Family Events,Public Skates,Special Events
ATTACH;FMTTYPE=image/jpeg:https://unitedskates-assets.sfo3.digitaloceanspaces.com/wp-content/uploads/sites/12/2025/04/Scratch-and-Sniff-SKATE-page-001.jpg
END:VEVENT
END:VCALENDAR