BEGIN:VCALENDAR
VERSION:2.0
PRODID:-//Rink 11 - Wickliffe - ECPv6.15.20//NONSGML v1.0//EN
CALSCALE:GREGORIAN
METHOD:PUBLISH
X-ORIGINAL-URL:https://www.unitedskates.com/wickliffe
X-WR-CALDESC:Events for Rink 11 - Wickliffe
REFRESH-INTERVAL;VALUE=DURATION:PT1H
X-Robots-Tag:noindex
X-PUBLISHED-TTL:PT1H
BEGIN:VTIMEZONE
TZID:America/New_York
BEGIN:DAYLIGHT
TZOFFSETFROM:-0500
TZOFFSETTO:-0400
TZNAME:EDT
DTSTART:20240310T070000
END:DAYLIGHT
BEGIN:STANDARD
TZOFFSETFROM:-0400
TZOFFSETTO:-0500
TZNAME:EST
DTSTART:20241103T060000
END:STANDARD
BEGIN:DAYLIGHT
TZOFFSETFROM:-0500
TZOFFSETTO:-0400
TZNAME:EDT
DTSTART:20250309T070000
END:DAYLIGHT
BEGIN:STANDARD
TZOFFSETFROM:-0400
TZOFFSETTO:-0500
TZNAME:EST
DTSTART:20251102T060000
END:STANDARD
BEGIN:DAYLIGHT
TZOFFSETFROM:-0500
TZOFFSETTO:-0400
TZNAME:EDT
DTSTART:20260308T070000
END:DAYLIGHT
BEGIN:STANDARD
TZOFFSETFROM:-0400
TZOFFSETTO:-0500
TZNAME:EST
DTSTART:20261101T060000
END:STANDARD
END:VTIMEZONE
BEGIN:VEVENT
DTSTART;TZID=America/New_York:20250613T123000
DTEND;TZID=America/New_York:20250613T150000
DTSTAMP:20260423T092643
CREATED:20250326T211421Z
LAST-MODIFIED:20250513T201937Z
UID:20093-1749817800-1749826800@www.unitedskates.com
SUMMARY:Jack Skellington Skate
DESCRIPTION:It’s Friday the 13th!! \nCelebrate the spirit of Halloween Town while skating to some of your favorite music. \nFriday\, June 13th 12:30pm-3:00pm \nAdmission $10.00 \nSkate Rental $6.00 \nDress up as your favorite character and enjoy a spooky good time! \nBonus! Meet Jack Skellington live and in person. \nBook your daycare\, YMCA\, Summer Camp etc. Call our Sales Team 440-944-5301
URL:https://www.unitedskates.com/wickliffe/event/jack-skellington-skate/
CATEGORIES:Family Events,Public Skates,Special Events
ATTACH;FMTTYPE=image/gif:https://unitedskates-assets.sfo3.digitaloceanspaces.com/wp-content/uploads/sites/12/2025/03/jack-skellington-skate.gif
END:VEVENT
BEGIN:VEVENT
DTSTART;TZID=America/New_York:20250613T180000
DTEND;TZID=America/New_York:20250613T210000
DTSTAMP:20260423T092643
CREATED:20250430T210133Z
LAST-MODIFIED:20250430T210133Z
UID:20312-1749837600-1749848400@www.unitedskates.com
SUMMARY:Friday the 13th Skate
DESCRIPTION:For the first time ever\, Jason is making a thrilling grand appearance for Friday the 13th! \nGet ready for an unforgettable experience as you try to spot him during our rolling blackouts and surprise pop-up visits. \nYou’ll never know where he might show up next. \nFriday\, June 13th 6:00pm-9:00pm \nAdmission $13.00 \nSkate Rental $6.00 \nDon’t miss out on our exciting dress-up contest-come dressed as your best version of Jason\, and you could WIN! \nBe sure to swing by cafe and check out our spooky cafe deals! \nCapture the moment at our eerie photo ops! \nThis event is also a perfect opportunity for a birthday party\, so make sure to book yours today! \nMake sure to join us for a night of fun\, fright and festivities.
URL:https://www.unitedskates.com/wickliffe/event/friday-the-13th-skate/
CATEGORIES:Family Events,Public Skates,Special Events
ATTACH;FMTTYPE=image/jpeg:https://unitedskates-assets.sfo3.digitaloceanspaces.com/wp-content/uploads/sites/12/2025/04/friday-13-skate-summer-page-001-scaled.jpg
END:VEVENT
END:VCALENDAR