BEGIN:VCALENDAR
VERSION:2.0
PRODID:-//Rink 11 - Wickliffe - ECPv6.15.20//NONSGML v1.0//EN
CALSCALE:GREGORIAN
METHOD:PUBLISH
X-WR-CALNAME:Rink 11 - Wickliffe
X-ORIGINAL-URL:https://www.unitedskates.com/wickliffe
X-WR-CALDESC:Events for Rink 11 - Wickliffe
REFRESH-INTERVAL;VALUE=DURATION:PT1H
X-Robots-Tag:noindex
X-PUBLISHED-TTL:PT1H
BEGIN:VTIMEZONE
TZID:America/New_York
BEGIN:DAYLIGHT
TZOFFSETFROM:-0500
TZOFFSETTO:-0400
TZNAME:EDT
DTSTART:20240310T070000
END:DAYLIGHT
BEGIN:STANDARD
TZOFFSETFROM:-0400
TZOFFSETTO:-0500
TZNAME:EST
DTSTART:20241103T060000
END:STANDARD
BEGIN:DAYLIGHT
TZOFFSETFROM:-0500
TZOFFSETTO:-0400
TZNAME:EDT
DTSTART:20250309T070000
END:DAYLIGHT
BEGIN:STANDARD
TZOFFSETFROM:-0400
TZOFFSETTO:-0500
TZNAME:EST
DTSTART:20251102T060000
END:STANDARD
BEGIN:DAYLIGHT
TZOFFSETFROM:-0500
TZOFFSETTO:-0400
TZNAME:EDT
DTSTART:20260308T070000
END:DAYLIGHT
BEGIN:STANDARD
TZOFFSETFROM:-0400
TZOFFSETTO:-0500
TZNAME:EST
DTSTART:20261101T060000
END:STANDARD
END:VTIMEZONE
BEGIN:VEVENT
DTSTART;TZID=America/New_York:20250607T123000
DTEND;TZID=America/New_York:20250607T150000
DTSTAMP:20260423T010736
CREATED:20250430T203219Z
LAST-MODIFIED:20250430T203219Z
UID:20304-1749299400-1749308400@www.unitedskates.com
SUMMARY:Cookie Crazy Skate
DESCRIPTION:Calling all cookie fanatics! \nThis skate session is designed just for you! \nJoin us for a fun-filled time where you’ll have the chance to win some of your favorite cookies throughout the entire session. \nSaturday\, June 6th 12:30pm-3:00pm \nAdmission $13.00 \nSkate Rental $6.00 \nDon’t miss out on this sweet opportunity to indulge in sweet treats while enjoying an afternoon of games\, skating and more.
URL:https://www.unitedskates.com/wickliffe/event/cookie-crazy-skate-3/
CATEGORIES:Family Events,Public Skates,Special Events
ATTACH;FMTTYPE=image/jpeg:https://unitedskates-assets.sfo3.digitaloceanspaces.com/wp-content/uploads/sites/12/2025/04/Cookie-Crazy-Skate-2025-page-001-scaled.jpg
END:VEVENT
END:VCALENDAR