BEGIN:VCALENDAR
VERSION:2.0
PRODID:-//Rink 11 - Wickliffe - ECPv6.15.20//NONSGML v1.0//EN
CALSCALE:GREGORIAN
METHOD:PUBLISH
X-WR-CALNAME:Rink 11 - Wickliffe
X-ORIGINAL-URL:https://www.unitedskates.com/wickliffe
X-WR-CALDESC:Events for Rink 11 - Wickliffe
REFRESH-INTERVAL;VALUE=DURATION:PT1H
X-Robots-Tag:noindex
X-PUBLISHED-TTL:PT1H
BEGIN:VTIMEZONE
TZID:America/New_York
BEGIN:DAYLIGHT
TZOFFSETFROM:-0500
TZOFFSETTO:-0400
TZNAME:EDT
DTSTART:20240310T070000
END:DAYLIGHT
BEGIN:STANDARD
TZOFFSETFROM:-0400
TZOFFSETTO:-0500
TZNAME:EST
DTSTART:20241103T060000
END:STANDARD
BEGIN:DAYLIGHT
TZOFFSETFROM:-0500
TZOFFSETTO:-0400
TZNAME:EDT
DTSTART:20250309T070000
END:DAYLIGHT
BEGIN:STANDARD
TZOFFSETFROM:-0400
TZOFFSETTO:-0500
TZNAME:EST
DTSTART:20251102T060000
END:STANDARD
BEGIN:DAYLIGHT
TZOFFSETFROM:-0500
TZOFFSETTO:-0400
TZNAME:EDT
DTSTART:20260308T070000
END:DAYLIGHT
BEGIN:STANDARD
TZOFFSETFROM:-0400
TZOFFSETTO:-0500
TZNAME:EST
DTSTART:20261101T060000
END:STANDARD
END:VTIMEZONE
BEGIN:VEVENT
DTSTART;TZID=America/New_York:20250605T123000
DTEND;TZID=America/New_York:20250605T150000
DTSTAMP:20260423T035211
CREATED:20250521T142015Z
LAST-MODIFIED:20250521T142030Z
UID:20448-1749126600-1749135600@www.unitedskates.com
SUMMARY:Summer Character Extravaganza
DESCRIPTION:🎉 Get Ready for a Summer Break Kickoff Like No Other! ☀️ \nThursday\, June 5th & Friday\, June 6thIt’s time to kick off summer with some serious star power at our Character Extravaganza! 🤩 \nFrom Mario 🧢 to Poppy 🌸\, Mickey Mouse 🐭 and so many more surprise guests — your favorite characters are stepping off the screen and into real life for two unforgettable days of fun\, photos\, and magical memories! \n🎈 Perfect for:✅ Daycares✅ Summer Camps✅ YMCAs✅ And more! \nAdmission $10.00 \nSkate Rental $6.00 \nSpots are filling up fast\, so don’t miss out on this epic event designed to thrill kids and bring smiles all around! \n📞 Call Amber today at 440-944-5301 to book your group!Let’s make this the most unforgettable summer kickoff ever! 🌟
URL:https://www.unitedskates.com/wickliffe/event/summer-character-extravaganza/2025-06-05/
CATEGORIES:Family Events,Public Skates,Special Events
ATTACH;FMTTYPE=image/jpeg:https://unitedskates-assets.sfo3.digitaloceanspaces.com/wp-content/uploads/sites/12/2025/05/character-extravaganza-skate-june-page-001-scaled.jpg
END:VEVENT
END:VCALENDAR