BEGIN:VCALENDAR
VERSION:2.0
PRODID:-//Rink 11 - Wickliffe - ECPv6.15.20//NONSGML v1.0//EN
CALSCALE:GREGORIAN
METHOD:PUBLISH
X-ORIGINAL-URL:https://www.unitedskates.com/wickliffe
X-WR-CALDESC:Events for Rink 11 - Wickliffe
REFRESH-INTERVAL;VALUE=DURATION:PT1H
X-Robots-Tag:noindex
X-PUBLISHED-TTL:PT1H
BEGIN:VTIMEZONE
TZID:America/New_York
BEGIN:DAYLIGHT
TZOFFSETFROM:-0500
TZOFFSETTO:-0400
TZNAME:EDT
DTSTART:20240310T070000
END:DAYLIGHT
BEGIN:STANDARD
TZOFFSETFROM:-0400
TZOFFSETTO:-0500
TZNAME:EST
DTSTART:20241103T060000
END:STANDARD
BEGIN:DAYLIGHT
TZOFFSETFROM:-0500
TZOFFSETTO:-0400
TZNAME:EDT
DTSTART:20250309T070000
END:DAYLIGHT
BEGIN:STANDARD
TZOFFSETFROM:-0400
TZOFFSETTO:-0500
TZNAME:EST
DTSTART:20251102T060000
END:STANDARD
BEGIN:DAYLIGHT
TZOFFSETFROM:-0500
TZOFFSETTO:-0400
TZNAME:EDT
DTSTART:20260308T070000
END:DAYLIGHT
BEGIN:STANDARD
TZOFFSETFROM:-0400
TZOFFSETTO:-0500
TZNAME:EST
DTSTART:20261101T060000
END:STANDARD
END:VTIMEZONE
BEGIN:VEVENT
DTSTART;TZID=America/New_York:20250526T123000
DTEND;TZID=America/New_York:20250526T150000
DTSTAMP:20260423T153524
CREATED:20250326T203606Z
LAST-MODIFIED:20250401T194431Z
UID:20041-1748262600-1748271600@www.unitedskates.com
SUMMARY:Party in the USA
DESCRIPTION:It’s Memorial Day\, and we’re ready to celebrate with you! \nIf you’re looking for fun plans to get out of the house\, look no further. \nJoin us for an exciting day filled with activities from skating\, laser tag and more! \nMonday May 26th 12:30pm-3:00pm and 3:30pm-6:00pm \nJust $15.99 includes skate rental\, unlimited pizza\, and a thrilling game of laser tag \nNon-skating adults $10.00 includes unlimited pizza \nBring your friends and family for a day of laughter! \nPizza served from 1:00pm-2:30pm and 4:00pm-5:30pm
URL:https://www.unitedskates.com/wickliffe/event/party-in-the-usa/2025-05-26/
CATEGORIES:Adult Events,Public Skates,Special Events
ATTACH;FMTTYPE=image/jpeg:https://unitedskates-assets.sfo3.digitaloceanspaces.com/wp-content/uploads/sites/12/2025/03/Party-in-Usa-Skate-2025-page-001-scaled.jpg
END:VEVENT
BEGIN:VEVENT
DTSTART;TZID=America/New_York:20250526T190000
DTEND;TZID=America/New_York:20250526T230000
DTSTAMP:20260423T153524
CREATED:20250401T202803Z
LAST-MODIFIED:20250401T202804Z
UID:20186-1748286000-1748300400@www.unitedskates.com
SUMMARY:Old School Memorial Adult Skate
DESCRIPTION:Get ready for an Old School Memorial Day Skate! \nJoin us for a night of nostalgia featuring the best jazz\, 80s and 90s hits\, and classic skate music that will take you back in time. \nGather your friends for an evening of fun\, laughter and great tunes as we celebrate this Memorial Day together. \nMonday\, May 26th 7:00pm-11:00pm \nAdmission $12.00 \nSkate Rental $6.00 \n 
URL:https://www.unitedskates.com/wickliffe/event/old-school-memorial-adult-skate/
CATEGORIES:Family Events,Public Skates,Special Events
ATTACH;FMTTYPE=image/jpeg:https://unitedskates-assets.sfo3.digitaloceanspaces.com/wp-content/uploads/sites/12/2025/04/memorial-day-old-school-adult-skate-25-page-001-scaled.jpg
END:VEVENT
END:VCALENDAR