BEGIN:VCALENDAR
VERSION:2.0
PRODID:-//Rink 11 - Wickliffe - ECPv6.15.20//NONSGML v1.0//EN
CALSCALE:GREGORIAN
METHOD:PUBLISH
X-WR-CALNAME:Rink 11 - Wickliffe
X-ORIGINAL-URL:https://www.unitedskates.com/wickliffe
X-WR-CALDESC:Events for Rink 11 - Wickliffe
REFRESH-INTERVAL;VALUE=DURATION:PT1H
X-Robots-Tag:noindex
X-PUBLISHED-TTL:PT1H
BEGIN:VTIMEZONE
TZID:America/New_York
BEGIN:DAYLIGHT
TZOFFSETFROM:-0500
TZOFFSETTO:-0400
TZNAME:EDT
DTSTART:20240310T070000
END:DAYLIGHT
BEGIN:STANDARD
TZOFFSETFROM:-0400
TZOFFSETTO:-0500
TZNAME:EST
DTSTART:20241103T060000
END:STANDARD
BEGIN:DAYLIGHT
TZOFFSETFROM:-0500
TZOFFSETTO:-0400
TZNAME:EDT
DTSTART:20250309T070000
END:DAYLIGHT
BEGIN:STANDARD
TZOFFSETFROM:-0400
TZOFFSETTO:-0500
TZNAME:EST
DTSTART:20251102T060000
END:STANDARD
BEGIN:DAYLIGHT
TZOFFSETFROM:-0500
TZOFFSETTO:-0400
TZNAME:EDT
DTSTART:20260308T070000
END:DAYLIGHT
BEGIN:STANDARD
TZOFFSETFROM:-0400
TZOFFSETTO:-0500
TZNAME:EST
DTSTART:20261101T060000
END:STANDARD
END:VTIMEZONE
BEGIN:VEVENT
DTSTART;TZID=America/New_York:20250510T123000
DTEND;TZID=America/New_York:20250510T150000
DTSTAMP:20260423T035156
CREATED:20250326T193548Z
LAST-MODIFIED:20250331T190727Z
UID:20030-1746880200-1746889200@www.unitedskates.com
SUMMARY:Minion Beach Party
DESCRIPTION:Get ready to kick off summer with a bang because it’s a beach party! \nJoin us for a day filled with fun activities\, including summer giveaways\, a hula contest and much more! \nSaturday\, May 10th 12:30pm-3:00pm \nAdmission $12.00 \nSkate Rental $6.00 \nAs a special treat\, the lovable Minion will be joining us to host the beach party\, adding an extra layer of excitement to the festivities! \nBring your friends and family for a day of glowing lights\, laughter and unforgettable memories!
URL:https://www.unitedskates.com/wickliffe/event/minion-beach-party/
CATEGORIES:Family Events,Public Skates,Special Events
ATTACH;FMTTYPE=image/jpeg:https://unitedskates-assets.sfo3.digitaloceanspaces.com/wp-content/uploads/sites/12/2025/03/Minion-Beach-Party-flyer-editable-page-001-scaled.jpg
END:VEVENT
END:VCALENDAR