BEGIN:VCALENDAR
VERSION:2.0
PRODID:-//Rink 11 - Wickliffe - ECPv6.15.20//NONSGML v1.0//EN
CALSCALE:GREGORIAN
METHOD:PUBLISH
X-ORIGINAL-URL:https://www.unitedskates.com/wickliffe
X-WR-CALDESC:Events for Rink 11 - Wickliffe
REFRESH-INTERVAL;VALUE=DURATION:PT1H
X-Robots-Tag:noindex
X-PUBLISHED-TTL:PT1H
BEGIN:VTIMEZONE
TZID:America/New_York
BEGIN:DAYLIGHT
TZOFFSETFROM:-0500
TZOFFSETTO:-0400
TZNAME:EDT
DTSTART:20240310T070000
END:DAYLIGHT
BEGIN:STANDARD
TZOFFSETFROM:-0400
TZOFFSETTO:-0500
TZNAME:EST
DTSTART:20241103T060000
END:STANDARD
BEGIN:DAYLIGHT
TZOFFSETFROM:-0500
TZOFFSETTO:-0400
TZNAME:EDT
DTSTART:20250309T070000
END:DAYLIGHT
BEGIN:STANDARD
TZOFFSETFROM:-0400
TZOFFSETTO:-0500
TZNAME:EST
DTSTART:20251102T060000
END:STANDARD
BEGIN:DAYLIGHT
TZOFFSETFROM:-0500
TZOFFSETTO:-0400
TZNAME:EDT
DTSTART:20260308T070000
END:DAYLIGHT
BEGIN:STANDARD
TZOFFSETFROM:-0400
TZOFFSETTO:-0500
TZNAME:EST
DTSTART:20261101T060000
END:STANDARD
END:VTIMEZONE
BEGIN:VEVENT
DTSTART;TZID=America/New_York:20250420T150000
DTEND;TZID=America/New_York:20250420T200000
DTSTAMP:20260424T112104
CREATED:20250122T211453Z
LAST-MODIFIED:20250203T212733Z
UID:19272-1745161200-1745179200@www.unitedskates.com
SUMMARY:Easter Character Explosion
DESCRIPTION:Get ready an Easter Explosion like no other! \nThe Easter Bunny is all set to kick off festivities and have the biggest party of the year! \nHe is even bringing along some of his friends to join this big celebration! From the beloved Mario to the speedy Sonic and many more!! \nSunday\, April 20th 3:00pm-8:00pm \nGet The Easter Bunnies deal only $20.00 includes admission\, 20 game credits and a game of laser tag \nNormal Admission $15.00 includes skate rental \nNon-skating adults $10.00 \nDo not forget your cameras! Picture opportunities are available! \nMake sure to stop by our color and craft table. \nBONUS! You can get your Face Painted from 3:30pm-6:30pm; you can even look like the Easter Bunny! \nThis is Family Fun for Everyone!!!
URL:https://www.unitedskates.com/wickliffe/event/easter-sunday-skate-2/
CATEGORIES:Family Events,Public Skates,Special Events
ATTACH;FMTTYPE=image/jpeg:https://unitedskates-assets.sfo3.digitaloceanspaces.com/wp-content/uploads/sites/12/2025/01/easter-sunday-explosion-skate-2025-page-001-scaled.jpg
END:VEVENT
BEGIN:VEVENT
DTSTART;TZID=America/New_York:20250420T210000
DTEND;TZID=America/New_York:20250421T020000
DTSTAMP:20260424T112104
CREATED:20250122T212332Z
LAST-MODIFIED:20250130T225702Z
UID:19274-1745182800-1745200800@www.unitedskates.com
SUMMARY:Bad Bunny Adult Skate
DESCRIPTION:It’s Easter Night! This is for just the adults! \nSunday\, April 20th 9:00pm-2:00am \nAdmission $13.00 \nSkate Rental $6.00 \n18+ with valid ID \n 
URL:https://www.unitedskates.com/wickliffe/event/bad-bunny-adult-skate-2/
CATEGORIES:Adult Events,Special Events
ATTACH;FMTTYPE=image/jpeg:https://unitedskates-assets.sfo3.digitaloceanspaces.com/wp-content/uploads/sites/12/2025/01/bad-bunny-adult-skate-2025-11.jpg
END:VEVENT
END:VCALENDAR