BEGIN:VCALENDAR
VERSION:2.0
PRODID:-//Rink 11 - Wickliffe - ECPv6.15.20//NONSGML v1.0//EN
CALSCALE:GREGORIAN
METHOD:PUBLISH
X-WR-CALNAME:Rink 11 - Wickliffe
X-ORIGINAL-URL:https://www.unitedskates.com/wickliffe
X-WR-CALDESC:Events for Rink 11 - Wickliffe
REFRESH-INTERVAL;VALUE=DURATION:PT1H
X-Robots-Tag:noindex
X-PUBLISHED-TTL:PT1H
BEGIN:VTIMEZONE
TZID:America/New_York
BEGIN:DAYLIGHT
TZOFFSETFROM:-0500
TZOFFSETTO:-0400
TZNAME:EDT
DTSTART:20240310T070000
END:DAYLIGHT
BEGIN:STANDARD
TZOFFSETFROM:-0400
TZOFFSETTO:-0500
TZNAME:EST
DTSTART:20241103T060000
END:STANDARD
BEGIN:DAYLIGHT
TZOFFSETFROM:-0500
TZOFFSETTO:-0400
TZNAME:EDT
DTSTART:20250309T070000
END:DAYLIGHT
BEGIN:STANDARD
TZOFFSETFROM:-0400
TZOFFSETTO:-0500
TZNAME:EST
DTSTART:20251102T060000
END:STANDARD
BEGIN:DAYLIGHT
TZOFFSETFROM:-0500
TZOFFSETTO:-0400
TZNAME:EDT
DTSTART:20260308T070000
END:DAYLIGHT
BEGIN:STANDARD
TZOFFSETFROM:-0400
TZOFFSETTO:-0500
TZNAME:EST
DTSTART:20261101T060000
END:STANDARD
END:VTIMEZONE
BEGIN:VEVENT
DTSTART;TZID=America/New_York:20250411T183000
DTEND;TZID=America/New_York:20250411T210000
DTSTAMP:20260423T140429
CREATED:20250226T151048Z
LAST-MODIFIED:20250226T193438Z
UID:19931-1744396200-1744405200@www.unitedskates.com
SUMMARY:Slime Galaxy Skate
DESCRIPTION:Get ready for an intergalactic experience! \nA galaxy far\, far away is making its way to bring you the most enchanting possession….SLIME!! \nYes\, you heard that right-slime is taking over\, and it’s going to be a spectacular event! \nMark your calendars for Friday\, April 11th from 6:30pm-9:00pm \nAdmission $12.00 \nSkate Rental $6.00 \nFree slime with paid admission \nPrepare for a gooey\, fun-filled adventure like no other. \nDon’t miss out on this cosmic celebration!
URL:https://www.unitedskates.com/wickliffe/event/slime-galaxy-skate-2/
CATEGORIES:Family Events,Public Skates,Special Events
ATTACH;FMTTYPE=image/jpeg:https://unitedskates-assets.sfo3.digitaloceanspaces.com/wp-content/uploads/sites/12/2025/02/Slime-Galaxy-Skate-page-001-scaled.jpg
END:VEVENT
BEGIN:VEVENT
DTSTART;TZID=America/New_York:20250411T213000
DTEND;TZID=America/New_York:20250412T003000
DTSTAMP:20260423T140429
CREATED:20250327T165009Z
LAST-MODIFIED:20250327T165010Z
UID:20155-1744407000-1744417800@www.unitedskates.com
SUMMARY:Emo Adult Skate
DESCRIPTION:Emo night is officially making its grand return! \nJoin us for an unforgettable evening of skating while jamming out to the most iconic emo tracks that tug your heartstrings. \nMusic from My Chemical Romance\, Sunny Day Real Estate\, Paramore\, Dashboard Confessional and so much more \nFriday\, April 11th 9:30pm-12:30am \nAdmission $12.00 \nSkate Rental $6.00 \n18+ with valid ID \nWhether you’re an old school fan or new to the scene\, this is the perfect opportunity to let loose\, connect with fellow enthusiasts\, and relive those emotional moments on wheels.
URL:https://www.unitedskates.com/wickliffe/event/emo-adult-skate-5/
CATEGORIES:Adult Events,Special Events
ATTACH;FMTTYPE=image/jpeg:https://unitedskates-assets.sfo3.digitaloceanspaces.com/wp-content/uploads/sites/12/2025/03/Emo-Adult-Skate-April-page-001-scaled.jpg
END:VEVENT
END:VCALENDAR