BEGIN:VCALENDAR
VERSION:2.0
PRODID:-//Rink 11 - Wickliffe - ECPv6.15.20//NONSGML v1.0//EN
CALSCALE:GREGORIAN
METHOD:PUBLISH
X-ORIGINAL-URL:https://www.unitedskates.com/wickliffe
X-WR-CALDESC:Events for Rink 11 - Wickliffe
REFRESH-INTERVAL;VALUE=DURATION:PT1H
X-Robots-Tag:noindex
X-PUBLISHED-TTL:PT1H
BEGIN:VTIMEZONE
TZID:America/New_York
BEGIN:DAYLIGHT
TZOFFSETFROM:-0500
TZOFFSETTO:-0400
TZNAME:EDT
DTSTART:20240310T070000
END:DAYLIGHT
BEGIN:STANDARD
TZOFFSETFROM:-0400
TZOFFSETTO:-0500
TZNAME:EST
DTSTART:20241103T060000
END:STANDARD
BEGIN:DAYLIGHT
TZOFFSETFROM:-0500
TZOFFSETTO:-0400
TZNAME:EDT
DTSTART:20250309T070000
END:DAYLIGHT
BEGIN:STANDARD
TZOFFSETFROM:-0400
TZOFFSETTO:-0500
TZNAME:EST
DTSTART:20251102T060000
END:STANDARD
BEGIN:DAYLIGHT
TZOFFSETFROM:-0500
TZOFFSETTO:-0400
TZNAME:EDT
DTSTART:20260308T070000
END:DAYLIGHT
BEGIN:STANDARD
TZOFFSETFROM:-0400
TZOFFSETTO:-0500
TZNAME:EST
DTSTART:20261101T060000
END:STANDARD
END:VTIMEZONE
BEGIN:VEVENT
DTSTART;TZID=America/New_York:20250314T123000
DTEND;TZID=America/New_York:20250331T013000
DTSTAMP:20260423T182750
CREATED:20250228T205339Z
LAST-MODIFIED:20250228T205339Z
UID:19969-1741955400-1743384600@www.unitedskates.com
SUMMARY:🎉 Spring Break Skating Fun at United Skates Wickliffe! 🛼
DESCRIPTION:School’s out\, and the Spring Break excitement is rolling in! Join us for non-stop fun\, themed skate days\, special giveaways\, and family-friendly activities all week long! \n🔥 What’s Happening?✅ Themed Skate Parties – Disney Day\, Superhero Skate\, Mario’s Game Card Day & more! 🎭🎮✅ Glow & Magic Skates – Light up the rink and experience magical fun! ✨✅ Free Treats & Giveaways – Free cookies\, icee prizes\, glow sticks & more! 🍪🍦✅ Meet Special Characters & Guests – Walking magician\, Jungle Terry\, Olaf\, and more! 🦁🧙‍♂️✅ Family & Adult Skate Sessions – Fun for all ages\, plus 18+ adult skate nights! 🎶 \n📅 Spring Break Fun Runs from March 19 – March 30! \n📍 Location: 30325 Palisades Pkwy\, Wickliffe\, OH 44092📞 Call for details: 440-944-5301 \n✨ Don’t miss out—grab your friends\, lace up your skates\, and make this Spring Break unforgettable!
URL:https://www.unitedskates.com/wickliffe/event/%f0%9f%8e%89-spring-break-skating-fun-at-united-skates-wickliffe-%f0%9f%9b%bc/
CATEGORIES:Family Events,Public Skates,Special Events
ATTACH;FMTTYPE=image/jpeg:https://unitedskates-assets.sfo3.digitaloceanspaces.com/wp-content/uploads/sites/12/2025/02/Spring-Break-2025-Calendar-Front-rink-11.jpg
END:VEVENT
BEGIN:VEVENT
DTSTART;TZID=America/New_York:20250322T103000
DTEND;TZID=America/New_York:20250322T123000
DTSTAMP:20260423T182750
CREATED:20250122T215707Z
LAST-MODIFIED:20250129T174357Z
UID:19286-1742639400-1742646600@www.unitedskates.com
SUMMARY:Goofy's Cookie Skate
DESCRIPTION:Get ready for a morning filled with fun at Goofy’s Cookie Skate! \nJoin us for an exciting morning of skating where you’ll get a FREE cookie with your paid admission \nSaturday\, March 22nd 10:30am-12:30pm \nAdmission $10.00 \nSkate Rental $6.00 \nBring your family and friends for a delightful morning\, meet Goofy\, take pictures and make lasting memories on the rink.
URL:https://www.unitedskates.com/wickliffe/event/goofys-cookie-skate/
CATEGORIES:Family Events,Public Skates,Special Events
ATTACH;FMTTYPE=image/jpeg:https://unitedskates-assets.sfo3.digitaloceanspaces.com/wp-content/uploads/sites/12/2025/01/Goofy-Cookie-Skate-2025-page-001-scaled.jpg
END:VEVENT
BEGIN:VEVENT
DTSTART;TZID=America/New_York:20250322T123000
DTEND;TZID=America/New_York:20250322T150000
DTSTAMP:20260423T182750
CREATED:20250123T183024Z
LAST-MODIFIED:20250131T194517Z
UID:19324-1742646600-1742655600@www.unitedskates.com
SUMMARY:Magic Day
DESCRIPTION:Get ready for an enchanting experience at the Magic Show Roller Skate!! \nPrepare to be amazed as a talented magician strolls through the rink\, performing mind-boggling magic tricks right before your eyes. \nSaturday\, March 22nd 12:30pm-3:00pm \nAdmission $12.00 \nSkate Rental $6.00 \nThe magician will be here from 1:00pm-2:00pm \nWhether it’s levitating objects or sleight of hand\, you’ll be captivated by the spellbinding performances while you skate your afternoon away. \nDon’t miss this thrilling fusion of skating and magic-join us for an afternoon filled with wonder and excitement.
URL:https://www.unitedskates.com/wickliffe/event/magic-day/
CATEGORIES:Family Events,Public Skates,Special Events
ATTACH;FMTTYPE=image/jpeg:https://unitedskates-assets.sfo3.digitaloceanspaces.com/wp-content/uploads/sites/12/2025/01/day-of-magic-v2.jpg
END:VEVENT
END:VCALENDAR