BEGIN:VCALENDAR
VERSION:2.0
PRODID:-//Rink 11 - Wickliffe - ECPv6.15.20//NONSGML v1.0//EN
CALSCALE:GREGORIAN
METHOD:PUBLISH
X-ORIGINAL-URL:https://www.unitedskates.com/wickliffe
X-WR-CALDESC:Events for Rink 11 - Wickliffe
REFRESH-INTERVAL;VALUE=DURATION:PT1H
X-Robots-Tag:noindex
X-PUBLISHED-TTL:PT1H
BEGIN:VTIMEZONE
TZID:America/New_York
BEGIN:DAYLIGHT
TZOFFSETFROM:-0500
TZOFFSETTO:-0400
TZNAME:EDT
DTSTART:20240310T070000
END:DAYLIGHT
BEGIN:STANDARD
TZOFFSETFROM:-0400
TZOFFSETTO:-0500
TZNAME:EST
DTSTART:20241103T060000
END:STANDARD
BEGIN:DAYLIGHT
TZOFFSETFROM:-0500
TZOFFSETTO:-0400
TZNAME:EDT
DTSTART:20250309T070000
END:DAYLIGHT
BEGIN:STANDARD
TZOFFSETFROM:-0400
TZOFFSETTO:-0500
TZNAME:EST
DTSTART:20251102T060000
END:STANDARD
BEGIN:DAYLIGHT
TZOFFSETFROM:-0500
TZOFFSETTO:-0400
TZNAME:EDT
DTSTART:20260308T070000
END:DAYLIGHT
BEGIN:STANDARD
TZOFFSETFROM:-0400
TZOFFSETTO:-0500
TZNAME:EST
DTSTART:20261101T060000
END:STANDARD
END:VTIMEZONE
BEGIN:VEVENT
DTSTART;TZID=America/New_York:20250314T123000
DTEND;TZID=America/New_York:20250331T013000
DTSTAMP:20260423T212425
CREATED:20250228T205339Z
LAST-MODIFIED:20250228T205339Z
UID:19969-1741955400-1743384600@www.unitedskates.com
SUMMARY:🎉 Spring Break Skating Fun at United Skates Wickliffe! 🛼
DESCRIPTION:School’s out\, and the Spring Break excitement is rolling in! Join us for non-stop fun\, themed skate days\, special giveaways\, and family-friendly activities all week long! \n🔥 What’s Happening?✅ Themed Skate Parties – Disney Day\, Superhero Skate\, Mario’s Game Card Day & more! 🎭🎮✅ Glow & Magic Skates – Light up the rink and experience magical fun! ✨✅ Free Treats & Giveaways – Free cookies\, icee prizes\, glow sticks & more! 🍪🍦✅ Meet Special Characters & Guests – Walking magician\, Jungle Terry\, Olaf\, and more! 🦁🧙‍♂️✅ Family & Adult Skate Sessions – Fun for all ages\, plus 18+ adult skate nights! 🎶 \n📅 Spring Break Fun Runs from March 19 – March 30! \n📍 Location: 30325 Palisades Pkwy\, Wickliffe\, OH 44092📞 Call for details: 440-944-5301 \n✨ Don’t miss out—grab your friends\, lace up your skates\, and make this Spring Break unforgettable!
URL:https://www.unitedskates.com/wickliffe/event/%f0%9f%8e%89-spring-break-skating-fun-at-united-skates-wickliffe-%f0%9f%9b%bc/
CATEGORIES:Family Events,Public Skates,Special Events
ATTACH;FMTTYPE=image/jpeg:https://unitedskates-assets.sfo3.digitaloceanspaces.com/wp-content/uploads/sites/12/2025/02/Spring-Break-2025-Calendar-Front-rink-11.jpg
END:VEVENT
BEGIN:VEVENT
DTSTART;TZID=America/New_York:20250316T123000
DTEND;TZID=America/New_York:20250316T150000
DTSTAMP:20260423T212425
CREATED:20250122T200746Z
LAST-MODIFIED:20250129T165922Z
UID:19250-1742128200-1742137200@www.unitedskates.com
SUMMARY:Leprechaun Lunch Skate
DESCRIPTION:Great News-our beloved leprechaun is back\, and he’s bringing something special with him! \nHe’s hosting his very own lunch skate\, and you’re invited to join the fun! \nThis is the perfect opportunity to take a break\, enjoy a delightful lunch\, and skate with friends while soaking in the festive atmosphere. \nSunday\, March 16th 12:30pm-3:00pm \nOnly $14.99 includes admission\, skate rental\, a slice of cheese pizza and a drink \nDon’t miss out on this chance to celebrate with our cheerful leprechaun and create wonderful memories! \nPizza and drinks are served from 1:00pm-2:30pm
URL:https://www.unitedskates.com/wickliffe/event/leprechaun-lunch-skate/
CATEGORIES:Family Events,Public Skates,Special Events
ATTACH;FMTTYPE=image/jpeg:https://unitedskates-assets.sfo3.digitaloceanspaces.com/wp-content/uploads/sites/12/2025/01/Leprechaun-Lunch-2024-page-001-1-scaled.jpg
END:VEVENT
BEGIN:VEVENT
DTSTART;TZID=America/New_York:20250316T213000
DTEND;TZID=America/New_York:20250317T023000
DTSTAMP:20260423T212425
CREATED:20250122T202541Z
LAST-MODIFIED:20250129T171053Z
UID:19252-1742160600-1742178600@www.unitedskates.com
SUMMARY:Adult Late Night Skate
DESCRIPTION:Adults let’s skate into your St. Patrick’s Day! \nKick off your St. Patrick’s Day celebration on the right skate! \nSunday\, March 16th 9:30pm-2:30am \nAdmission $13.00 \nSkate Rental $6.00 \n18+ with valid ID \n 
URL:https://www.unitedskates.com/wickliffe/event/adult-late-night-skate-5/
CATEGORIES:Adult Events,Special Events
ATTACH;FMTTYPE=image/jpeg:https://unitedskates-assets.sfo3.digitaloceanspaces.com/wp-content/uploads/sites/12/2025/01/late-skate-2024-page-001-scaled.jpg
END:VEVENT
END:VCALENDAR