BEGIN:VCALENDAR
VERSION:2.0
PRODID:-//Rink 11 - Wickliffe - ECPv6.15.20//NONSGML v1.0//EN
CALSCALE:GREGORIAN
METHOD:PUBLISH
X-ORIGINAL-URL:https://www.unitedskates.com/wickliffe
X-WR-CALDESC:Events for Rink 11 - Wickliffe
REFRESH-INTERVAL;VALUE=DURATION:PT1H
X-Robots-Tag:noindex
X-PUBLISHED-TTL:PT1H
BEGIN:VTIMEZONE
TZID:America/New_York
BEGIN:DAYLIGHT
TZOFFSETFROM:-0500
TZOFFSETTO:-0400
TZNAME:EDT
DTSTART:20240310T070000
END:DAYLIGHT
BEGIN:STANDARD
TZOFFSETFROM:-0400
TZOFFSETTO:-0500
TZNAME:EST
DTSTART:20241103T060000
END:STANDARD
BEGIN:DAYLIGHT
TZOFFSETFROM:-0500
TZOFFSETTO:-0400
TZNAME:EDT
DTSTART:20250309T070000
END:DAYLIGHT
BEGIN:STANDARD
TZOFFSETFROM:-0400
TZOFFSETTO:-0500
TZNAME:EST
DTSTART:20251102T060000
END:STANDARD
BEGIN:DAYLIGHT
TZOFFSETFROM:-0500
TZOFFSETTO:-0400
TZNAME:EDT
DTSTART:20260308T070000
END:DAYLIGHT
BEGIN:STANDARD
TZOFFSETFROM:-0400
TZOFFSETTO:-0500
TZNAME:EST
DTSTART:20261101T060000
END:STANDARD
END:VTIMEZONE
BEGIN:VEVENT
DTSTART;TZID=America/New_York:20250307T170000
DTEND;TZID=America/New_York:20250307T200000
DTSTAMP:20260423T212430
CREATED:20240829T210209Z
LAST-MODIFIED:20240916T174022Z
UID:17727-1741366800-1741377600@www.unitedskates.com
SUMMARY:Girl Scouts' 113th Birthday 80's Bash
DESCRIPTION:Get ready for a totally tubular celebration\, Girl Scouts! \nWe’re throwing an unforgettable 80’s Bash in honor of your 113th birthday! \nSo\, pull out those vibrant leg warmers and flashy neon outfits because we’re in for an evening packed with fun\, music\, and a delightful dose of nostalgia. \nFriday\, March 7th 5:00pm-8:00pm \nOnly $20.00 per scout includes admission\, skate rental\, a slice of cheese pizza\, a game of laser tag\, $5.00 game credit card\, a piece of cake and a birthday patch \nJoin us as we celebrate your incredible journey over the years with exciting games\, lively dancing\, and\, of course\, delicious cake! \nThis is a fantastic opportunity to come together\, make new memories\, and honor the amazing legacy of the Girl Scouts! \nLet’s make this birthday celebration one for the history books! \nPrivate for Girl Scouts from 5:00pm-6:30pm\, stay over for our 6:30pm-9:00pm. \nAdvanced reservations are required! Call Amber at 440-944-5301 or email alucas@usa-skating.com
URL:https://www.unitedskates.com/wickliffe/event/girl-scouts-113th-birthday-80s-bash/
CATEGORIES:Family Events,Special Events
ATTACH;FMTTYPE=image/jpeg:https://unitedskates-assets.sfo3.digitaloceanspaces.com/wp-content/uploads/sites/12/2024/08/113th-Birthday-Bash-Sk80s-Party.jpg
END:VEVENT
BEGIN:VEVENT
DTSTART;TZID=America/New_York:20250307T183000
DTEND;TZID=America/New_York:20250307T210000
DTSTAMP:20260423T212430
CREATED:20250122T204340Z
LAST-MODIFIED:20250129T164304Z
UID:19261-1741372200-1741381200@www.unitedskates.com
SUMMARY:80's and Todays Mashup Skate
DESCRIPTION:Get ready to take a ride back to the vibrant 80s while seamlessly blending in today’s chart-toppers! \nJoin us for a nostalgic celebration filled with colorful attire\, funky music\, and all the iconic vibes of this unforgettable decade and today’s hottest hits. \nFriday\, March 7th 6:30pm-9:00pm \nAdmission $12.00 \nSkate Rental $6.00 \nDust off your leg warmers\, neon accessories\, big hair\, and prepare to skate the night away to the greatest hits of the 80’s! \nPrepare for the greatest contest…an air guitar! We want to see your best moves!! \nPlus\, this is a great theme for a birthday party! Book Now!!
URL:https://www.unitedskates.com/wickliffe/event/80s-skate/
CATEGORIES:Family Events,Public Skates,Special Events
ATTACH;FMTTYPE=image/jpeg:https://unitedskates-assets.sfo3.digitaloceanspaces.com/wp-content/uploads/sites/12/2025/01/80s-today-mash-skate-page-001-scaled.jpg
END:VEVENT
BEGIN:VEVENT
DTSTART;TZID=America/New_York:20250307T213000
DTEND;TZID=America/New_York:20250308T003000
DTSTAMP:20260423T212430
CREATED:20250122T204840Z
LAST-MODIFIED:20250130T225434Z
UID:19263-1741383000-1741393800@www.unitedskates.com
SUMMARY:Emo Adult Night
DESCRIPTION:Emo Night is making its triumphant return\, and we couldn’t be more excited! \nPrepare to dive into a world of raw emotion\, and heartfelt melodies as we celebrate the music that defined our generation. \nFriday\, March 7th 9:30pm-12:30am \nAdmission $12.00 \nSkate Rental $6.00 \n18+ with valid ID \nWhether you’re a die-hard fan of the genre or just looking to experience something new\, this event will be unforgettable filled with iconic tracks that will have you singing along and reliving those nostalgic moments. \nJoin us for a night of connection\, expression\, and great vibes as we embrace the spirit of emo culture together.
URL:https://www.unitedskates.com/wickliffe/event/emo-adult-night-2/
CATEGORIES:Adult Events,Special Events
ATTACH;FMTTYPE=image/jpeg:https://unitedskates-assets.sfo3.digitaloceanspaces.com/wp-content/uploads/sites/12/2025/01/Emo-Adult-Skate-2025-page-001-scaled.jpg
END:VEVENT
END:VCALENDAR