BEGIN:VCALENDAR
VERSION:2.0
PRODID:-//Rink 11 - Wickliffe - ECPv6.15.20//NONSGML v1.0//EN
CALSCALE:GREGORIAN
METHOD:PUBLISH
X-ORIGINAL-URL:https://www.unitedskates.com/wickliffe
X-WR-CALDESC:Events for Rink 11 - Wickliffe
REFRESH-INTERVAL;VALUE=DURATION:PT1H
X-Robots-Tag:noindex
X-PUBLISHED-TTL:PT1H
BEGIN:VTIMEZONE
TZID:America/New_York
BEGIN:DAYLIGHT
TZOFFSETFROM:-0500
TZOFFSETTO:-0400
TZNAME:EDT
DTSTART:20240310T070000
END:DAYLIGHT
BEGIN:STANDARD
TZOFFSETFROM:-0400
TZOFFSETTO:-0500
TZNAME:EST
DTSTART:20241103T060000
END:STANDARD
BEGIN:DAYLIGHT
TZOFFSETFROM:-0500
TZOFFSETTO:-0400
TZNAME:EDT
DTSTART:20250309T070000
END:DAYLIGHT
BEGIN:STANDARD
TZOFFSETFROM:-0400
TZOFFSETTO:-0500
TZNAME:EST
DTSTART:20251102T060000
END:STANDARD
BEGIN:DAYLIGHT
TZOFFSETFROM:-0500
TZOFFSETTO:-0400
TZNAME:EDT
DTSTART:20260308T070000
END:DAYLIGHT
BEGIN:STANDARD
TZOFFSETFROM:-0400
TZOFFSETTO:-0500
TZNAME:EST
DTSTART:20261101T060000
END:STANDARD
END:VTIMEZONE
BEGIN:VEVENT
DTSTART;TZID=America/New_York:20250303T190000
DTEND;TZID=America/New_York:20250303T230000
DTSTAMP:20260423T182748
CREATED:20250129T210934Z
LAST-MODIFIED:20250130T005523Z
UID:19863-1741028400-1741042800@www.unitedskates.com
SUMMARY:Mardi Gras Old School Adult Skate
DESCRIPTION:Get ready for an exhilarating Mardi Gras Adult Skate Night! \nJoin us for an unforgettable evening where we’ll be spinning the best Mardi Gras anthems alongside classic old-school hits from the 80’s\, 90’s and more. \nThis is your chance to lace up your skates\, dress in your best Mardi Gras attire\, hit the rink and immerse yourself in a vibrant atmosphere. \nMonday\, March 3rd 7:00pm-11:00pm \nAdmission $12.00 \nSkate Rental $6.00 \n25+ with valid ID \nGather your friends for an epic night of laughter\, skating and celebration as we embrace the spirit of Mardi Gras together
URL:https://www.unitedskates.com/wickliffe/event/mardi-gras-old-school-adult-skate/
CATEGORIES:Adult Events,Special Events
ATTACH;FMTTYPE=image/jpeg:https://unitedskates-assets.sfo3.digitaloceanspaces.com/wp-content/uploads/sites/12/2025/01/Mardi-Gras-Adult-Skate-page-001-scaled.jpg
END:VEVENT
END:VCALENDAR