BEGIN:VCALENDAR
VERSION:2.0
PRODID:-//Rink 11 - Wickliffe - ECPv6.15.20//NONSGML v1.0//EN
CALSCALE:GREGORIAN
METHOD:PUBLISH
X-WR-CALNAME:Rink 11 - Wickliffe
X-ORIGINAL-URL:https://www.unitedskates.com/wickliffe
X-WR-CALDESC:Events for Rink 11 - Wickliffe
REFRESH-INTERVAL;VALUE=DURATION:PT1H
X-Robots-Tag:noindex
X-PUBLISHED-TTL:PT1H
BEGIN:VTIMEZONE
TZID:America/New_York
BEGIN:DAYLIGHT
TZOFFSETFROM:-0500
TZOFFSETTO:-0400
TZNAME:EDT
DTSTART:20240310T070000
END:DAYLIGHT
BEGIN:STANDARD
TZOFFSETFROM:-0400
TZOFFSETTO:-0500
TZNAME:EST
DTSTART:20241103T060000
END:STANDARD
BEGIN:DAYLIGHT
TZOFFSETFROM:-0500
TZOFFSETTO:-0400
TZNAME:EDT
DTSTART:20250309T070000
END:DAYLIGHT
BEGIN:STANDARD
TZOFFSETFROM:-0400
TZOFFSETTO:-0500
TZNAME:EST
DTSTART:20251102T060000
END:STANDARD
BEGIN:DAYLIGHT
TZOFFSETFROM:-0500
TZOFFSETTO:-0400
TZNAME:EDT
DTSTART:20260308T070000
END:DAYLIGHT
BEGIN:STANDARD
TZOFFSETFROM:-0400
TZOFFSETTO:-0500
TZNAME:EST
DTSTART:20261101T060000
END:STANDARD
END:VTIMEZONE
BEGIN:VEVENT
DTSTART;TZID=America/New_York:20250221T183000
DTEND;TZID=America/New_York:20250221T210000
DTSTAMP:20260425T065107
CREATED:20241219T202148Z
LAST-MODIFIED:20241219T213311Z
UID:19128-1740162600-1740171600@www.unitedskates.com
SUMMARY:Neon Glow Night
DESCRIPTION:Get ready for an electrifying night at our Neon Glow Skate! \nCome dressed in your brightest colors and prepare to shine underneath our black lights \nFriday\, February 21st 6:30pm-9:00pm \nAdmission $12.00 \nSkate Rental $6.00 \nGet a Free glow stick with paid admission \nIt’s the perfect opportunity to show off your neon style and skate the night away! \nPlus\, do not miss the chance to get your face painted with vibrant neon designs. Available from 7:00pm-8:00pm \nBring your friends and let’s light up the night together with fun\, laughter and glowing memories. \nBook your Neon Glow Laser Tag Party NOW!
URL:https://www.unitedskates.com/wickliffe/event/neon-glow-night/
CATEGORIES:Family Events,Public Skates,Special Events
ATTACH;FMTTYPE=image/jpeg:https://unitedskates-assets.sfo3.digitaloceanspaces.com/wp-content/uploads/sites/12/2024/12/Neon-GLOW-skate-2024-1-page-001.jpg
END:VEVENT
BEGIN:VEVENT
DTSTART;TZID=America/New_York:20250221T213000
DTEND;TZID=America/New_York:20250222T000000
DTSTAMP:20260425T065107
CREATED:20240821T153646Z
LAST-MODIFIED:20240829T204215Z
UID:17696-1740173400-1740182400@www.unitedskates.com
SUMMARY:Peace and Love Gospel Skate
DESCRIPTION:We invite you to a delightful evening at the Peace and Love Gospel Skate Night! \nJoin us for an enriching experience filled with uplifting gospel melodies\, joyful skating\, and a celebration of unity and harmony within our community. \nThis is a wonderful opportunity to gather your friends and family as we come together to spread positivity and connect through faith\, music and fun \nFriday\, February 21st 9:30pm-12:00am \nAdmission $11.00 \nSkate Rental $5.50 \nReceive Peace and Love \nLet’s unite in love and joy as we skate\, sing\, and celebrate the spirit of peace together! \nWe are excited to see you all there. \nBe sure to reserve your congregation now! Call our sales team at 440-944-5301 \n 
URL:https://www.unitedskates.com/wickliffe/event/peace-and-love-gospel-skate/
CATEGORIES:Family Events,Public Skates,Special Events
ATTACH;FMTTYPE=image/jpeg:https://unitedskates-assets.sfo3.digitaloceanspaces.com/wp-content/uploads/sites/12/2024/08/Peace-and-Love-Gospel-Skate-page-001-scaled.jpg
END:VEVENT
END:VCALENDAR